{"text_format":"1","workbook":"xlsx","n_sheets":20,"sheets":["グループ追加ボタン","建具開口","S1","S2","S3","S4","S5","S6","S7","S8","S9","S10","S11","S12","設計内容説明書1","施工状況報告書1","設計内容説明書2","施工状況報告書2","設計内容説明書3","施工状況報告書3"],"not_rendered":{"charts":0,"images":2,"macros":1,"external_links":0,"defined_names":36,"comments":0,"pivot_tables":0},"unopened":[],"bounds":{"document_bytes":16777216,"sheet_cells":100000,"rows_first":2000,"rows_last":500,"rows_between":2000,"halvings":0,"cell_chars":16384,"cell_head_chars":4096},"cells_cut":0,"cells_raw":0,"read":"whole","date_system":"1900"}

{"sheet":"グループ追加ボタン","index":0,"n_rows":6,"n_cols":2,"rows_kept":6,"cut":false,"hidden":false,"merged":[]}
[]
[null,"下のボタンを押すと"]
[null,"開口部面積計算シートを１２グループ分（４枚）"]
[null,"設計内容説明書を必要分"]
[null,"施工状況報告書を必要分"]
[null,"追加されます。"]

{"sheet":"建具開口","index":1,"n_rows":155,"n_cols":16,"rows_kept":155,"cut":false,"hidden":false,"merged":[[3,13,4,13],[3,14,3,15],[3,6,3,7],[3,8,4,8],[3,9,4,9],[3,10,3,11],[1,10,1,12],[0,7,0,12],[3,2,3,3],[3,1,4,1],[3,0,4,0],[3,4,4,4],[3,5,4,5],[3,12,4,12]]}
["7　光視環境に関すること",null,null,null,null,null,"（案件名称：",null,null,null,null,null,null,"）",null,"光視環境　①"]
[null,"建具別開口寸法インプットシート",null,null,null,null,null,null,null,null,null,null,null,null,"UHEC都市居住評価センター"]
[]
["NO","建具番号","開口部寸法",null,"NO","建具番号","開口部寸法",null,"NO","建具番号","開口部寸法",null,"NO","建具番号","開口部寸法"]
[null,null,"W(ｍ)","H(ｍ)",null,null,"W(ｍ)","H(ｍ)",null,null,"W(ｍ)","H(ｍ)",null,null,"W(ｍ)","H(ｍ)"]
[1,null,null,null,31,null,null,null,61,null,null,null,91]
[2,null,null,null,32,null,null,null,62,null,null,null,92]
[3,null,null,null,33,null,null,null,63,null,null,null,93]
[4,null,null,null,34,null,null,null,64,null,null,null,94]
[5,null,null,null,35,null,null,null,65,null,null,null,95]
[6,null,null,null,36,null,null,null,66,null,null,null,96]
[7,null,null,null,37,null,null,null,67,null,null,null,97]
[8,null,null,null,38,null,null,null,68,null,null,null,98]
[9,null,null,null,39,null,null,null,69,null,null,null,99]
[10,null,null,null,40,null,null,null,70,null,null,null,100]
[11,null,null,null,41,null,null,null,71,null,null,null,101]
[12,null,null,null,42,null,null,null,72,null,null,null,102]
[13,null,null,null,43,null,null,null,73,null,null,null,103]
[14,null,null,null,44,null,null,null,74,null,null,null,104]
[15,null,null,null,45,null,null,null,75,null,null,null,105]
[16,null,null,null,46,null,null,null,76,null,null,null,106]
[17,null,null,null,47,null,null,null,77,null,null,null,107]
[18,null,null,null,48,null,null,null,78,null,null,null,108]
[19,null,null,null,49,null,null,null,79,null,null,null,109]
[20,null,null,null,50,null,null,null,80,null,null,null,110]
[21,null,null,null,51,null,null,null,81,null,null,null,111]
[22,null,null,null,52,null,null,null,82,null,null,null,112]
[23,null,null,null,53,null,null,null,83,null,null,null,113]
[24,null,null,null,54,null,null,null,84,null,null,null,114]
[25,null,null,null,55,null,null,null,85,null,null,null,115]
[26,null,null,null,56,null,null,null,86,null,null,null,116]
[27,null,null,null,57,null,null,null,87,null,null,null,117]
[28,null,null,null,58,null,null,null,88,null,null,null,118]
[29,null,null,null,59,null,null,null,89,null,null,null,119]
[30,null,null,null,60,null,null,null,90,null,null,null,120]
[121,null,null,null,151,null,null,null,181,null,null,null,211]
[122,null,null,null,152,null,null,null,182,null,null,null,212]
[123,null,null,null,153,null,null,null,183,null,null,null,213]
[124,null,null,null,154,null,null,null,184,null,null,null,214]
[125,null,null,null,155,null,null,null,185,null,null,null,215]
[126,null,null,null,156,null,null,null,186,null,null,null,216]
[127,null,null,null,157,null,null,null,187,null,null,null,217]
[128,null,null,null,158,null,null,null,188,null,null,null,218]
[129,null,null,null,159,null,null,null,189,null,null,null,219]
[130,null,null,null,160,null,null,null,190,null,null,null,220]
[131,null,null,null,161,null,null,null,191,null,null,null,221]
[132,null,null,null,162,null,null,null,192,null,null,null,222]
[133,null,null,null,163,null,null,null,193,null,null,null,223]
[134,null,null,null,164,null,null,null,194,null,null,null,224]
[135,null,null,null,165,null,null,null,195,null,null,null,225]
[136,null,null,null,166,null,null,null,196,null,null,null,226]
[137,null,null,null,167,null,null,null,197,null,null,null,227]
[138,null,null,null,168,null,null,null,198,null,null,null,228]
[139,null,null,null,169,null,null,null,199,null,null,null,229]
[140,null,null,null,170,null,null,null,200,null,null,null,230]
[141,null,null,null,171,null,null,null,201,null,null,null,231]
[142,null,null,null,172,null,null,null,202,null,null,null,232]
[143,null,null,null,173,null,null,null,203,null,null,null,233]
[144,null,null,null,174,null,null,null,204,null,null,null,234]
[145,null,null,null,175,null,null,null,205,null,null,null,235]
[146,null,null,null,176,null,null,null,206,null,null,null,236]
[147,null,null,null,177,null,null,null,207,null,null,null,237]
[148,null,null,null,178,null,null,null,208,null,null,null,238]
[149,null,null,null,179,null,null,null,209,null,null,null,239]
[150,null,null,null,180,null,null,null,210,null,null,null,240]
[241,null,null,null,271,null,null,null,301,null,null,null,331]
[242,null,null,null,272,null,null,null,302,null,null,null,332]
[243,null,null,null,273,null,null,null,303,null,null,null,333]
[244,null,null,null,274,null,null,null,304,null,null,null,334]
[245,null,null,null,275,null,null,null,305,null,null,null,335]
[246,null,null,null,276,null,null,null,306,null,null,null,336]
[247,null,null,null,277,null,null,null,307,null,null,null,337]
[248,null,null,null,278,null,null,null,308,null,null,null,338]
[249,null,null,null,279,null,null,null,309,null,null,null,339]
[250,null,null,null,280,null,null,null,310,null,null,null,340]
[251,null,null,null,281,null,null,null,311,null,null,null,341]
[252,null,null,null,282,null,null,null,312,null,null,null,342]
[253,null,null,null,283,null,null,null,313,null,null,null,343]
[254,null,null,null,284,null,null,null,314,null,null,null,344]
[255,null,null,null,285,null,null,null,315,null,null,null,345]
[256,null,null,null,286,null,null,null,316,null,null,null,346]
[257,null,null,null,287,null,null,null,317,null,null,null,347]
[258,null,null,null,288,null,null,null,318,null,null,null,348]
[259,null,null,null,289,null,null,null,319,null,null,null,349]
[260,null,null,null,290,null,null,null,320,null,null,null,350]
[261,null,null,null,291,null,null,null,321,null,null,null,351]
[262,null,null,null,292,null,null,null,322,null,null,null,352]
[263,null,null,null,293,null,null,null,323,null,null,null,353]
[264,null,null,null,294,null,null,null,324,null,null,null,354]
[265,null,null,null,295,null,null,null,325,null,null,null,355]
[266,null,null,null,296,null,null,null,326,null,null,null,356]
[267,null,null,null,297,null,null,null,327,null,null,null,357]
[268,null,null,null,298,null,null,null,328,null,null,null,358]
[269,null,null,null,299,null,null,null,329,null,null,null,359]
[270,null,null,null,300,null,null,null,330,null,null,null,360]
[361,null,null,null,391,null,null,null,421,null,null,null,451]
[362,null,null,null,392,null,null,null,422,null,null,null,452]
[363,null,null,null,393,null,null,null,423,null,null,null,453]
[364,null,null,null,394,null,null,null,424,null,null,null,454]
[365,null,null,null,395,null,null,null,425,null,null,null,455]
[366,null,null,null,396,null,null,null,426,null,null,null,456]
[367,null,null,null,397,null,null,null,427,null,null,null,457]
[368,null,null,null,398,null,null,null,428,null,null,null,458]
[369,null,null,null,399,null,null,null,429,null,null,null,459]
[370,null,null,null,400,null,null,null,430,null,null,null,460]
[371,null,null,null,401,null,null,null,431,null,null,null,461]
[372,null,null,null,402,null,null,null,432,null,null,null,462]
[373,null,null,null,403,null,null,null,433,null,null,null,463]
[374,null,null,null,404,null,null,null,434,null,null,null,464]
[375,null,null,null,405,null,null,null,435,null,null,null,465]
[376,null,null,null,406,null,null,null,436,null,null,null,466]
[377,null,null,null,407,null,null,null,437,null,null,null,467]
[378,null,null,null,408,null,null,null,438,null,null,null,468]
[379,null,null,null,409,null,null,null,439,null,null,null,469]
[380,null,null,null,410,null,null,null,440,null,null,null,470]
[381,null,null,null,411,null,null,null,441,null,null,null,471]
[382,null,null,null,412,null,null,null,442,null,null,null,472]
[383,null,null,null,413,null,null,null,443,null,null,null,473]
[384,null,null,null,414,null,null,null,444,null,null,null,474]
[385,null,null,null,415,null,null,null,445,null,null,null,475]
[386,null,null,null,416,null,null,null,446,null,null,null,476]
[387,null,null,null,417,null,null,null,447,null,null,null,477]
[388,null,null,null,418,null,null,null,448,null,null,null,478]
[389,null,null,null,419,null,null,null,449,null,null,null,479]
[390,null,null,null,420,null,null,null,450,null,null,null,480]
[481,null,null,null,511,null,null,null,541,null,null,null,571]
[482,null,null,null,512,null,null,null,542,null,null,null,572]
[483,null,null,null,513,null,null,null,543,null,null,null,573]
[484,null,null,null,514,null,null,null,544,null,null,null,574]
[485,null,null,null,515,null,null,null,545,null,null,null,575]
[486,null,null,null,516,null,null,null,546,null,null,null,576]
[487,null,null,null,517,null,null,null,547,null,null,null,577]
[488,null,null,null,518,null,null,null,548,null,null,null,578]
[489,null,null,null,519,null,null,null,549,null,null,null,579]
[490,null,null,null,520,null,null,null,550,null,null,null,580]
[491,null,null,null,521,null,null,null,551,null,null,null,581]
[492,null,null,null,522,null,null,null,552,null,null,null,582]
[493,null,null,null,523,null,null,null,553,null,null,null,583]
[494,null,null,null,524,null,null,null,554,null,null,null,584]
[495,null,null,null,525,null,null,null,555,null,null,null,585]
[496,null,null,null,526,null,null,null,556,null,null,null,586]
[497,null,null,null,527,null,null,null,557,null,null,null,587]
[498,null,null,null,528,null,null,null,558,null,null,null,588]
[499,null,null,null,529,null,null,null,559,null,null,null,589]
[500,null,null,null,530,null,null,null,560,null,null,null,590]
[501,null,null,null,531,null,null,null,561,null,null,null,591]
[502,null,null,null,532,null,null,null,562,null,null,null,592]
[503,null,null,null,533,null,null,null,563,null,null,null,593]
[504,null,null,null,534,null,null,null,564,null,null,null,594]
[505,null,null,null,535,null,null,null,565,null,null,null,595]
[506,null,null,null,536,null,null,null,566,null,null,null,596]
[507,null,null,null,537,null,null,null,567,null,null,null,597]
[508,null,null,null,538,null,null,null,568,null,null,null,598]
[509,null,null,null,539,null,null,null,569,null,null,null,599]
[510,null,null,null,540,null,null,null,570,null,null,null,600]

{"sheet":"S1","index":2,"n_rows":56,"n_cols":40,"rows_kept":56,"cut":false,"hidden":false,"merged":[[19,0,19,1],[26,0,35,0],[44,0,53,0],[23,0,24,0],[41,0,42,0],[36,0,36,1],[37,0,37,1],[39,0,40,0],[39,1,40,1],[21,0,22,0],[21,1,22,1],[0,23,0,30],[1,27,1,30],[3,27,3,28],[3,6,3,7],[18,0,18,1],[3,2,3,3],[3,9,3,10],[3,20,3,21],[1,9,1,10],[5,0,6,0],[8,0,17,0],[3,0,4,0],[3,1,4,1],[3,23,3,24],[3,13,3,14],[21,2,21,3],[3,37,3,38],[3,30,3,31],[3,34,3,35],[3,16,3,17],[21,37,21,38],[21,23,21,24],[21,27,21,28],[21,30,21,31],[21,34,21,35],[21,6,21,7],[21,9,21,10],[21,13,21,14],[21,16,21,17],[21,20,21,21],[39,37,39,38],[39,16,39,17],[39,20,39,21],[39,23,39,24],[39,27,39,28],[54,0,54,1],[55,0,55,1],[39,30,39,31],[39,34,39,35],[39,9,39,10],[39,13,39,14],[39,2,39,3],[39,6,39,7]]}
["７　光視環境に関すること",null,null,null,null,null,null,null,null,null,null,null,null,null,null,null,null,null,null,null,null,"（案件名称：",null,{"$f":"建具開口!H1","v":0},null,null,null,null,null,null,null,"）",null,"PAGE：  /",null,null,null,null,"光視環境②"]
[null,"開口部面積計算シートB",null,null,null,null,null,"BL1",null,"ブロック名\n(必らず記入）",null,null,null,"申請者\n記入",null,null,"自動\n記入",null,null,"変更時\n記入","（単位　長さ：m、面積：m2）",null,null,null,null,null,null,{"$f":"建具開口!K2","v":"00:00:00"},null,null,null,null,null,null,null,null,null,null,"UHEC都市居住評価センター"]
[]
["ｸﾞﾙｰﾌﾟ番号","室名","室面積ｍ２",null,null,"北面","設計評価時",null,"面積","変更の場合\n（建設評価時）",null,null,"東面","設計評価時",null,"面積","変更の場合\n（建設評価時）",null,null,"南面","設計評価時",null,"面積","変更の場合\n（建設評価時）",null,null,"西面","設計評価時",null,"面積","変更の場合\n（建設評価時）",null,null,"真上","設計評価時",null,"面積","変更の場合\n（建設評価時）"]
[null,null,"設計時","変更後",null,"建具","W","H",null,"W","H",null,"建具","W","H",null,"W","H",null,"建具","W","H",null,"W","H",null,"建具","W","H",null,"W","H",null,"建具","W","H",null,"W","H"]
[1,null,null,null,{"$f":"IF(D6<>\"\",D6,C6)","v":0},null,null,null,{"$f":"G6*H6","v":0},null,null,{"$f":"IF(AND(J6<>\"\",K6<>\"\"),J6*K6,I6)","v":0},null,null,null,{"$f":"N6*O6","v":0},null,null,{"$f":"IF(AND(Q6<>\"\",R6<>\"\"),Q6*R6,P6)","v":0},null,null,null,{"$f":"U6*V6","v":0},null,null,{"$f":"IF(AND(X6<>\"\",Y6<>\"\"),X6*Y6,W6)","v":0},null,null,null,{"$f":"AB6*AC6","v":0},null,null,{"$f":"IF(AND(AE6<>\"\",AF6<>\"\"),AE6*AF6,AD6)","v":0},null,null,null,{"$f":"AI6*AJ6","v":0},null,null,{"$f":"IF(AND(AL6<>\"\",AM6<>\"\"),AL6*AM6,AK6)","v":0}]
[null,null,null,null,{"$f":"IF(D7<>\"\",D7,C7)","v":0},null,null,null,0,null,null,{"$f":"IF(AND(J7<>\"\",K7<>\"\"),J7*K7,I7)","v":0},null,null,null,0,null,null,0,null,null,null,0,null,null,0,null,null,null,0,null,null,0,null,null,null,0,null,null,0]
["住戸番号",null,null,null,0,null,null,null,0,null,null,0,null,null,null,0,null,null,0,null,null,null,0,null,null,0,null,null,null,0,null,null,0,null,null,null,0,null,null,0]
[null,null,null,null,0,null,null,null,0,null,null,0,null,null,null,0,null,null,0,null,null,null,0,null,null,0,null,null,null,0,null,null,0,null,null,null,0,null,null,0]
[null,null,null,null,0,null,null,null,0,null,null,0,null,null,null,0,null,null,0,null,null,null,0,null,null,0,null,null,null,0,null,null,0,null,null,null,0,null,null,0]
[null,null,null,null,0,null,null,null,0,null,null,0,null,null,null,0,null,null,0,null,null,null,0,null,null,0,null,null,null,0,null,null,0,null,null,null,0,null,null,0]
[null,null,null,null,0,null,null,null,0,null,null,0,null,null,null,0,null,null,0,null,null,null,0,null,null,0,null,null,null,0,null,null,0,null,null,null,0,null,null,0]
[null,null,null,null,0,null,null,null,0,null,null,0,null,null,null,0,null,null,0,null,null,null,0,null,null,0,null,null,null,0,null,null,0,null,null,null,0,null,null,0]
[null,null,null,null,0,null,null,null,0,null,null,0,null,null,null,0,null,null,0,null,null,null,0,null,null,0,null,null,null,0,null,null,0,null,null,null,0,null,null,0]
[null,null,null,null,0,null,null,null,0,null,null,0,null,null,null,0,null,null,0,null,null,null,0,null,null,0,null,null,null,0,null,null,0,null,null,null,0,null,null,0]
[null,null,null,null,0,null,null,null,0,null,null,0,null,null,null,0,null,null,0,null,null,null,0,null,null,0,null,null,null,0,null,null,0,null,null,null,0,null,null,0]
[null,null,null,null,0,null,null,null,0,null,null,0,null,null,null,0,null,null,0,null,null,null,0,null,null,0,null,null,null,0,null,null,0,"真上窓面積",null,{"$f":"SUM(AK6:AK16)","v":0},null,"変更後",{"$f":"SUM(AN6:AN16)","v":0}]
[null,null,null,null,0,null,null,null,0,null,null,0,null,null,null,0,null,null,0,null,null,null,0,null,null,0,null,null,null,0,null,null,0,"方位別開口比％",null,{"$f":"IF(AJ19>0,INT(AJ17/AJ19*1000)/1000,\"\")","v":""},null,null,{"$f":"IF(AM19>0,INT(AM17/AM19*1000)/1000,\"\")","v":""}]
["居室面積合計",null,{"$f":"INT(SUM(C6:C18)*100)/100","v":0},{"$f":"INT(SUM(E6:E18)*100)/100","v":0},null,"北面窓面積",null,{"$f":"SUM(I6:I18)","v":0},null,"変更後",{"$f":"SUM(L6:L18)","v":0},null,"東面窓面積",null,{"$f":"SUM(P6:P18)","v":0},null,"変更後",{"$f":"SUM(S6:S18)","v":0},null,"南面窓面積",null,{"$f":"SUM(W6:W18)","v":0},null,"変更後",{"$f":"SUM(Z6:Z18)","v":0},null,"西面窓面積",null,{"$f":"SUM(AD6:AD18)","v":0},null,"変更後",{"$f":"SUM(AG6:AG18)","v":0},null,"開口総窓面積",null,{"$f":"SUM(H19,O19,V19,AC19,AJ17)","v":0},null,"変更後",{"$f":"SUM(K19,R19,Y19,AF19,AM17)","v":0}]
["開口率％",null,{"$f":"IF(C19>0,INT(AJ19/C19*1000)/1000,\"\")","v":""},{"$f":"IF(D19>0,INT(AM19/D19*1000)/1000,\"\")","v":""},null,"方位別開口比％",null,{"$f":"IF(AJ19>0,INT(H19/AJ19*1000)/1000,\"\")","v":""},null,null,{"$f":"IF(AM19>0,INT(K19/AM19*1000)/1000,\"\")","v":""},null,"方位別開口比％",null,{"$f":"IF(AJ19>0,INT(O19/AJ19*1000)/1000,\"\")","v":""},null,null,{"$f":"IF(AM19>0,INT(R19/AM19*1000)/1000,\"\")","v":""},null,"方位別開口比％",null,{"$f":"IF(AJ19>0,INT(V19/AJ19*1000)/1000,\"\")","v":""},null,null,{"$f":"IF(AM19>0,INT(Y19/AM19*1000)/1000,\"\")","v":""},null,"方位別開口比％",null,{"$f":"IF(AJ19>0,INT(AC19/AJ19*1000)/1000,\"\")","v":""},null,null,{"$f":"IF(AM19>0,INT(AF19/AM19*1000)/1000,\"\")","v":""}]
[]
["ｸﾞﾙｰﾌﾟ番号","室名","室面積ｍ２",null,null,"北面","設計評価時",null,"面積","変更の場合\n（建設評価時）",null,null,"東面","設計評価時",null,"面積","変更の場合\n（建設評価時）",null,null,"南面","設計評価時",null,"面積","変更の場合\n（建設評価時）",null,null,"西面","設計評価時",null,"面積","変更の場合\n（建設評価時）",null,null,"真上","設計評価時",null,"面積","変更の場合\n（建設評価時）"]
[null,null,"設計時","変更後",null,"建具","W","H",null,"W","H",null,"建具","W","H",null,"W","H",null,"建具","W","H",null,"W","H",null,"建具","W","H",null,"W","H",null,"建具","W","H",null,"W","H"]
[2,null,null,null,{"$f":"IF(D24<>\"\",D24,C24)","v":0},null,null,null,{"$f":"G24*H24","v":0},null,null,{"$f":"IF(AND(J24<>\"\",K24<>\"\"),J24*K24,I24)","v":0},null,null,null,{"$f":"N24*O24","v":0},null,null,{"$f":"IF(AND(Q24<>\"\",R24<>\"\"),Q24*R24,P24)","v":0},null,null,null,{"$f":"U24*V24","v":0},null,null,{"$f":"IF(AND(X24<>\"\",Y24<>\"\"),X24*Y24,W24)","v":0},null,null,null,{"$f":"AB24*AC24","v":0},null,null,{"$f":"IF(AND(AE24<>\"\",AF24<>\"\"),AE24*AF24,AD24)","v":0},null,null,null,{"$f":"AI24*AJ24","v":0},null,null,{"$f":"IF(AND(AL24<>\"\",AM24<>\"\"),AL24*AM24,AK24)","v":0}]
[null,null,null,null,{"$f":"IF(D25<>\"\",D25,C25)","v":0},null,null,null,0,null,null,0,null,null,null,0,null,null,0,null,null,null,0,null,null,0,null,null,null,0,null,null,0,null,null,null,0,null,null,0]
["住戸番号",null,null,null,0,null,null,null,0,null,null,0,null,null,null,0,null,null,0,null,null,null,0,null,null,0,null,null,null,0,null,null,0,null,null,null,0,null,null,0]
[null,null,null,null,0,null,null,null,0,null,null,0,null,null,null,0,null,null,0,null,null,null,0,null,null,0,null,null,null,0,null,null,0,null,null,null,0,null,null,0]
[null,null,null,null,0,null,null,null,0,null,null,0,null,null,null,0,null,null,0,null,null,null,0,null,null,0,null,null,null,0,null,null,0,null,null,null,0,null,null,0]
[null,null,null,null,0,null,null,null,0,null,null,0,null,null,null,0,null,null,0,null,null,null,0,null,null,0,null,null,null,0,null,null,0,null,null,null,0,null,null,0]
[null,null,null,null,0,null,null,null,0,null,null,0,null,null,null,0,null,null,0,null,null,null,0,null,null,0,null,null,null,0,null,null,0,null,null,null,0,null,null,0]
[null,null,null,null,0,null,null,null,0,null,null,0,null,null,null,0,null,null,0,null,null,null,0,null,null,0,null,null,null,0,null,null,0,null,null,null,0,null,null,0]
[null,null,null,null,0,null,null,null,0,null,null,0,null,null,null,0,null,null,0,null,null,null,0,null,null,0,null,null,null,0,null,null,0,null,null,null,0,null,null,0]
[null,null,null,null,0,null,null,null,0,null,null,0,null,null,null,0,null,null,0,null,null,null,0,null,null,0,null,null,null,0,null,null,0,null,null,null,0,null,null,0]
[null,null,null,null,0,null,null,null,0,null,null,0,null,null,null,0,null,null,0,null,null,null,0,null,null,0,null,null,null,0,null,null,0,null,null,null,0,null,null,0]
[null,null,null,null,0,null,null,null,0,null,null,0,null,null,null,0,null,null,0,null,null,null,0,null,null,0,null,null,null,0,null,null,0,"真上窓面積",null,{"$f":"SUM(AK24:AK34)","v":0},null,"変更後",{"$f":"SUM(AN24:AN34)","v":0}]
[null,null,null,null,0,null,null,null,0,null,null,0,null,null,null,0,null,null,0,null,null,null,0,null,null,0,null,null,null,0,null,null,0,"方位別開口比％",null,{"$f":"IF(AJ37>0,INT(AJ35/AJ37*1000)/1000,\"\")","v":""},null,null,{"$f":"IF(AM37>0,INT(AM35/AM37*1000)/1000,\"\")","v":""}]
["居室面積合計",null,{"$f":"INT(SUM(C24:C36)*100)/100","v":0},{"$f":"INT(SUM(E24:E36)*100)/100","v":0},null,"北面窓面積",null,{"$f":"SUM(I24:I36)","v":0},null,"変更後",{"$f":"SUM(L24:L36)","v":0},null,"東面窓面積",null,{"$f":"SUM(P24:P36)","v":0},null,"変更後",{"$f":"SUM(S24:S36)","v":0},null,"南面窓面積",null,{"$f":"SUM(W24:W36)","v":0},null,"変更後",{"$f":"SUM(Z24:Z36)","v":0},null,"西面窓面積",null,{"$f":"SUM(AD24:AD36)","v":0},null,"変更後",{"$f":"SUM(AG24:AG36)","v":0},null,"開口総窓面積",null,{"$f":"SUM(H37,O37,V37,AC37,AJ35)","v":0},null,"変更後",{"$f":"SUM(K37,R37,Y37,AF37,AM35)","v":0}]
["開口率％",null,{"$f":"IF(C37>0,INT(AJ37/C37*1000)/1000,\"\")","v":""},{"$f":"IF(D37>0,INT(AM37/D37*1000)/1000,\"\")","v":""},null,"方位別開口比％",null,{"$f":"IF(AJ37>0,INT(H37/AJ37*1000)/1000,\"\")","v":""},null,null,{"$f":"IF(AM37>0,INT(K37/AM37*1000)/1000,\"\")","v":""},null,"方位別開口比％",null,{"$f":"IF(AJ37>0,INT(O37/AJ37*1000)/1000,\"\")","v":""},null,null,{"$f":"IF(AM37>0,INT(R37/AM37*1000)/1000,\"\")","v":""},null,"方位別開口比％",null,{"$f":"IF(AJ37>0,INT(V37/AJ37*1000)/1000,\"\")","v":""},null,null,{"$f":"IF(AM37>0,INT(Y37/AM37*1000)/1000,\"\")","v":""},null,"方位別開口比％",null,{"$f":"IF(AJ37>0,INT(AC37/AJ37*1000)/1000,\"\")","v":""},null,null,{"$f":"IF(AM37>0,INT(AF37/AM37*1000)/1000,\"\")","v":""}]
[]
["ｸﾞﾙｰﾌﾟ番号","室名","室面積ｍ２",null,null,"北面","設計評価時",null,"面積","変更の場合\n（建設評価時）",null,null,"東面","設計評価時",null,"面積","変更の場合\n（建設評価時）",null,null,"南面","設計評価時",null,"面積","変更の場合\n（建設評価時）",null,null,"西面","設計評価時",null,"面積","変更の場合\n（建設評価時）",null,null,"真上","設計評価時",null,"面積","変更の場合\n（建設評価時）"]
[null,null,"設計時","変更後",null,"建具","W","H",null,"W","H",null,"建具","W","H",null,"W","H",null,"建具","W","H",null,"W","H",null,"建具","W","H",null,"W","H",null,"建具","W","H",null,"W","H"]
[3,null,null,null,{"$f":"IF(D42<>\"\",D42,C42)","v":0},null,null,null,{"$f":"G42*H42","v":0},null,null,{"$f":"IF(AND(J42<>\"\",K42<>\"\"),J42*K42,I42)","v":0},null,null,null,{"$f":"N42*O42","v":0},null,null,{"$f":"IF(AND(Q42<>\"\",R42<>\"\"),Q42*R42,P42)","v":0},null,null,null,{"$f":"U42*V42","v":0},null,null,{"$f":"IF(AND(X42<>\"\",Y42<>\"\"),X42*Y42,W42)","v":0},null,null,null,{"$f":"AB42*AC42","v":0},null,null,{"$f":"IF(AND(AE42<>\"\",AF42<>\"\"),AE42*AF42,AD42)","v":0},null,null,null,{"$f":"AI42*AJ42","v":0},null,null,{"$f":"IF(AND(AL42<>\"\",AM42<>\"\"),AL42*AM42,AK42)","v":0}]
[null,null,null,null,{"$f":"IF(D43<>\"\",D43,C43)","v":0},null,null,null,0,null,null,0,null,null,null,0,null,null,0,null,null,null,0,null,null,0,null,null,null,0,null,null,0,null,null,null,0,null,null,0]
["住戸番号",null,null,null,0,null,null,null,0,null,null,0,null,null,null,0,null,null,0,null,null,null,0,null,null,0,null,null,null,0,null,null,0,null,null,null,0,null,null,0]
[null,null,null,null,0,null,null,null,0,null,null,0,null,null,null,0,null,null,0,null,null,null,0,null,null,0,null,null,null,0,null,null,0,null,null,null,0,null,null,0]
[null,null,null,null,0,null,null,null,0,null,null,0,null,null,null,0,null,null,0,null,null,null,0,null,null,0,null,null,null,0,null,null,0,null,null,null,0,null,null,0]
[null,null,null,null,0,null,null,null,0,null,null,0,null,null,null,0,null,null,0,null,null,null,0,null,null,0,null,null,null,0,null,null,0,null,null,null,0,null,null,0]
[null,null,null,null,0,null,null,null,0,null,null,0,null,null,null,0,null,null,0,null,null,null,0,null,null,0,null,null,null,0,null,null,0,null,null,null,0,null,null,0]
[null,null,null,null,0,null,null,null,0,null,null,0,null,null,null,0,null,null,0,null,null,null,0,null,null,0,null,null,null,0,null,null,0,null,null,null,0,null,null,0]
[null,null,null,null,0,null,null,null,0,null,null,0,null,null,null,0,null,null,0,null,null,null,0,null,null,0,null,null,null,0,null,null,0,null,null,null,0,null,null,0]
[null,null,null,null,0,null,null,null,0,null,null,0,null,null,null,0,null,null,0,null,null,null,0,null,null,0,null,null,null,0,null,null,0,null,null,null,0,null,null,0]
[null,null,null,null,0,null,null,null,0,null,null,0,null,null,null,0,null,null,0,null,null,null,0,null,null,0,null,null,null,0,null,null,0,null,null,null,0,null,null,0]
[null,null,null,null,0,null,null,null,0,null,null,0,null,null,null,0,null,null,0,null,null,null,0,null,null,0,null,null,null,0,null,null,0,"真上窓面積",null,{"$f":"SUM(AK42:AK52)","v":0},null,"変更後",{"$f":"SUM(AN42:AN52)","v":0}]
[null,null,null,null,0,null,null,null,0,null,null,0,null,null,null,0,null,null,0,null,null,null,0,null,null,0,null,null,null,0,null,null,0,"方位別開口比％",null,{"$f":"IF(AJ55>0,INT(AJ53/AJ55*1000)/1000,\"\")","v":""},null,null,{"$f":"IF(AM55>0,INT(AM53/AM55*1000)/1000,\"\")","v":""}]
["居室面積合計",null,{"$f":"INT(SUM(C42:C54)*100)/100","v":0},{"$f":"INT(SUM(E42:E54)*100)/100","v":0},null,"北面窓面積",null,{"$f":"SUM(I42:I54)","v":0},null,"変更後",{"$f":"SUM(L42:L54)","v":0},null,"東面窓面積",null,{"$f":"SUM(P42:P54)","v":0},null,"変更後",{"$f":"SUM(S42:S54)","v":0},null,"南面窓面積",null,{"$f":"SUM(W42:W54)","v":0},null,"変更後",{"$f":"SUM(Z42:Z54)","v":0},null,"西面窓面積",null,{"$f":"SUM(AD42:AD54)","v":0},null,"変更後",{"$f":"SUM(AG42:AG54)","v":0},null,"開口総窓面積",null,{"$f":"SUM(H55,O55,V55,AC55,AJ53)","v":0},null,"変更後",{"$f":"SUM(K55,R55,Y55,AF55,AM53)","v":0}]
["開口率％",null,{"$f":"IF(C55>0,INT(AJ55/C55*1000)/1000,\"\")","v":""},{"$f":"IF(D55>0,INT(AM55/D55*1000)/1000,\"\")","v":""},null,"方位別開口比％",null,{"$f":"IF(AJ55>0,INT(H55/AJ55*1000)/1000,\"\")","v":""},null,null,{"$f":"IF(AM55>0,INT(K55/AM55*1000)/1000,\"\")","v":""},null,"方位別開口比％",null,{"$f":"IF(AJ55>0,INT(O55/AJ55*1000)/1000,\"\")","v":""},null,null,{"$f":"IF(AM55>0,INT(R55/AM55*1000)/1000,\"\")","v":""},null,"方位別開口比％",null,{"$f":"IF(AJ55>0,INT(V55/AJ55*1000)/1000,\"\")","v":""},null,null,{"$f":"IF(AM55>0,INT(Y55/AM55*1000)/1000,\"\")","v":""},null,"方位別開口比％",null,{"$f":"IF(AJ55>0,INT(AC55/AJ55*1000)/1000,\"\")","v":""},null,null,{"$f":"IF(AM55>0,INT(AF55/AM55*1000)/1000,\"\")","v":""}]

{"sheet":"S2","index":3,"n_rows":56,"n_cols":40,"rows_kept":56,"cut":false,"hidden":false,"merged":[[21,2,21,3],[26,0,35,0],[44,0,53,0],[23,0,24,0],[41,0,42,0],[36,0,36,1],[37,0,37,1],[54,0,54,1],[55,0,55,1],[39,30,39,31],[39,9,39,10],[39,13,39,14],[39,2,39,3],[39,6,39,7],[39,0,40,0],[39,1,40,1],[39,37,39,38],[39,16,39,17],[39,20,39,21],[39,23,39,24],[39,27,39,28],[39,34,39,35],[21,34,21,35],[21,6,21,7],[21,9,21,10],[21,13,21,14],[3,37,3,38],[3,30,3,31],[3,34,3,35],[3,16,3,17],[21,37,21,38],[21,23,21,24],[21,27,21,28],[21,30,21,31],[3,23,3,24],[21,16,21,17],[21,20,21,21],[3,0,4,0],[3,1,4,1],[3,2,3,3],[5,0,6,0],[3,13,3,14],[3,6,3,7],[0,23,0,30],[1,27,1,30],[3,27,3,28],[3,9,3,10],[3,20,3,21],[1,9,1,10],[18,0,18,1],[19,0,19,1],[21,0,22,0],[21,1,22,1],[8,0,17,0]]}
["７　光視環境に関すること",null,null,null,null,null,null,null,null,null,null,null,null,null,null,null,null,null,null,null,null,"（案件名称：",null,{"$f":"建具開口!H1","v":0},null,null,null,null,null,null,null,"）",null,"PAGE：  /",null,null,null,null,"光視環境②"]
[null,"開口部面積計算シートB",null,null,null,null,null,{"$f":"'S1'!H2","v":"BL1"},null,null,null,null,null,"申請者\n記入",null,null,"自動\n記入",null,null,"変更時\n記入","（単位　長さ：m、面積：m2）",null,null,null,null,null,null,{"$f":"建具開口!K2","v":"00:00:00"},null,null,null,null,null,null,null,null,null,null,"UHEC都市居住評価センター"]
[]
["ｸﾞﾙｰﾌﾟ番号","室名","室面積ｍ２",null,null,"北面","設計評価時",null,"面積","変更の場合\n（建設評価時）",null,null,"東面","設計評価時",null,"面積","変更の場合\n（建設評価時）",null,null,"南面","設計評価時",null,"面積","変更の場合\n（建設評価時）",null,null,"西面","設計評価時",null,"面積","変更の場合\n（建設評価時）",null,null,"真上","設計評価時",null,"面積","変更の場合\n（建設評価時）"]
[null,null,"設計時","変更後",null,"建具","W","H",null,"W","H",null,"建具","W","H",null,"W","H",null,"建具","W","H",null,"W","H",null,"建具","W","H",null,"W","H",null,"建具","W","H",null,"W","H"]
[4,null,null,null,{"$f":"IF(D6<>\"\",D6,C6)","v":0},null,null,null,{"$f":"G6*H6","v":0},null,null,{"$f":"IF(AND(J6<>\"\",K6<>\"\"),J6*K6,I6)","v":0},null,null,null,{"$f":"N6*O6","v":0},null,null,{"$f":"IF(AND(Q6<>\"\",R6<>\"\"),Q6*R6,P6)","v":0},null,null,null,{"$f":"U6*V6","v":0},null,null,{"$f":"IF(AND(X6<>\"\",Y6<>\"\"),X6*Y6,W6)","v":0},null,null,null,{"$f":"AB6*AC6","v":0},null,null,{"$f":"IF(AND(AE6<>\"\",AF6<>\"\"),AE6*AF6,AD6)","v":0},null,null,null,{"$f":"AI6*AJ6","v":0},null,null,{"$f":"IF(AND(AL6<>\"\",AM6<>\"\"),AL6*AM6,AK6)","v":0}]
[null,null,null,null,0,null,null,null,0,null,null,0,null,null,null,0,null,null,0,null,null,null,0,null,null,0,null,null,null,0,null,null,0,null,null,null,0,null,null,0]
["住戸番号",null,null,null,0,null,null,null,0,null,null,0,null,null,null,0,null,null,0,null,null,null,0,null,null,0,null,null,null,0,null,null,0,null,null,null,0,null,null,0]
[null,null,null,null,0,null,null,null,0,null,null,0,null,null,null,0,null,null,0,null,null,null,0,null,null,0,null,null,null,0,null,null,0,null,null,null,0,null,null,0]
[null,null,null,null,0,null,null,null,0,null,null,0,null,null,null,0,null,null,0,null,null,null,0,null,null,0,null,null,null,0,null,null,0,null,null,null,0,null,null,0]
[null,null,null,null,0,null,null,null,0,null,null,0,null,null,null,0,null,null,0,null,null,null,0,null,null,0,null,null,null,0,null,null,0,null,null,null,0,null,null,0]
[null,null,null,null,0,null,null,null,0,null,null,0,null,null,null,0,null,null,0,null,null,null,0,null,null,0,null,null,null,0,null,null,0,null,null,null,0,null,null,0]
[null,null,null,null,0,null,null,null,0,null,null,0,null,null,null,0,null,null,0,null,null,null,0,null,null,0,null,null,null,0,null,null,0,null,null,null,0,null,null,0]
[null,null,null,null,0,null,null,null,0,null,null,0,null,null,null,0,null,null,0,null,null,null,0,null,null,0,null,null,null,0,null,null,0,null,null,null,0,null,null,0]
[null,null,null,null,0,null,null,null,0,null,null,0,null,null,null,0,null,null,0,null,null,null,0,null,null,0,null,null,null,0,null,null,0,null,null,null,0,null,null,0]
[null,null,null,null,0,null,null,null,0,null,null,0,null,null,null,0,null,null,0,null,null,null,0,null,null,0,null,null,null,0,null,null,0,null,null,null,0,null,null,0]
[null,null,null,null,0,null,null,null,0,null,null,0,null,null,null,0,null,null,0,null,null,null,0,null,null,0,null,null,null,0,null,null,0,"真上窓面積",null,{"$f":"SUM(AK6:AK16)","v":0},null,"変更後",{"$f":"SUM(AN6:AN16)","v":0}]
[null,null,null,null,0,null,null,null,0,null,null,0,null,null,null,0,null,null,0,null,null,null,0,null,null,0,null,null,null,0,null,null,0,"方位別開口比％",null,{"$f":"IF(AJ19>0,INT(AJ17/AJ19*1000)/1000,\"\")","v":""},null,null,{"$f":"IF(AM19>0,INT(AM17/AM19*1000)/1000,\"\")","v":""}]
["居室面積合計",null,{"$f":"INT(SUM(C6:C18)*100)/100","v":0},{"$f":"INT(SUM(E6:E18)*100)/100","v":0},null,"北面窓面積",null,{"$f":"SUM(I6:I18)","v":0},null,"変更後",{"$f":"SUM(L6:L18)","v":0},null,"東面窓面積",null,{"$f":"SUM(P6:P18)","v":0},null,"変更後",{"$f":"SUM(S6:S18)","v":0},null,"南面窓面積",null,{"$f":"SUM(W6:W18)","v":0},null,"変更後",{"$f":"SUM(Z6:Z18)","v":0},null,"西面窓面積",null,{"$f":"SUM(AD6:AD18)","v":0},null,"変更後",{"$f":"SUM(AG6:AG18)","v":0},null,"開口総窓面積",null,{"$f":"SUM(H19,O19,V19,AC19,AJ17)","v":0},null,"変更後",{"$f":"SUM(K19,R19,Y19,AF19,AM17)","v":0}]
["開口率％",null,{"$f":"IF(C19>0,INT(AJ19/C19*1000)/1000,\"\")","v":""},{"$f":"IF(D19>0,INT(AM19/D19*1000)/1000,\"\")","v":""},null,"方位別開口比％",null,{"$f":"IF(AJ19>0,INT(H19/AJ19*1000)/1000,\"\")","v":""},null,null,{"$f":"IF(AM19>0,INT(K19/AM19*1000)/1000,\"\")","v":""},null,"方位別開口比％",null,{"$f":"IF(AJ19>0,INT(O19/AJ19*1000)/1000,\"\")","v":""},null,null,{"$f":"IF(AM19>0,INT(R19/AM19*1000)/1000,\"\")","v":""},null,"方位別開口比％",null,{"$f":"IF(AJ19>0,INT(V19/AJ19*1000)/1000,\"\")","v":""},null,null,{"$f":"IF(AM19>0,INT(Y19/AM19*1000)/1000,\"\")","v":""},null,"方位別開口比％",null,{"$f":"IF(AJ19>0,INT(AC19/AJ19*1000)/1000,\"\")","v":""},null,null,{"$f":"IF(AM19>0,INT(AF19/AM19*1000)/1000,\"\")","v":""}]
[]
["ｸﾞﾙｰﾌﾟ番号","室名","室面積ｍ２",null,null,"北面","設計評価時",null,"面積","変更の場合\n（建設評価時）",null,null,"東面","設計評価時",null,"面積","変更の場合\n（建設評価時）",null,null,"南面","設計評価時",null,"面積","変更の場合\n（建設評価時）",null,null,"西面","設計評価時",null,"面積","変更の場合\n（建設評価時）",null,null,"真上","設計評価時",null,"面積","変更の場合\n（建設評価時）"]
[null,null,"設計時","変更後",null,"建具","W","H",null,"W","H",null,"建具","W","H",null,"W","H",null,"建具","W","H",null,"W","H",null,"建具","W","H",null,"W","H",null,"建具","W","H",null,"W","H"]
[5,null,null,null,{"$f":"IF(D24<>\"\",D24,C24)","v":0},null,null,null,{"$f":"G24*H24","v":0},null,null,{"$f":"IF(AND(J24<>\"\",K24<>\"\"),J24*K24,I24)","v":0},null,null,null,{"$f":"N24*O24","v":0},null,null,{"$f":"IF(AND(Q24<>\"\",R24<>\"\"),Q24*R24,P24)","v":0},null,null,null,{"$f":"U24*V24","v":0},null,null,{"$f":"IF(AND(X24<>\"\",Y24<>\"\"),X24*Y24,W24)","v":0},null,null,null,{"$f":"AB24*AC24","v":0},null,null,{"$f":"IF(AND(AE24<>\"\",AF24<>\"\"),AE24*AF24,AD24)","v":0},null,null,null,{"$f":"AI24*AJ24","v":0},null,null,{"$f":"IF(AND(AL24<>\"\",AM24<>\"\"),AL24*AM24,AK24)","v":0}]
[null,null,null,null,0,null,null,null,0,null,null,0,null,null,null,0,null,null,0,null,null,null,0,null,null,0,null,null,null,0,null,null,0,null,null,null,0,null,null,0]
["住戸番号",null,null,null,0,null,null,null,0,null,null,0,null,null,null,0,null,null,0,null,null,null,0,null,null,0,null,null,null,0,null,null,0,null,null,null,0,null,null,0]
[null,null,null,null,0,null,null,null,0,null,null,0,null,null,null,0,null,null,0,null,null,null,0,null,null,0,null,null,null,0,null,null,0,null,null,null,0,null,null,0]
[null,null,null,null,0,null,null,null,0,null,null,0,null,null,null,0,null,null,0,null,null,null,0,null,null,0,null,null,null,0,null,null,0,null,null,null,0,null,null,0]
[null,null,null,null,0,null,null,null,0,null,null,0,null,null,null,0,null,null,0,null,null,null,0,null,null,0,null,null,null,0,null,null,0,null,null,null,0,null,null,0]
[null,null,null,null,0,null,null,null,0,null,null,0,null,null,null,0,null,null,0,null,null,null,0,null,null,0,null,null,null,0,null,null,0,null,null,null,0,null,null,0]
[null,null,null,null,0,null,null,null,0,null,null,0,null,null,null,0,null,null,0,null,null,null,0,null,null,0,null,null,null,0,null,null,0,null,null,null,0,null,null,0]
[null,null,null,null,0,null,null,null,0,null,null,0,null,null,null,0,null,null,0,null,null,null,0,null,null,0,null,null,null,0,null,null,0,null,null,null,0,null,null,0]
[null,null,null,null,0,null,null,null,0,null,null,0,null,null,null,0,null,null,0,null,null,null,0,null,null,0,null,null,null,0,null,null,0,null,null,null,0,null,null,0]
[null,null,null,null,0,null,null,null,0,null,null,0,null,null,null,0,null,null,0,null,null,null,0,null,null,0,null,null,null,0,null,null,0,null,null,null,0,null,null,0]
[null,null,null,null,0,null,null,null,0,null,null,0,null,null,null,0,null,null,0,null,null,null,0,null,null,0,null,null,null,0,null,null,0,"真上窓面積",null,{"$f":"SUM(AK24:AK34)","v":0},null,"変更後",{"$f":"SUM(AN24:AN34)","v":0}]
[null,null,null,null,0,null,null,null,0,null,null,0,null,null,null,0,null,null,0,null,null,null,0,null,null,0,null,null,null,0,null,null,0,"方位別開口比％",null,{"$f":"IF(AJ37>0,INT(AJ35/AJ37*1000)/1000,\"\")","v":""},null,null,{"$f":"IF(AM37>0,INT(AM35/AM37*1000)/1000,\"\")","v":""}]
["居室面積合計",null,{"$f":"INT(SUM(C24:C36)*100)/100","v":0},{"$f":"INT(SUM(E24:E36)*100)/100","v":0},null,"北面窓面積",null,{"$f":"SUM(I24:I36)","v":0},null,"変更後",{"$f":"SUM(L24:L36)","v":0},null,"東面窓面積",null,{"$f":"SUM(P24:P36)","v":0},null,"変更後",{"$f":"SUM(S24:S36)","v":0},null,"南面窓面積",null,{"$f":"SUM(W24:W36)","v":0},null,"変更後",{"$f":"SUM(Z24:Z36)","v":0},null,"西面窓面積",null,{"$f":"SUM(AD24:AD36)","v":0},null,"変更後",{"$f":"SUM(AG24:AG36)","v":0},null,"開口総窓面積",null,{"$f":"SUM(H37,O37,V37,AC37,AJ35)","v":0},null,"変更後",{"$f":"SUM(K37,R37,Y37,AF37,AM35)","v":0}]
["開口率％",null,{"$f":"IF(C37>0,INT(AJ37/C37*1000)/1000,\"\")","v":""},{"$f":"IF(D37>0,INT(AM37/D37*1000)/1000,\"\")","v":""},null,"方位別開口比％",null,{"$f":"IF(AJ37>0,INT(H37/AJ37*1000)/1000,\"\")","v":""},null,null,{"$f":"IF(AM37>0,INT(K37/AM37*1000)/1000,\"\")","v":""},null,"方位別開口比％",null,{"$f":"IF(AJ37>0,INT(O37/AJ37*1000)/1000,\"\")","v":""},null,null,{"$f":"IF(AM37>0,INT(R37/AM37*1000)/1000,\"\")","v":""},null,"方位別開口比％",null,{"$f":"IF(AJ37>0,INT(V37/AJ37*1000)/1000,\"\")","v":""},null,null,{"$f":"IF(AM37>0,INT(Y37/AM37*1000)/1000,\"\")","v":""},null,"方位別開口比％",null,{"$f":"IF(AJ37>0,INT(AC37/AJ37*1000)/1000,\"\")","v":""},null,null,{"$f":"IF(AM37>0,INT(AF37/AM37*1000)/1000,\"\")","v":""}]
[]
["ｸﾞﾙｰﾌﾟ番号","室名","室面積ｍ２",null,null,"北面","設計評価時",null,"面積","変更の場合\n（建設評価時）",null,null,"東面","設計評価時",null,"面積","変更の場合\n（建設評価時）",null,null,"南面","設計評価時",null,"面積","変更の場合\n（建設評価時）",null,null,"西面","設計評価時",null,"面積","変更の場合\n（建設評価時）",null,null,"真上","設計評価時",null,"面積","変更の場合\n（建設評価時）"]
[null,null,"設計時","変更後",null,"建具","W","H",null,"W","H",null,"建具","W","H",null,"W","H",null,"建具","W","H",null,"W","H",null,"建具","W","H",null,"W","H",null,"建具","W","H",null,"W","H"]
[6,null,null,null,{"$f":"IF(D42<>\"\",D42,C42)","v":0},null,null,null,{"$f":"G42*H42","v":0},null,null,{"$f":"IF(AND(J42<>\"\",K42<>\"\"),J42*K42,I42)","v":0},null,null,null,{"$f":"N42*O42","v":0},null,null,{"$f":"IF(AND(Q42<>\"\",R42<>\"\"),Q42*R42,P42)","v":0},null,null,null,{"$f":"U42*V42","v":0},null,null,{"$f":"IF(AND(X42<>\"\",Y42<>\"\"),X42*Y42,W42)","v":0},null,null,null,{"$f":"AB42*AC42","v":0},null,null,{"$f":"IF(AND(AE42<>\"\",AF42<>\"\"),AE42*AF42,AD42)","v":0},null,null,null,{"$f":"AI42*AJ42","v":0},null,null,{"$f":"IF(AND(AL42<>\"\",AM42<>\"\"),AL42*AM42,AK42)","v":0}]
[null,null,null,null,0,null,null,null,0,null,null,0,null,null,null,0,null,null,0,null,null,null,0,null,null,0,null,null,null,0,null,null,0,null,null,null,0,null,null,0]
["住戸番号",null,null,null,0,null,null,null,0,null,null,0,null,null,null,0,null,null,0,null,null,null,0,null,null,0,null,null,null,0,null,null,0,null,null,null,0,null,null,0]
[null,null,null,null,0,null,null,null,0,null,null,0,null,null,null,0,null,null,0,null,null,null,0,null,null,0,null,null,null,0,null,null,0,null,null,null,0,null,null,0]
[null,null,null,null,0,null,null,null,0,null,null,0,null,null,null,0,null,null,0,null,null,null,0,null,null,0,null,null,null,0,null,null,0,null,null,null,0,null,null,0]
[null,null,null,null,0,null,null,null,0,null,null,0,null,null,null,0,null,null,0,null,null,null,0,null,null,0,null,null,null,0,null,null,0,null,null,null,0,null,null,0]
[null,null,null,null,0,null,null,null,0,null,null,0,null,null,null,0,null,null,0,null,null,null,0,null,null,0,null,null,null,0,null,null,0,null,null,null,0,null,null,0]
[null,null,null,null,0,null,null,null,0,null,null,0,null,null,null,0,null,null,0,null,null,null,0,null,null,0,null,null,null,0,null,null,0,null,null,null,0,null,null,0]
[null,null,null,null,0,null,null,null,0,null,null,0,null,null,null,0,null,null,0,null,null,null,0,null,null,0,null,null,null,0,null,null,0,null,null,null,0,null,null,0]
[null,null,null,null,0,null,null,null,0,null,null,0,null,null,null,0,null,null,0,null,null,null,0,null,null,0,null,null,null,0,null,null,0,null,null,null,0,null,null,0]
[null,null,null,null,0,null,null,null,0,null,null,0,null,null,null,0,null,null,0,null,null,null,0,null,null,0,null,null,null,0,null,null,0,null,null,null,0,null,null,0]
[null,null,null,null,0,null,null,null,0,null,null,0,null,null,null,0,null,null,0,null,null,null,0,null,null,0,null,null,null,0,null,null,0,"真上窓面積",null,{"$f":"SUM(AK42:AK52)","v":0},null,"変更後",{"$f":"SUM(AN42:AN52)","v":0}]
[null,null,null,null,0,null,null,null,0,null,null,0,null,null,null,0,null,null,0,null,null,null,0,null,null,0,null,null,null,0,null,null,0,"方位別開口比％",null,{"$f":"IF(AJ55>0,INT(AJ53/AJ55*1000)/1000,\"\")","v":""},null,null,{"$f":"IF(AM55>0,INT(AM53/AM55*1000)/1000,\"\")","v":""}]
["居室面積合計",null,{"$f":"INT(SUM(C42:C54)*100)/100","v":0},{"$f":"INT(SUM(E42:E54)*100)/100","v":0},null,"北面窓面積",null,{"$f":"SUM(I42:I54)","v":0},null,"変更後",{"$f":"SUM(L42:L54)","v":0},null,"東面窓面積",null,{"$f":"SUM(P42:P54)","v":0},null,"変更後",{"$f":"SUM(S42:S54)","v":0},null,"南面窓面積",null,{"$f":"SUM(W42:W54)","v":0},null,"変更後",{"$f":"SUM(Z42:Z54)","v":0},null,"西面窓面積",null,{"$f":"SUM(AD42:AD54)","v":0},null,"変更後",{"$f":"SUM(AG42:AG54)","v":0},null,"開口総窓面積",null,{"$f":"SUM(H55,O55,V55,AC55,AJ53)","v":0},null,"変更後",{"$f":"SUM(K55,R55,Y55,AF55,AM53)","v":0}]
["開口率％",null,{"$f":"IF(C55>0,INT(AJ55/C55*1000)/1000,\"\")","v":""},{"$f":"IF(D55>0,INT(AM55/D55*1000)/1000,\"\")","v":""},null,"方位別開口比％",null,{"$f":"IF(AJ55>0,INT(H55/AJ55*1000)/1000,\"\")","v":""},null,null,{"$f":"IF(AM55>0,INT(K55/AM55*1000)/1000,\"\")","v":""},null,"方位別開口比％",null,{"$f":"IF(AJ55>0,INT(O55/AJ55*1000)/1000,\"\")","v":""},null,null,{"$f":"IF(AM55>0,INT(R55/AM55*1000)/1000,\"\")","v":""},null,"方位別開口比％",null,{"$f":"IF(AJ55>0,INT(V55/AJ55*1000)/1000,\"\")","v":""},null,null,{"$f":"IF(AM55>0,INT(Y55/AM55*1000)/1000,\"\")","v":""},null,"方位別開口比％",null,{"$f":"IF(AJ55>0,INT(AC55/AJ55*1000)/1000,\"\")","v":""},null,null,{"$f":"IF(AM55>0,INT(AF55/AM55*1000)/1000,\"\")","v":""}]

{"sheet":"S3","index":4,"n_rows":56,"n_cols":40,"rows_kept":56,"cut":false,"hidden":false,"merged":[[19,0,19,1],[26,0,35,0],[44,0,53,0],[23,0,24,0],[41,0,42,0],[36,0,36,1],[37,0,37,1],[39,0,40,0],[39,1,40,1],[21,0,22,0],[21,1,22,1],[0,23,0,30],[1,27,1,30],[3,27,3,28],[3,6,3,7],[18,0,18,1],[3,2,3,3],[3,9,3,10],[3,20,3,21],[1,9,1,10],[5,0,6,0],[8,0,17,0],[3,0,4,0],[3,1,4,1],[3,23,3,24],[3,13,3,14],[21,2,21,3],[3,37,3,38],[3,30,3,31],[3,34,3,35],[3,16,3,17],[21,37,21,38],[21,23,21,24],[21,27,21,28],[21,30,21,31],[21,34,21,35],[21,6,21,7],[21,9,21,10],[21,13,21,14],[21,16,21,17],[21,20,21,21],[39,37,39,38],[39,16,39,17],[39,20,39,21],[39,23,39,24],[39,27,39,28],[54,0,54,1],[55,0,55,1],[39,30,39,31],[39,34,39,35],[39,9,39,10],[39,13,39,14],[39,2,39,3],[39,6,39,7]]}
["７　光視環境に関すること",null,null,null,null,null,null,null,null,null,null,null,null,null,null,null,null,null,null,null,null,"（案件名称：",null,{"$f":"建具開口!H1","v":0},null,null,null,null,null,null,null,"）",null,"PAGE：  /",null,null,null,null,"光視環境②"]
[null,"開口部面積計算シートB",null,null,null,null,null,{"$f":"'S1'!H2","v":"BL1"},null,null,null,null,null,"申請者\n記入",null,null,"自動\n記入",null,null,"変更時\n記入","（単位　長さ：m、面積：m2）",null,null,null,null,null,null,{"$f":"建具開口!K2","v":"00:00:00"},null,null,null,null,null,null,null,null,null,null,"UHEC都市居住評価センター"]
[]
["ｸﾞﾙｰﾌﾟ番号","室名","室面積ｍ２",null,null,"北面","設計評価時",null,"面積","変更の場合\n（建設評価時）",null,null,"東面","設計評価時",null,"面積","変更の場合\n（建設評価時）",null,null,"南面","設計評価時",null,"面積","変更の場合\n（建設評価時）",null,null,"西面","設計評価時",null,"面積","変更の場合\n（建設評価時）",null,null,"真上","設計評価時",null,"面積","変更の場合\n（建設評価時）"]
[null,null,"設計時","変更後",null,"建具","W","H",null,"W","H",null,"建具","W","H",null,"W","H",null,"建具","W","H",null,"W","H",null,"建具","W","H",null,"W","H",null,"建具","W","H",null,"W","H"]
[7,null,null,null,{"$f":"IF(D6<>\"\",D6,C6)","v":0},null,null,null,{"$f":"G6*H6","v":0},null,null,{"$f":"IF(AND(J6<>\"\",K6<>\"\"),J6*K6,I6)","v":0},null,null,null,{"$f":"N6*O6","v":0},null,null,{"$f":"IF(AND(Q6<>\"\",R6<>\"\"),Q6*R6,P6)","v":0},null,null,null,{"$f":"U6*V6","v":0},null,null,{"$f":"IF(AND(X6<>\"\",Y6<>\"\"),X6*Y6,W6)","v":0},null,null,null,{"$f":"AB6*AC6","v":0},null,null,{"$f":"IF(AND(AE6<>\"\",AF6<>\"\"),AE6*AF6,AD6)","v":0},null,null,null,{"$f":"AI6*AJ6","v":0},null,null,{"$f":"IF(AND(AL6<>\"\",AM6<>\"\"),AL6*AM6,AK6)","v":0}]
[null,null,null,null,0,null,null,null,0,null,null,0,null,null,null,0,null,null,0,null,null,null,0,null,null,0,null,null,null,0,null,null,0,null,null,null,0,null,null,0]
["住戸番号",null,null,null,0,null,null,null,0,null,null,0,null,null,null,0,null,null,0,null,null,null,0,null,null,0,null,null,null,0,null,null,0,null,null,null,0,null,null,0]
[null,null,null,null,0,null,null,null,0,null,null,0,null,null,null,0,null,null,0,null,null,null,0,null,null,0,null,null,null,0,null,null,0,null,null,null,0,null,null,0]
[null,null,null,null,0,null,null,null,0,null,null,0,null,null,null,0,null,null,0,null,null,null,0,null,null,0,null,null,null,0,null,null,0,null,null,null,0,null,null,0]
[null,null,null,null,0,null,null,null,0,null,null,0,null,null,null,0,null,null,0,null,null,null,0,null,null,0,null,null,null,0,null,null,0,null,null,null,0,null,null,0]
[null,null,null,null,0,null,null,null,0,null,null,0,null,null,null,0,null,null,0,null,null,null,0,null,null,0,null,null,null,0,null,null,0,null,null,null,0,null,null,0]
[null,null,null,null,0,null,null,null,0,null,null,0,null,null,null,0,null,null,0,null,null,null,0,null,null,0,null,null,null,0,null,null,0,null,null,null,0,null,null,0]
[null,null,null,null,0,null,null,null,0,null,null,0,null,null,null,0,null,null,0,null,null,null,0,null,null,0,null,null,null,0,null,null,0,null,null,null,0,null,null,0]
[null,null,null,null,0,null,null,null,0,null,null,0,null,null,null,0,null,null,0,null,null,null,0,null,null,0,null,null,null,0,null,null,0,null,null,null,0,null,null,0]
[null,null,null,null,0,null,null,null,0,null,null,0,null,null,null,0,null,null,0,null,null,null,0,null,null,0,null,null,null,0,null,null,0,null,null,null,0,null,null,0]
[null,null,null,null,0,null,null,null,0,null,null,0,null,null,null,0,null,null,0,null,null,null,0,null,null,0,null,null,null,0,null,null,0,"真上窓面積",null,{"$f":"SUM(AK6:AK16)","v":0},null,"変更後",{"$f":"SUM(AN6:AN16)","v":0}]
[null,null,null,null,0,null,null,null,0,null,null,0,null,null,null,0,null,null,0,null,null,null,0,null,null,0,null,null,null,0,null,null,0,"方位別開口比％",null,{"$f":"IF(AJ19>0,INT(AJ17/AJ19*1000)/1000,\"\")","v":""},null,null,{"$f":"IF(AM19>0,INT(AM17/AM19*1000)/1000,\"\")","v":""}]
["居室面積合計",null,{"$f":"INT(SUM(C6:C18)*100)/100","v":0},{"$f":"INT(SUM(E6:E18)*100)/100","v":0},null,"北面窓面積",null,{"$f":"SUM(I6:I18)","v":0},null,"変更後",{"$f":"SUM(L6:L18)","v":0},null,"東面窓面積",null,{"$f":"SUM(P6:P18)","v":0},null,"変更後",{"$f":"SUM(S6:S18)","v":0},null,"南面窓面積",null,{"$f":"SUM(W6:W18)","v":0},null,"変更後",{"$f":"SUM(Z6:Z18)","v":0},null,"西面窓面積",null,{"$f":"SUM(AD6:AD18)","v":0},null,"変更後",{"$f":"SUM(AG6:AG18)","v":0},null,"開口総窓面積",null,{"$f":"SUM(H19,O19,V19,AC19,AJ17)","v":0},null,"変更後",{"$f":"SUM(K19,R19,Y19,AF19,AM17)","v":0}]
["開口率％",null,{"$f":"IF(C19>0,INT(AJ19/C19*1000)/1000,\"\")","v":""},{"$f":"IF(D19>0,INT(AM19/D19*1000)/1000,\"\")","v":""},null,"方位別開口比％",null,{"$f":"IF(AJ19>0,INT(H19/AJ19*1000)/1000,\"\")","v":""},null,null,{"$f":"IF(AM19>0,INT(K19/AM19*1000)/1000,\"\")","v":""},null,"方位別開口比％",null,{"$f":"IF(AJ19>0,INT(O19/AJ19*1000)/1000,\"\")","v":""},null,null,{"$f":"IF(AM19>0,INT(R19/AM19*1000)/1000,\"\")","v":""},null,"方位別開口比％",null,{"$f":"IF(AJ19>0,INT(V19/AJ19*1000)/1000,\"\")","v":""},null,null,{"$f":"IF(AM19>0,INT(Y19/AM19*1000)/1000,\"\")","v":""},null,"方位別開口比％",null,{"$f":"IF(AJ19>0,INT(AC19/AJ19*1000)/1000,\"\")","v":""},null,null,{"$f":"IF(AM19>0,INT(AF19/AM19*1000)/1000,\"\")","v":""}]
[]
["ｸﾞﾙｰﾌﾟ番号","室名","室面積ｍ２",null,null,"北面","設計評価時",null,"面積","変更の場合\n（建設評価時）",null,null,"東面","設計評価時",null,"面積","変更の場合\n（建設評価時）",null,null,"南面","設計評価時",null,"面積","変更の場合\n（建設評価時）",null,null,"西面","設計評価時",null,"面積","変更の場合\n（建設評価時）",null,null,"真上","設計評価時",null,"面積","変更の場合\n（建設評価時）"]
[null,null,"設計時","変更後",null,"建具","W","H",null,"W","H",null,"建具","W","H",null,"W","H",null,"建具","W","H",null,"W","H",null,"建具","W","H",null,"W","H",null,"建具","W","H",null,"W","H"]
[8,null,null,null,{"$f":"IF(D24<>\"\",D24,C24)","v":0},null,null,null,{"$f":"G24*H24","v":0},null,null,{"$f":"IF(AND(J24<>\"\",K24<>\"\"),J24*K24,I24)","v":0},null,null,null,{"$f":"N24*O24","v":0},null,null,{"$f":"IF(AND(Q24<>\"\",R24<>\"\"),Q24*R24,P24)","v":0},null,null,null,{"$f":"U24*V24","v":0},null,null,{"$f":"IF(AND(X24<>\"\",Y24<>\"\"),X24*Y24,W24)","v":0},null,null,null,{"$f":"AB24*AC24","v":0},null,null,{"$f":"IF(AND(AE24<>\"\",AF24<>\"\"),AE24*AF24,AD24)","v":0},null,null,null,{"$f":"AI24*AJ24","v":0},null,null,{"$f":"IF(AND(AL24<>\"\",AM24<>\"\"),AL24*AM24,AK24)","v":0}]
[null,null,null,null,0,null,null,null,0,null,null,0,null,null,null,0,null,null,0,null,null,null,0,null,null,0,null,null,null,0,null,null,0,null,null,null,0,null,null,0]
["住戸番号",null,null,null,0,null,null,null,0,null,null,0,null,null,null,0,null,null,0,null,null,null,0,null,null,0,null,null,null,0,null,null,0,null,null,null,0,null,null,0]
[null,null,null,null,0,null,null,null,0,null,null,0,null,null,null,0,null,null,0,null,null,null,0,null,null,0,null,null,null,0,null,null,0,null,null,null,0,null,null,0]
[null,null,null,null,0,null,null,null,0,null,null,0,null,null,null,0,null,null,0,null,null,null,0,null,null,0,null,null,null,0,null,null,0,null,null,null,0,null,null,0]
[null,null,null,null,0,null,null,null,0,null,null,0,null,null,null,0,null,null,0,null,null,null,0,null,null,0,null,null,null,0,null,null,0,null,null,null,0,null,null,0]
[null,null,null,null,0,null,null,null,0,null,null,0,null,null,null,0,null,null,0,null,null,null,0,null,null,0,null,null,null,0,null,null,0,null,null,null,0,null,null,0]
[null,null,null,null,0,null,null,null,0,null,null,0,null,null,null,0,null,null,0,null,null,null,0,null,null,0,null,null,null,0,null,null,0,null,null,null,0,null,null,0]
[null,null,null,null,0,null,null,null,0,null,null,0,null,null,null,0,null,null,0,null,null,null,0,null,null,0,null,null,null,0,null,null,0,null,null,null,0,null,null,0]
[null,null,null,null,0,null,null,null,0,null,null,0,null,null,null,0,null,null,0,null,null,null,0,null,null,0,null,null,null,0,null,null,0,null,null,null,0,null,null,0]
[null,null,null,null,0,null,null,null,0,null,null,0,null,null,null,0,null,null,0,null,null,null,0,null,null,0,null,null,null,0,null,null,0,null,null,null,0,null,null,0]
[null,null,null,null,0,null,null,null,0,null,null,0,null,null,null,0,null,null,0,null,null,null,0,null,null,0,null,null,null,0,null,null,0,"真上窓面積",null,{"$f":"SUM(AK24:AK34)","v":0},null,"変更後",{"$f":"SUM(AN24:AN34)","v":0}]
[null,null,null,null,0,null,null,null,0,null,null,0,null,null,null,0,null,null,0,null,null,null,0,null,null,0,null,null,null,0,null,null,0,"方位別開口比％",null,{"$f":"IF(AJ37>0,INT(AJ35/AJ37*1000)/1000,\"\")","v":""},null,null,{"$f":"IF(AM37>0,INT(AM35/AM37*1000)/1000,\"\")","v":""}]
["居室面積合計",null,{"$f":"INT(SUM(C24:C36)*100)/100","v":0},{"$f":"INT(SUM(E24:E36)*100)/100","v":0},null,"北面窓面積",null,{"$f":"SUM(I24:I36)","v":0},null,"変更後",{"$f":"SUM(L24:L36)","v":0},null,"東面窓面積",null,{"$f":"SUM(P24:P36)","v":0},null,"変更後",{"$f":"SUM(S24:S36)","v":0},null,"南面窓面積",null,{"$f":"SUM(W24:W36)","v":0},null,"変更後",{"$f":"SUM(Z24:Z36)","v":0},null,"西面窓面積",null,{"$f":"SUM(AD24:AD36)","v":0},null,"変更後",{"$f":"SUM(AG24:AG36)","v":0},null,"開口総窓面積",null,{"$f":"SUM(H37,O37,V37,AC37,AJ35)","v":0},null,"変更後",{"$f":"SUM(K37,R37,Y37,AF37,AM35)","v":0}]
["開口率％",null,{"$f":"IF(C37>0,INT(AJ37/C37*1000)/1000,\"\")","v":""},{"$f":"IF(D37>0,INT(AM37/D37*1000)/1000,\"\")","v":""},null,"方位別開口比％",null,{"$f":"IF(AJ37>0,INT(H37/AJ37*1000)/1000,\"\")","v":""},null,null,{"$f":"IF(AM37>0,INT(K37/AM37*1000)/1000,\"\")","v":""},null,"方位別開口比％",null,{"$f":"IF(AJ37>0,INT(O37/AJ37*1000)/1000,\"\")","v":""},null,null,{"$f":"IF(AM37>0,INT(R37/AM37*1000)/1000,\"\")","v":""},null,"方位別開口比％",null,{"$f":"IF(AJ37>0,INT(V37/AJ37*1000)/1000,\"\")","v":""},null,null,{"$f":"IF(AM37>0,INT(Y37/AM37*1000)/1000,\"\")","v":""},null,"方位別開口比％",null,{"$f":"IF(AJ37>0,INT(AC37/AJ37*1000)/1000,\"\")","v":""},null,null,{"$f":"IF(AM37>0,INT(AF37/AM37*1000)/1000,\"\")","v":""}]
[]
["ｸﾞﾙｰﾌﾟ番号","室名","室面積ｍ２",null,null,"北面","設計評価時",null,"面積","変更の場合\n（建設評価時）",null,null,"東面","設計評価時",null,"面積","変更の場合\n（建設評価時）",null,null,"南面","設計評価時",null,"面積","変更の場合\n（建設評価時）",null,null,"西面","設計評価時",null,"面積","変更の場合\n（建設評価時）",null,null,"真上","設計評価時",null,"面積","変更の場合\n（建設評価時）"]
[null,null,"設計時","変更後",null,"建具","W","H",null,"W","H",null,"建具","W","H",null,"W","H",null,"建具","W","H",null,"W","H",null,"建具","W","H",null,"W","H",null,"建具","W","H",null,"W","H"]
[9,null,null,null,{"$f":"IF(D42<>\"\",D42,C42)","v":0},null,null,null,{"$f":"G42*H42","v":0},null,null,{"$f":"IF(AND(J42<>\"\",K42<>\"\"),J42*K42,I42)","v":0},null,null,null,{"$f":"N42*O42","v":0},null,null,{"$f":"IF(AND(Q42<>\"\",R42<>\"\"),Q42*R42,P42)","v":0},null,null,null,{"$f":"U42*V42","v":0},null,null,{"$f":"IF(AND(X42<>\"\",Y42<>\"\"),X42*Y42,W42)","v":0},null,null,null,{"$f":"AB42*AC42","v":0},null,null,{"$f":"IF(AND(AE42<>\"\",AF42<>\"\"),AE42*AF42,AD42)","v":0},null,null,null,{"$f":"AI42*AJ42","v":0},null,null,{"$f":"IF(AND(AL42<>\"\",AM42<>\"\"),AL42*AM42,AK42)","v":0}]
[null,null,null,null,0,null,null,null,0,null,null,0,null,null,null,0,null,null,0,null,null,null,0,null,null,0,null,null,null,0,null,null,0,null,null,null,0,null,null,0]
["住戸番号",null,null,null,0,null,null,null,0,null,null,0,null,null,null,0,null,null,0,null,null,null,0,null,null,0,null,null,null,0,null,null,0,null,null,null,0,null,null,0]
[null,null,null,null,0,null,null,null,0,null,null,0,null,null,null,0,null,null,0,null,null,null,0,null,null,0,null,null,null,0,null,null,0,null,null,null,0,null,null,0]
[null,null,null,null,0,null,null,null,0,null,null,0,null,null,null,0,null,null,0,null,null,null,0,null,null,0,null,null,null,0,null,null,0,null,null,null,0,null,null,0]
[null,null,null,null,0,null,null,null,0,null,null,0,null,null,null,0,null,null,0,null,null,null,0,null,null,0,null,null,null,0,null,null,0,null,null,null,0,null,null,0]
[null,null,null,null,0,null,null,null,0,null,null,0,null,null,null,0,null,null,0,null,null,null,0,null,null,0,null,null,null,0,null,null,0,null,null,null,0,null,null,0]
[null,null,null,null,0,null,null,null,0,null,null,0,null,null,null,0,null,null,0,null,null,null,0,null,null,0,null,null,null,0,null,null,0,null,null,null,0,null,null,0]
[null,null,null,null,0,null,null,null,0,null,null,0,null,null,null,0,null,null,0,null,null,null,0,null,null,0,null,null,null,0,null,null,0,null,null,null,0,null,null,0]
[null,null,null,null,0,null,null,null,0,null,null,0,null,null,null,0,null,null,0,null,null,null,0,null,null,0,null,null,null,0,null,null,0,null,null,null,0,null,null,0]
[null,null,null,null,0,null,null,null,0,null,null,0,null,null,null,0,null,null,0,null,null,null,0,null,null,0,null,null,null,0,null,null,0,null,null,null,0,null,null,0]
[null,null,null,null,0,null,null,null,0,null,null,0,null,null,null,0,null,null,0,null,null,null,0,null,null,0,null,null,null,0,null,null,0,"真上窓面積",null,{"$f":"SUM(AK42:AK52)","v":0},null,"変更後",{"$f":"SUM(AN42:AN52)","v":0}]
[null,null,null,null,0,null,null,null,0,null,null,0,null,null,null,0,null,null,0,null,null,null,0,null,null,0,null,null,null,0,null,null,0,"方位別開口比％",null,{"$f":"IF(AJ55>0,INT(AJ53/AJ55*1000)/1000,\"\")","v":""},null,null,{"$f":"IF(AM55>0,INT(AM53/AM55*1000)/1000,\"\")","v":""}]
["居室面積合計",null,{"$f":"INT(SUM(C42:C54)*100)/100","v":0},{"$f":"INT(SUM(E42:E54)*100)/100","v":0},null,"北面窓面積",null,{"$f":"SUM(I42:I54)","v":0},null,"変更後",{"$f":"SUM(L42:L54)","v":0},null,"東面窓面積",null,{"$f":"SUM(P42:P54)","v":0},null,"変更後",{"$f":"SUM(S42:S54)","v":0},null,"南面窓面積",null,{"$f":"SUM(W42:W54)","v":0},null,"変更後",{"$f":"SUM(Z42:Z54)","v":0},null,"西面窓面積",null,{"$f":"SUM(AD42:AD54)","v":0},null,"変更後",{"$f":"SUM(AG42:AG54)","v":0},null,"開口総窓面積",null,{"$f":"SUM(H55,O55,V55,AC55,AJ53)","v":0},null,"変更後",{"$f":"SUM(K55,R55,Y55,AF55,AM53)","v":0}]
["開口率％",null,{"$f":"IF(C55>0,INT(AJ55/C55*1000)/1000,\"\")","v":""},{"$f":"IF(D55>0,INT(AM55/D55*1000)/1000,\"\")","v":""},null,"方位別開口比％",null,{"$f":"IF(AJ55>0,INT(H55/AJ55*1000)/1000,\"\")","v":""},null,null,{"$f":"IF(AM55>0,INT(K55/AM55*1000)/1000,\"\")","v":""},null,"方位別開口比％",null,{"$f":"IF(AJ55>0,INT(O55/AJ55*1000)/1000,\"\")","v":""},null,null,{"$f":"IF(AM55>0,INT(R55/AM55*1000)/1000,\"\")","v":""},null,"方位別開口比％",null,{"$f":"IF(AJ55>0,INT(V55/AJ55*1000)/1000,\"\")","v":""},null,null,{"$f":"IF(AM55>0,INT(Y55/AM55*1000)/1000,\"\")","v":""},null,"方位別開口比％",null,{"$f":"IF(AJ55>0,INT(AC55/AJ55*1000)/1000,\"\")","v":""},null,null,{"$f":"IF(AM55>0,INT(AF55/AM55*1000)/1000,\"\")","v":""}]

{"sheet":"S4","index":5,"n_rows":56,"n_cols":40,"rows_kept":56,"cut":false,"hidden":false,"merged":[[21,2,21,3],[26,0,35,0],[44,0,53,0],[23,0,24,0],[41,0,42,0],[36,0,36,1],[37,0,37,1],[54,0,54,1],[55,0,55,1],[39,30,39,31],[39,9,39,10],[39,13,39,14],[39,2,39,3],[39,6,39,7],[39,0,40,0],[39,1,40,1],[39,37,39,38],[39,16,39,17],[39,20,39,21],[39,23,39,24],[39,27,39,28],[39,34,39,35],[21,34,21,35],[21,6,21,7],[21,9,21,10],[21,13,21,14],[3,37,3,38],[3,30,3,31],[3,34,3,35],[3,16,3,17],[21,37,21,38],[21,23,21,24],[21,27,21,28],[21,30,21,31],[3,23,3,24],[21,16,21,17],[21,20,21,21],[3,0,4,0],[3,1,4,1],[3,2,3,3],[5,0,6,0],[3,13,3,14],[3,6,3,7],[0,23,0,30],[1,27,1,30],[3,27,3,28],[3,9,3,10],[3,20,3,21],[1,9,1,10],[18,0,18,1],[19,0,19,1],[21,0,22,0],[21,1,22,1],[8,0,17,0]]}
["７　光視環境に関すること",null,null,null,null,null,null,null,null,null,null,null,null,null,null,null,null,null,null,null,null,"（案件名称：",null,{"$f":"建具開口!H1","v":0},null,null,null,null,null,null,null,"）",null,"PAGE：  /",null,null,null,null,"光視環境②"]
[null,"開口部面積計算シートB",null,null,null,null,null,{"$f":"'S1'!H2","v":"BL1"},null,null,null,null,null,"申請者\n記入",null,null,"自動\n記入",null,null,"変更時\n記入","（単位　長さ：m、面積：m2）",null,null,null,null,null,null,{"$f":"建具開口!K2","v":"00:00:00"},null,null,null,null,null,null,null,null,null,null,"UHEC都市居住評価センター"]
[]
["ｸﾞﾙｰﾌﾟ番号","室名","室面積ｍ２",null,null,"北面","設計評価時",null,"面積","変更の場合\n（建設評価時）",null,null,"東面","設計評価時",null,"面積","変更の場合\n（建設評価時）",null,null,"南面","設計評価時",null,"面積","変更の場合\n（建設評価時）",null,null,"西面","設計評価時",null,"面積","変更の場合\n（建設評価時）",null,null,"真上","設計評価時",null,"面積","変更の場合\n（建設評価時）"]
[null,null,"設計時","変更後",null,"建具","W","H",null,"W","H",null,"建具","W","H",null,"W","H",null,"建具","W","H",null,"W","H",null,"建具","W","H",null,"W","H",null,"建具","W","H",null,"W","H"]
[10,null,null,null,{"$f":"IF(D6<>\"\",D6,C6)","v":0},null,null,null,{"$f":"G6*H6","v":0},null,null,{"$f":"IF(AND(J6<>\"\",K6<>\"\"),J6*K6,I6)","v":0},null,null,null,{"$f":"N6*O6","v":0},null,null,{"$f":"IF(AND(Q6<>\"\",R6<>\"\"),Q6*R6,P6)","v":0},null,null,null,{"$f":"U6*V6","v":0},null,null,{"$f":"IF(AND(X6<>\"\",Y6<>\"\"),X6*Y6,W6)","v":0},null,null,null,{"$f":"AB6*AC6","v":0},null,null,{"$f":"IF(AND(AE6<>\"\",AF6<>\"\"),AE6*AF6,AD6)","v":0},null,null,null,{"$f":"AI6*AJ6","v":0},null,null,{"$f":"IF(AND(AL6<>\"\",AM6<>\"\"),AL6*AM6,AK6)","v":0}]
[null,null,null,null,0,null,null,null,0,null,null,0,null,null,null,0,null,null,0,null,null,null,0,null,null,0,null,null,null,0,null,null,0,null,null,null,0,null,null,0]
["住戸番号",null,null,null,0,null,null,null,0,null,null,0,null,null,null,0,null,null,0,null,null,null,0,null,null,0,null,null,null,0,null,null,0,null,null,null,0,null,null,0]
[null,null,null,null,0,null,null,null,0,null,null,0,null,null,null,0,null,null,0,null,null,null,0,null,null,0,null,null,null,0,null,null,0,null,null,null,0,null,null,0]
[null,null,null,null,0,null,null,null,0,null,null,0,null,null,null,0,null,null,0,null,null,null,0,null,null,0,null,null,null,0,null,null,0,null,null,null,0,null,null,0]
[null,null,null,null,0,null,null,null,0,null,null,0,null,null,null,0,null,null,0,null,null,null,0,null,null,0,null,null,null,0,null,null,0,null,null,null,0,null,null,0]
[null,null,null,null,0,null,null,null,0,null,null,0,null,null,null,0,null,null,0,null,null,null,0,null,null,0,null,null,null,0,null,null,0,null,null,null,0,null,null,0]
[null,null,null,null,0,null,null,null,0,null,null,0,null,null,null,0,null,null,0,null,null,null,0,null,null,0,null,null,null,0,null,null,0,null,null,null,0,null,null,0]
[null,null,null,null,0,null,null,null,0,null,null,0,null,null,null,0,null,null,0,null,null,null,0,null,null,0,null,null,null,0,null,null,0,null,null,null,0,null,null,0]
[null,null,null,null,0,null,null,null,0,null,null,0,null,null,null,0,null,null,0,null,null,null,0,null,null,0,null,null,null,0,null,null,0,null,null,null,0,null,null,0]
[null,null,null,null,0,null,null,null,0,null,null,0,null,null,null,0,null,null,0,null,null,null,0,null,null,0,null,null,null,0,null,null,0,null,null,null,0,null,null,0]
[null,null,null,null,0,null,null,null,0,null,null,0,null,null,null,0,null,null,0,null,null,null,0,null,null,0,null,null,null,0,null,null,0,"真上窓面積",null,{"$f":"SUM(AK6:AK16)","v":0},null,"変更後",{"$f":"SUM(AN6:AN16)","v":0}]
[null,null,null,null,0,null,null,null,0,null,null,0,null,null,null,0,null,null,0,null,null,null,0,null,null,0,null,null,null,0,null,null,0,"方位別開口比％",null,{"$f":"IF(AJ19>0,INT(AJ17/AJ19*1000)/1000,\"\")","v":""},null,null,{"$f":"IF(AM19>0,INT(AM17/AM19*1000)/1000,\"\")","v":""}]
["居室面積合計",null,{"$f":"INT(SUM(C6:C18)*100)/100","v":0},{"$f":"INT(SUM(E6:E18)*100)/100","v":0},null,"北面窓面積",null,{"$f":"SUM(I6:I18)","v":0},null,"変更後",{"$f":"SUM(L6:L18)","v":0},null,"東面窓面積",null,{"$f":"SUM(P6:P18)","v":0},null,"変更後",{"$f":"SUM(S6:S18)","v":0},null,"南面窓面積",null,{"$f":"SUM(W6:W18)","v":0},null,"変更後",{"$f":"SUM(Z6:Z18)","v":0},null,"西面窓面積",null,{"$f":"SUM(AD6:AD18)","v":0},null,"変更後",{"$f":"SUM(AG6:AG18)","v":0},null,"開口総窓面積",null,{"$f":"SUM(H19,O19,V19,AC19,AJ17)","v":0},null,"変更後",{"$f":"SUM(K19,R19,Y19,AF19,AM17)","v":0}]
["開口率％",null,{"$f":"IF(C19>0,INT(AJ19/C19*1000)/1000,\"\")","v":""},{"$f":"IF(D19>0,INT(AM19/D19*1000)/1000,\"\")","v":""},null,"方位別開口比％",null,{"$f":"IF(AJ19>0,INT(H19/AJ19*1000)/1000,\"\")","v":""},null,null,{"$f":"IF(AM19>0,INT(K19/AM19*1000)/1000,\"\")","v":""},null,"方位別開口比％",null,{"$f":"IF(AJ19>0,INT(O19/AJ19*1000)/1000,\"\")","v":""},null,null,{"$f":"IF(AM19>0,INT(R19/AM19*1000)/1000,\"\")","v":""},null,"方位別開口比％",null,{"$f":"IF(AJ19>0,INT(V19/AJ19*1000)/1000,\"\")","v":""},null,null,{"$f":"IF(AM19>0,INT(Y19/AM19*1000)/1000,\"\")","v":""},null,"方位別開口比％",null,{"$f":"IF(AJ19>0,INT(AC19/AJ19*1000)/1000,\"\")","v":""},null,null,{"$f":"IF(AM19>0,INT(AF19/AM19*1000)/1000,\"\")","v":""}]
[]
["ｸﾞﾙｰﾌﾟ番号","室名","室面積ｍ２",null,null,"北面","設計評価時",null,"面積","変更の場合\n（建設評価時）",null,null,"東面","設計評価時",null,"面積","変更の場合\n（建設評価時）",null,null,"南面","設計評価時",null,"面積","変更の場合\n（建設評価時）",null,null,"西面","設計評価時",null,"面積","変更の場合\n（建設評価時）",null,null,"真上","設計評価時",null,"面積","変更の場合\n（建設評価時）"]
[null,null,"設計時","変更後",null,"建具","W","H",null,"W","H",null,"建具","W","H",null,"W","H",null,"建具","W","H",null,"W","H",null,"建具","W","H",null,"W","H",null,"建具","W","H",null,"W","H"]
[11,null,null,null,{"$f":"IF(D24<>\"\",D24,C24)","v":0},null,null,null,{"$f":"G24*H24","v":0},null,null,{"$f":"IF(AND(J24<>\"\",K24<>\"\"),J24*K24,I24)","v":0},null,null,null,{"$f":"N24*O24","v":0},null,null,{"$f":"IF(AND(Q24<>\"\",R24<>\"\"),Q24*R24,P24)","v":0},null,null,null,{"$f":"U24*V24","v":0},null,null,{"$f":"IF(AND(X24<>\"\",Y24<>\"\"),X24*Y24,W24)","v":0},null,null,null,{"$f":"AB24*AC24","v":0},null,null,{"$f":"IF(AND(AE24<>\"\",AF24<>\"\"),AE24*AF24,AD24)","v":0},null,null,null,{"$f":"AI24*AJ24","v":0},null,null,{"$f":"IF(AND(AL24<>\"\",AM24<>\"\"),AL24*AM24,AK24)","v":0}]
[null,null,null,null,0,null,null,null,0,null,null,0,null,null,null,0,null,null,0,null,null,null,0,null,null,0,null,null,null,0,null,null,0,null,null,null,0,null,null,0]
["住戸番号",null,null,null,0,null,null,null,0,null,null,0,null,null,null,0,null,null,0,null,null,null,0,null,null,0,null,null,null,0,null,null,0,null,null,null,0,null,null,0]
[null,null,null,null,0,null,null,null,0,null,null,0,null,null,null,0,null,null,0,null,null,null,0,null,null,0,null,null,null,0,null,null,0,null,null,null,0,null,null,0]
[null,null,null,null,0,null,null,null,0,null,null,0,null,null,null,0,null,null,0,null,null,null,0,null,null,0,null,null,null,0,null,null,0,null,null,null,0,null,null,0]
[null,null,null,null,0,null,null,null,0,null,null,0,null,null,null,0,null,null,0,null,null,null,0,null,null,0,null,null,null,0,null,null,0,null,null,null,0,null,null,0]
[null,null,null,null,{"$f":"IF(D30<>\"\",D30,C30)","v":0},null,null,null,0,null,null,0,null,null,null,0,null,null,0,null,null,null,0,null,null,0,null,null,null,0,null,null,0,null,null,null,0,null,null,0]
[null,null,null,null,{"$f":"IF(D31<>\"\",D31,C31)","v":0},null,null,null,0,null,null,0,null,null,null,0,null,null,0,null,null,null,0,null,null,0,null,null,null,0,null,null,0,null,null,null,0,null,null,0]
[null,null,null,null,{"$f":"IF(D32<>\"\",D32,C32)","v":0},null,null,null,0,null,null,0,null,null,null,0,null,null,0,null,null,null,0,null,null,0,null,null,null,0,null,null,0,null,null,null,0,null,null,0]
[null,null,null,null,{"$f":"IF(D33<>\"\",D33,C33)","v":0},null,null,null,0,null,null,0,null,null,null,0,null,null,0,null,null,null,0,null,null,0,null,null,null,0,null,null,0,null,null,null,0,null,null,0]
[null,null,null,null,{"$f":"IF(D34<>\"\",D34,C34)","v":0},null,null,null,0,null,null,0,null,null,null,0,null,null,0,null,null,null,0,null,null,0,null,null,null,0,null,null,0,null,null,null,0,null,null,0]
[null,null,null,null,0,null,null,null,0,null,null,0,null,null,null,0,null,null,0,null,null,null,0,null,null,0,null,null,null,0,null,null,0,"真上窓面積",null,{"$f":"SUM(AK24:AK34)","v":0},null,"変更後",{"$f":"SUM(AN24:AN34)","v":0}]
[null,null,null,null,0,null,null,null,0,null,null,0,null,null,null,0,null,null,0,null,null,null,0,null,null,0,null,null,null,0,null,null,0,"方位別開口比％",null,{"$f":"IF(AJ37>0,INT(AJ35/AJ37*1000)/1000,\"\")","v":""},null,null,{"$f":"IF(AM37>0,INT(AM35/AM37*1000)/1000,\"\")","v":""}]
["居室面積合計",null,{"$f":"INT(SUM(C24:C36)*100)/100","v":0},{"$f":"INT(SUM(E24:E36)*100)/100","v":0},null,"北面窓面積",null,{"$f":"SUM(I24:I36)","v":0},null,"変更後",{"$f":"SUM(L24:L36)","v":0},null,"東面窓面積",null,{"$f":"SUM(P24:P36)","v":0},null,"変更後",{"$f":"SUM(S24:S36)","v":0},null,"南面窓面積",null,{"$f":"SUM(W24:W36)","v":0},null,"変更後",{"$f":"SUM(Z24:Z36)","v":0},null,"西面窓面積",null,{"$f":"SUM(AD24:AD36)","v":0},null,"変更後",{"$f":"SUM(AG24:AG36)","v":0},null,"開口総窓面積",null,{"$f":"SUM(H37,O37,V37,AC37,AJ35)","v":0},null,"変更後",{"$f":"SUM(K37,R37,Y37,AF37,AM35)","v":0}]
["開口率％",null,{"$f":"IF(C37>0,INT(AJ37/C37*1000)/1000,\"\")","v":""},{"$f":"IF(D37>0,INT(AM37/D37*1000)/1000,\"\")","v":""},null,"方位別開口比％",null,{"$f":"IF(AJ37>0,INT(H37/AJ37*1000)/1000,\"\")","v":""},null,null,{"$f":"IF(AM37>0,INT(K37/AM37*1000)/1000,\"\")","v":""},null,"方位別開口比％",null,{"$f":"IF(AJ37>0,INT(O37/AJ37*1000)/1000,\"\")","v":""},null,null,{"$f":"IF(AM37>0,INT(R37/AM37*1000)/1000,\"\")","v":""},null,"方位別開口比％",null,{"$f":"IF(AJ37>0,INT(V37/AJ37*1000)/1000,\"\")","v":""},null,null,{"$f":"IF(AM37>0,INT(Y37/AM37*1000)/1000,\"\")","v":""},null,"方位別開口比％",null,{"$f":"IF(AJ37>0,INT(AC37/AJ37*1000)/1000,\"\")","v":""},null,null,{"$f":"IF(AM37>0,INT(AF37/AM37*1000)/1000,\"\")","v":""}]
[]
["ｸﾞﾙｰﾌﾟ番号","室名","室面積ｍ２",null,null,"北面","設計評価時",null,"面積","変更の場合\n（建設評価時）",null,null,"東面","設計評価時",null,"面積","変更の場合\n（建設評価時）",null,null,"南面","設計評価時",null,"面積","変更の場合\n（建設評価時）",null,null,"西面","設計評価時",null,"面積","変更の場合\n（建設評価時）",null,null,"真上","設計評価時",null,"面積","変更の場合\n（建設評価時）"]
[null,null,"設計時","変更後",null,"建具","W","H",null,"W","H",null,"建具","W","H",null,"W","H",null,"建具","W","H",null,"W","H",null,"建具","W","H",null,"W","H",null,"建具","W","H",null,"W","H"]
[12,null,null,null,{"$f":"IF(D42<>\"\",D42,C42)","v":0},null,null,null,{"$f":"G42*H42","v":0},null,null,{"$f":"IF(AND(J42<>\"\",K42<>\"\"),J42*K42,I42)","v":0},null,null,null,{"$f":"N42*O42","v":0},null,null,{"$f":"IF(AND(Q42<>\"\",R42<>\"\"),Q42*R42,P42)","v":0},null,null,null,{"$f":"U42*V42","v":0},null,null,{"$f":"IF(AND(X42<>\"\",Y42<>\"\"),X42*Y42,W42)","v":0},null,null,null,{"$f":"AB42*AC42","v":0},null,null,{"$f":"IF(AND(AE42<>\"\",AF42<>\"\"),AE42*AF42,AD42)","v":0},null,null,null,{"$f":"AI42*AJ42","v":0},null,null,{"$f":"IF(AND(AL42<>\"\",AM42<>\"\"),AL42*AM42,AK42)","v":0}]
[null,null,null,null,0,null,null,null,0,null,null,0,null,null,null,0,null,null,0,null,null,null,0,null,null,0,null,null,null,0,null,null,0,null,null,null,0,null,null,0]
["住戸番号",null,null,null,0,null,null,null,0,null,null,0,null,null,null,0,null,null,0,null,null,null,0,null,null,0,null,null,null,0,null,null,0,null,null,null,0,null,null,0]
[null,null,null,null,0,null,null,null,0,null,null,0,null,null,null,0,null,null,0,null,null,null,0,null,null,0,null,null,null,0,null,null,0,null,null,null,0,null,null,0]
[null,null,null,null,0,null,null,null,0,null,null,0,null,null,null,0,null,null,0,null,null,null,0,null,null,0,null,null,null,0,null,null,0,null,null,null,0,null,null,0]
[null,null,null,null,0,null,null,null,0,null,null,0,null,null,null,0,null,null,0,null,null,null,0,null,null,0,null,null,null,0,null,null,0,null,null,null,0,null,null,0]
[null,null,null,null,0,null,null,null,0,null,null,0,null,null,null,0,null,null,0,null,null,null,0,null,null,0,null,null,null,0,null,null,0,null,null,null,0,null,null,0]
[null,null,null,null,0,null,null,null,0,null,null,0,null,null,null,0,null,null,0,null,null,null,0,null,null,0,null,null,null,0,null,null,0,null,null,null,0,null,null,0]
[null,null,null,null,0,null,null,null,0,null,null,0,null,null,null,0,null,null,0,null,null,null,0,null,null,0,null,null,null,0,null,null,0,null,null,null,0,null,null,0]
[null,null,null,null,0,null,null,null,0,null,null,0,null,null,null,0,null,null,0,null,null,null,0,null,null,0,null,null,null,0,null,null,0,null,null,null,0,null,null,0]
[null,null,null,null,0,null,null,null,0,null,null,0,null,null,null,0,null,null,0,null,null,null,0,null,null,0,null,null,null,0,null,null,0,null,null,null,0,null,null,0]
[null,null,null,null,0,null,null,null,0,null,null,0,null,null,null,0,null,null,0,null,null,null,0,null,null,0,null,null,null,0,null,null,0,"真上窓面積",null,{"$f":"SUM(AK42:AK52)","v":0},null,"変更後",{"$f":"SUM(AN42:AN52)","v":0}]
[null,null,null,null,0,null,null,null,0,null,null,0,null,null,null,0,null,null,0,null,null,null,0,null,null,0,null,null,null,0,null,null,0,"方位別開口比％",null,{"$f":"IF(AJ55>0,INT(AJ53/AJ55*1000)/1000,\"\")","v":""},null,null,{"$f":"IF(AM55>0,INT(AM53/AM55*1000)/1000,\"\")","v":""}]
["居室面積合計",null,{"$f":"INT(SUM(C42:C54)*100)/100","v":0},{"$f":"INT(SUM(E42:E54)*100)/100","v":0},null,"北面窓面積",null,{"$f":"SUM(I42:I54)","v":0},null,"変更後",{"$f":"SUM(L42:L54)","v":0},null,"東面窓面積",null,{"$f":"SUM(P42:P54)","v":0},null,"変更後",{"$f":"SUM(S42:S54)","v":0},null,"南面窓面積",null,{"$f":"SUM(W42:W54)","v":0},null,"変更後",{"$f":"SUM(Z42:Z54)","v":0},null,"西面窓面積",null,{"$f":"SUM(AD42:AD54)","v":0},null,"変更後",{"$f":"SUM(AG42:AG54)","v":0},null,"開口総窓面積",null,{"$f":"SUM(H55,O55,V55,AC55,AJ53)","v":0},null,"変更後",{"$f":"SUM(K55,R55,Y55,AF55,AM53)","v":0}]
["開口率％",null,{"$f":"IF(C55>0,INT(AJ55/C55*1000)/1000,\"\")","v":""},{"$f":"IF(D55>0,INT(AM55/D55*1000)/1000,\"\")","v":""},null,"方位別開口比％",null,{"$f":"IF(AJ55>0,INT(H55/AJ55*1000)/1000,\"\")","v":""},null,null,{"$f":"IF(AM55>0,INT(K55/AM55*1000)/1000,\"\")","v":""},null,"方位別開口比％",null,{"$f":"IF(AJ55>0,INT(O55/AJ55*1000)/1000,\"\")","v":""},null,null,{"$f":"IF(AM55>0,INT(R55/AM55*1000)/1000,\"\")","v":""},null,"方位別開口比％",null,{"$f":"IF(AJ55>0,INT(V55/AJ55*1000)/1000,\"\")","v":""},null,null,{"$f":"IF(AM55>0,INT(Y55/AM55*1000)/1000,\"\")","v":""},null,"方位別開口比％",null,{"$f":"IF(AJ55>0,INT(AC55/AJ55*1000)/1000,\"\")","v":""},null,null,{"$f":"IF(AM55>0,INT(AF55/AM55*1000)/1000,\"\")","v":""}]

{"sheet":"S5","index":6,"n_rows":56,"n_cols":40,"rows_kept":56,"cut":false,"hidden":false,"merged":[[19,0,19,1],[26,0,35,0],[44,0,53,0],[23,0,24,0],[41,0,42,0],[36,0,36,1],[37,0,37,1],[39,0,40,0],[39,1,40,1],[21,0,22,0],[21,1,22,1],[0,23,0,30],[1,27,1,30],[3,27,3,28],[3,6,3,7],[18,0,18,1],[3,2,3,3],[3,9,3,10],[3,20,3,21],[1,9,1,10],[5,0,6,0],[8,0,17,0],[3,0,4,0],[3,1,4,1],[3,23,3,24],[3,13,3,14],[21,2,21,3],[3,37,3,38],[3,30,3,31],[3,34,3,35],[3,16,3,17],[21,37,21,38],[21,23,21,24],[21,27,21,28],[21,30,21,31],[21,34,21,35],[21,6,21,7],[21,9,21,10],[21,13,21,14],[21,16,21,17],[21,20,21,21],[39,37,39,38],[39,16,39,17],[39,20,39,21],[39,23,39,24],[39,27,39,28],[54,0,54,1],[55,0,55,1],[39,30,39,31],[39,34,39,35],[39,9,39,10],[39,13,39,14],[39,2,39,3],[39,6,39,7]]}
["７　光視環境に関すること",null,null,null,null,null,null,null,null,null,null,null,null,null,null,null,null,null,null,null,null,"（案件名称：",null,{"$f":"建具開口!H1","v":0},null,null,null,null,null,null,null,"）",null,"PAGE：  /",null,null,null,null,"光視環境②"]
[null,"開口部面積計算シートB",null,null,null,null,null,{"$f":"'S1'!H2","v":"BL1"},null,null,null,null,null,"申請者\n記入",null,null,"自動\n記入",null,null,"変更時\n記入","（単位　長さ：m、面積：m2）",null,null,null,null,null,null,{"$f":"建具開口!K2","v":"00:00:00"},null,null,null,null,null,null,null,null,null,null,"UHEC都市居住評価センター"]
[]
["ｸﾞﾙｰﾌﾟ番号","室名","室面積ｍ２",null,null,"北面","設計評価時",null,"面積","変更の場合\n（建設評価時）",null,null,"東面","設計評価時",null,"面積","変更の場合\n（建設評価時）",null,null,"南面","設計評価時",null,"面積","変更の場合\n（建設評価時）",null,null,"西面","設計評価時",null,"面積","変更の場合\n（建設評価時）",null,null,"真上","設計評価時",null,"面積","変更の場合\n（建設評価時）"]
[null,null,"設計時","変更後",null,"建具","W","H",null,"W","H",null,"建具","W","H",null,"W","H",null,"建具","W","H",null,"W","H",null,"建具","W","H",null,"W","H",null,"建具","W","H",null,"W","H"]
[13,null,null,null,{"$f":"IF(D6<>\"\",D6,C6)","v":0},null,null,null,{"$f":"G6*H6","v":0},null,null,{"$f":"IF(AND(J6<>\"\",K6<>\"\"),J6*K6,I6)","v":0},null,null,null,{"$f":"N6*O6","v":0},null,null,{"$f":"IF(AND(Q6<>\"\",R6<>\"\"),Q6*R6,P6)","v":0},null,null,null,{"$f":"U6*V6","v":0},null,null,{"$f":"IF(AND(X6<>\"\",Y6<>\"\"),X6*Y6,W6)","v":0},null,null,null,{"$f":"AB6*AC6","v":0},null,null,{"$f":"IF(AND(AE6<>\"\",AF6<>\"\"),AE6*AF6,AD6)","v":0},null,null,null,{"$f":"AI6*AJ6","v":0},null,null,{"$f":"IF(AND(AL6<>\"\",AM6<>\"\"),AL6*AM6,AK6)","v":0}]
[null,null,null,null,0,null,null,null,0,null,null,0,null,null,null,0,null,null,0,null,null,null,0,null,null,0,null,null,null,0,null,null,0,null,null,null,0,null,null,0]
["住戸番号",null,null,null,0,null,null,null,0,null,null,0,null,null,null,0,null,null,0,null,null,null,0,null,null,0,null,null,null,0,null,null,0,null,null,null,0,null,null,0]
[null,null,null,null,0,null,null,null,0,null,null,0,null,null,null,0,null,null,0,null,null,null,0,null,null,0,null,null,null,0,null,null,0,null,null,null,0,null,null,0]
[null,null,null,null,0,null,null,null,0,null,null,0,null,null,null,0,null,null,0,null,null,null,0,null,null,0,null,null,null,0,null,null,0,null,null,null,0,null,null,0]
[null,null,null,null,0,null,null,null,0,null,null,0,null,null,null,0,null,null,0,null,null,null,0,null,null,0,null,null,null,0,null,null,0,null,null,null,0,null,null,0]
[null,null,null,null,0,null,null,null,0,null,null,0,null,null,null,0,null,null,0,null,null,null,0,null,null,0,null,null,null,0,null,null,0,null,null,null,0,null,null,0]
[null,null,null,null,0,null,null,null,0,null,null,0,null,null,null,0,null,null,0,null,null,null,0,null,null,0,null,null,null,0,null,null,0,null,null,null,0,null,null,0]
[null,null,null,null,0,null,null,null,0,null,null,0,null,null,null,0,null,null,0,null,null,null,0,null,null,0,null,null,null,0,null,null,0,null,null,null,0,null,null,0]
[null,null,null,null,0,null,null,null,0,null,null,0,null,null,null,0,null,null,0,null,null,null,0,null,null,0,null,null,null,0,null,null,0,null,null,null,0,null,null,0]
[null,null,null,null,0,null,null,null,0,null,null,0,null,null,null,0,null,null,0,null,null,null,0,null,null,0,null,null,null,0,null,null,0,null,null,null,0,null,null,0]
[null,null,null,null,0,null,null,null,0,null,null,0,null,null,null,0,null,null,0,null,null,null,0,null,null,0,null,null,null,0,null,null,0,"真上窓面積",null,{"$f":"SUM(AK6:AK16)","v":0},null,"変更後",{"$f":"SUM(AN6:AN16)","v":0}]
[null,null,null,null,0,null,null,null,0,null,null,0,null,null,null,0,null,null,0,null,null,null,0,null,null,0,null,null,null,0,null,null,0,"方位別開口比％",null,{"$f":"IF(AJ19>0,INT(AJ17/AJ19*1000)/1000,\"\")","v":""},null,null,{"$f":"IF(AM19>0,INT(AM17/AM19*1000)/1000,\"\")","v":""}]
["居室面積合計",null,{"$f":"INT(SUM(C6:C18)*100)/100","v":0},{"$f":"INT(SUM(E6:E18)*100)/100","v":0},null,"北面窓面積",null,{"$f":"SUM(I6:I18)","v":0},null,"変更後",{"$f":"SUM(L6:L18)","v":0},null,"東面窓面積",null,{"$f":"SUM(P6:P18)","v":0},null,"変更後",{"$f":"SUM(S6:S18)","v":0},null,"南面窓面積",null,{"$f":"SUM(W6:W18)","v":0},null,"変更後",{"$f":"SUM(Z6:Z18)","v":0},null,"西面窓面積",null,{"$f":"SUM(AD6:AD18)","v":0},null,"変更後",{"$f":"SUM(AG6:AG18)","v":0},null,"開口総窓面積",null,{"$f":"SUM(H19,O19,V19,AC19,AJ17)","v":0},null,"変更後",{"$f":"SUM(K19,R19,Y19,AF19,AM17)","v":0}]
["開口率％",null,{"$f":"IF(C19>0,INT(AJ19/C19*1000)/1000,\"\")","v":""},{"$f":"IF(D19>0,INT(AM19/D19*1000)/1000,\"\")","v":""},null,"方位別開口比％",null,{"$f":"IF(AJ19>0,INT(H19/AJ19*1000)/1000,\"\")","v":""},null,null,{"$f":"IF(AM19>0,INT(K19/AM19*1000)/1000,\"\")","v":""},null,"方位別開口比％",null,{"$f":"IF(AJ19>0,INT(O19/AJ19*1000)/1000,\"\")","v":""},null,null,{"$f":"IF(AM19>0,INT(R19/AM19*1000)/1000,\"\")","v":""},null,"方位別開口比％",null,{"$f":"IF(AJ19>0,INT(V19/AJ19*1000)/1000,\"\")","v":""},null,null,{"$f":"IF(AM19>0,INT(Y19/AM19*1000)/1000,\"\")","v":""},null,"方位別開口比％",null,{"$f":"IF(AJ19>0,INT(AC19/AJ19*1000)/1000,\"\")","v":""},null,null,{"$f":"IF(AM19>0,INT(AF19/AM19*1000)/1000,\"\")","v":""}]
[]
["ｸﾞﾙｰﾌﾟ番号","室名","室面積ｍ２",null,null,"北面","設計評価時",null,"面積","変更の場合\n（建設評価時）",null,null,"東面","設計評価時",null,"面積","変更の場合\n（建設評価時）",null,null,"南面","設計評価時",null,"面積","変更の場合\n（建設評価時）",null,null,"西面","設計評価時",null,"面積","変更の場合\n（建設評価時）",null,null,"真上","設計評価時",null,"面積","変更の場合\n（建設評価時）"]
[null,null,"設計時","変更後",null,"建具","W","H",null,"W","H",null,"建具","W","H",null,"W","H",null,"建具","W","H",null,"W","H",null,"建具","W","H",null,"W","H",null,"建具","W","H",null,"W","H"]
[14,null,null,null,{"$f":"IF(D24<>\"\",D24,C24)","v":0},null,null,null,{"$f":"G24*H24","v":0},null,null,{"$f":"IF(AND(J24<>\"\",K24<>\"\"),J24*K24,I24)","v":0},null,null,null,{"$f":"N24*O24","v":0},null,null,{"$f":"IF(AND(Q24<>\"\",R24<>\"\"),Q24*R24,P24)","v":0},null,null,null,{"$f":"U24*V24","v":0},null,null,{"$f":"IF(AND(X24<>\"\",Y24<>\"\"),X24*Y24,W24)","v":0},null,null,null,{"$f":"AB24*AC24","v":0},null,null,{"$f":"IF(AND(AE24<>\"\",AF24<>\"\"),AE24*AF24,AD24)","v":0},null,null,null,{"$f":"AI24*AJ24","v":0},null,null,{"$f":"IF(AND(AL24<>\"\",AM24<>\"\"),AL24*AM24,AK24)","v":0}]
[null,null,null,null,0,null,null,null,0,null,null,0,null,null,null,0,null,null,0,null,null,null,0,null,null,0,null,null,null,0,null,null,0,null,null,null,0,null,null,0]
["住戸番号",null,null,null,0,null,null,null,0,null,null,0,null,null,null,0,null,null,0,null,null,null,0,null,null,0,null,null,null,0,null,null,0,null,null,null,0,null,null,0]
[null,null,null,null,0,null,null,null,0,null,null,0,null,null,null,0,null,null,0,null,null,null,0,null,null,0,null,null,null,0,null,null,0,null,null,null,0,null,null,0]
[null,null,null,null,0,null,null,null,0,null,null,0,null,null,null,0,null,null,0,null,null,null,0,null,null,0,null,null,null,0,null,null,0,null,null,null,0,null,null,0]
[null,null,null,null,0,null,null,null,0,null,null,0,null,null,null,0,null,null,0,null,null,null,0,null,null,0,null,null,null,0,null,null,0,null,null,null,0,null,null,0]
[null,null,null,null,0,null,null,null,0,null,null,0,null,null,null,0,null,null,0,null,null,null,0,null,null,0,null,null,null,0,null,null,0,null,null,null,0,null,null,0]
[null,null,null,null,0,null,null,null,0,null,null,0,null,null,null,0,null,null,0,null,null,null,0,null,null,0,null,null,null,0,null,null,0,null,null,null,0,null,null,0]
[null,null,null,null,0,null,null,null,0,null,null,0,null,null,null,0,null,null,0,null,null,null,0,null,null,0,null,null,null,0,null,null,0,null,null,null,0,null,null,0]
[null,null,null,null,0,null,null,null,0,null,null,0,null,null,null,0,null,null,0,null,null,null,0,null,null,0,null,null,null,0,null,null,0,null,null,null,0,null,null,0]
[null,null,null,null,0,null,null,null,0,null,null,0,null,null,null,0,null,null,0,null,null,null,0,null,null,0,null,null,null,0,null,null,0,null,null,null,0,null,null,0]
[null,null,null,null,0,null,null,null,0,null,null,0,null,null,null,0,null,null,0,null,null,null,0,null,null,0,null,null,null,0,null,null,0,"真上窓面積",null,{"$f":"SUM(AK24:AK34)","v":0},null,"変更後",{"$f":"SUM(AN24:AN34)","v":0}]
[null,null,null,null,0,null,null,null,0,null,null,0,null,null,null,0,null,null,0,null,null,null,0,null,null,0,null,null,null,0,null,null,0,"方位別開口比％",null,{"$f":"IF(AJ37>0,INT(AJ35/AJ37*1000)/1000,\"\")","v":""},null,null,{"$f":"IF(AM37>0,INT(AM35/AM37*1000)/1000,\"\")","v":""}]
["居室面積合計",null,{"$f":"INT(SUM(C24:C36)*100)/100","v":0},{"$f":"INT(SUM(E24:E36)*100)/100","v":0},null,"北面窓面積",null,{"$f":"SUM(I24:I36)","v":0},null,"変更後",{"$f":"SUM(L24:L36)","v":0},null,"東面窓面積",null,{"$f":"SUM(P24:P36)","v":0},null,"変更後",{"$f":"SUM(S24:S36)","v":0},null,"南面窓面積",null,{"$f":"SUM(W24:W36)","v":0},null,"変更後",{"$f":"SUM(Z24:Z36)","v":0},null,"西面窓面積",null,{"$f":"SUM(AD24:AD36)","v":0},null,"変更後",{"$f":"SUM(AG24:AG36)","v":0},null,"開口総窓面積",null,{"$f":"SUM(H37,O37,V37,AC37,AJ35)","v":0},null,"変更後",{"$f":"SUM(K37,R37,Y37,AF37,AM35)","v":0}]
["開口率％",null,{"$f":"IF(C37>0,INT(AJ37/C37*1000)/1000,\"\")","v":""},{"$f":"IF(D37>0,INT(AM37/D37*1000)/1000,\"\")","v":""},null,"方位別開口比％",null,{"$f":"IF(AJ37>0,INT(H37/AJ37*1000)/1000,\"\")","v":""},null,null,{"$f":"IF(AM37>0,INT(K37/AM37*1000)/1000,\"\")","v":""},null,"方位別開口比％",null,{"$f":"IF(AJ37>0,INT(O37/AJ37*1000)/1000,\"\")","v":""},null,null,{"$f":"IF(AM37>0,INT(R37/AM37*1000)/1000,\"\")","v":""},null,"方位別開口比％",null,{"$f":"IF(AJ37>0,INT(V37/AJ37*1000)/1000,\"\")","v":""},null,null,{"$f":"IF(AM37>0,INT(Y37/AM37*1000)/1000,\"\")","v":""},null,"方位別開口比％",null,{"$f":"IF(AJ37>0,INT(AC37/AJ37*1000)/1000,\"\")","v":""},null,null,{"$f":"IF(AM37>0,INT(AF37/AM37*1000)/1000,\"\")","v":""}]
[]
["ｸﾞﾙｰﾌﾟ番号","室名","室面積ｍ２",null,null,"北面","設計評価時",null,"面積","変更の場合\n（建設評価時）",null,null,"東面","設計評価時",null,"面積","変更の場合\n（建設評価時）",null,null,"南面","設計評価時",null,"面積","変更の場合\n（建設評価時）",null,null,"西面","設計評価時",null,"面積","変更の場合\n（建設評価時）",null,null,"真上","設計評価時",null,"面積","変更の場合\n（建設評価時）"]
[null,null,"設計時","変更後",null,"建具","W","H",null,"W","H",null,"建具","W","H",null,"W","H",null,"建具","W","H",null,"W","H",null,"建具","W","H",null,"W","H",null,"建具","W","H",null,"W","H"]
[15,null,null,null,{"$f":"IF(D42<>\"\",D42,C42)","v":0},null,null,null,{"$f":"G42*H42","v":0},null,null,{"$f":"IF(AND(J42<>\"\",K42<>\"\"),J42*K42,I42)","v":0},null,null,null,{"$f":"N42*O42","v":0},null,null,{"$f":"IF(AND(Q42<>\"\",R42<>\"\"),Q42*R42,P42)","v":0},null,null,null,{"$f":"U42*V42","v":0},null,null,{"$f":"IF(AND(X42<>\"\",Y42<>\"\"),X42*Y42,W42)","v":0},null,null,null,{"$f":"AB42*AC42","v":0},null,null,{"$f":"IF(AND(AE42<>\"\",AF42<>\"\"),AE42*AF42,AD42)","v":0},null,null,null,{"$f":"AI42*AJ42","v":0},null,null,{"$f":"IF(AND(AL42<>\"\",AM42<>\"\"),AL42*AM42,AK42)","v":0}]
[null,null,null,null,0,null,null,null,0,null,null,0,null,null,null,0,null,null,0,null,null,null,0,null,null,0,null,null,null,0,null,null,0,null,null,null,0,null,null,0]
["住戸番号",null,null,null,0,null,null,null,0,null,null,0,null,null,null,0,null,null,0,null,null,null,0,null,null,0,null,null,null,0,null,null,0,null,null,null,0,null,null,0]
[null,null,null,null,0,null,null,null,0,null,null,0,null,null,null,0,null,null,0,null,null,null,0,null,null,0,null,null,null,0,null,null,0,null,null,null,0,null,null,0]
[null,null,null,null,0,null,null,null,0,null,null,0,null,null,null,0,null,null,0,null,null,null,0,null,null,0,null,null,null,0,null,null,0,null,null,null,0,null,null,0]
[null,null,null,null,0,null,null,null,0,null,null,0,null,null,null,0,null,null,0,null,null,null,0,null,null,0,null,null,null,0,null,null,0,null,null,null,0,null,null,0]
[null,null,null,null,0,null,null,null,0,null,null,0,null,null,null,0,null,null,0,null,null,null,0,null,null,0,null,null,null,0,null,null,0,null,null,null,0,null,null,0]
[null,null,null,null,0,null,null,null,0,null,null,0,null,null,null,0,null,null,0,null,null,null,0,null,null,0,null,null,null,0,null,null,0,null,null,null,0,null,null,0]
[null,null,null,null,0,null,null,null,0,null,null,0,null,null,null,0,null,null,0,null,null,null,0,null,null,0,null,null,null,0,null,null,0,null,null,null,0,null,null,0]
[null,null,null,null,0,null,null,null,0,null,null,0,null,null,null,0,null,null,0,null,null,null,0,null,null,0,null,null,null,0,null,null,0,null,null,null,0,null,null,0]
[null,null,null,null,0,null,null,null,0,null,null,0,null,null,null,0,null,null,0,null,null,null,0,null,null,0,null,null,null,0,null,null,0,null,null,null,0,null,null,0]
[null,null,null,null,0,null,null,null,0,null,null,0,null,null,null,0,null,null,0,null,null,null,0,null,null,0,null,null,null,0,null,null,0,"真上窓面積",null,{"$f":"SUM(AK42:AK52)","v":0},null,"変更後",{"$f":"SUM(AN42:AN52)","v":0}]
[null,null,null,null,0,null,null,null,0,null,null,0,null,null,null,0,null,null,0,null,null,null,0,null,null,0,null,null,null,0,null,null,0,"方位別開口比％",null,{"$f":"IF(AJ55>0,INT(AJ53/AJ55*1000)/1000,\"\")","v":""},null,null,{"$f":"IF(AM55>0,INT(AM53/AM55*1000)/1000,\"\")","v":""}]
["居室面積合計",null,{"$f":"INT(SUM(C42:C54)*100)/100","v":0},{"$f":"INT(SUM(E42:E54)*100)/100","v":0},null,"北面窓面積",null,{"$f":"SUM(I42:I54)","v":0},null,"変更後",{"$f":"SUM(L42:L54)","v":0},null,"東面窓面積",null,{"$f":"SUM(P42:P54)","v":0},null,"変更後",{"$f":"SUM(S42:S54)","v":0},null,"南面窓面積",null,{"$f":"SUM(W42:W54)","v":0},null,"変更後",{"$f":"SUM(Z42:Z54)","v":0},null,"西面窓面積",null,{"$f":"SUM(AD42:AD54)","v":0},null,"変更後",{"$f":"SUM(AG42:AG54)","v":0},null,"開口総窓面積",null,{"$f":"SUM(H55,O55,V55,AC55,AJ53)","v":0},null,"変更後",{"$f":"SUM(K55,R55,Y55,AF55,AM53)","v":0}]
["開口率％",null,{"$f":"IF(C55>0,INT(AJ55/C55*1000)/1000,\"\")","v":""},{"$f":"IF(D55>0,INT(AM55/D55*1000)/1000,\"\")","v":""},null,"方位別開口比％",null,{"$f":"IF(AJ55>0,INT(H55/AJ55*1000)/1000,\"\")","v":""},null,null,{"$f":"IF(AM55>0,INT(K55/AM55*1000)/1000,\"\")","v":""},null,"方位別開口比％",null,{"$f":"IF(AJ55>0,INT(O55/AJ55*1000)/1000,\"\")","v":""},null,null,{"$f":"IF(AM55>0,INT(R55/AM55*1000)/1000,\"\")","v":""},null,"方位別開口比％",null,{"$f":"IF(AJ55>0,INT(V55/AJ55*1000)/1000,\"\")","v":""},null,null,{"$f":"IF(AM55>0,INT(Y55/AM55*1000)/1000,\"\")","v":""},null,"方位別開口比％",null,{"$f":"IF(AJ55>0,INT(AC55/AJ55*1000)/1000,\"\")","v":""},null,null,{"$f":"IF(AM55>0,INT(AF55/AM55*1000)/1000,\"\")","v":""}]

{"sheet":"S6","index":7,"n_rows":56,"n_cols":40,"rows_kept":56,"cut":false,"hidden":false,"merged":[[19,0,19,1],[26,0,35,0],[44,0,53,0],[23,0,24,0],[41,0,42,0],[36,0,36,1],[37,0,37,1],[39,0,40,0],[39,1,40,1],[21,0,22,0],[21,1,22,1],[0,23,0,30],[1,27,1,30],[3,27,3,28],[3,6,3,7],[18,0,18,1],[3,2,3,3],[3,9,3,10],[3,20,3,21],[1,9,1,10],[5,0,6,0],[8,0,17,0],[3,0,4,0],[3,1,4,1],[3,23,3,24],[3,13,3,14],[21,2,21,3],[3,37,3,38],[3,30,3,31],[3,34,3,35],[3,16,3,17],[21,37,21,38],[21,23,21,24],[21,27,21,28],[21,30,21,31],[21,34,21,35],[21,6,21,7],[21,9,21,10],[21,13,21,14],[21,16,21,17],[21,20,21,21],[39,37,39,38],[39,16,39,17],[39,20,39,21],[39,23,39,24],[39,27,39,28],[54,0,54,1],[55,0,55,1],[39,30,39,31],[39,34,39,35],[39,9,39,10],[39,13,39,14],[39,2,39,3],[39,6,39,7]]}
["７　光視環境に関すること",null,null,null,null,null,null,null,null,null,null,null,null,null,null,null,null,null,null,null,null,"（案件名称：",null,{"$f":"建具開口!H1","v":0},null,null,null,null,null,null,null,"）",null,"PAGE：  /",null,null,null,null,"光視環境②"]
[null,"開口部面積計算シートB",null,null,null,null,null,{"$f":"'S1'!H2","v":"BL1"},null,null,null,null,null,"申請者\n記入",null,null,"自動\n記入",null,null,"変更時\n記入","（単位　長さ：m、面積：m2）",null,null,null,null,null,null,{"$f":"建具開口!K2","v":"00:00:00"},null,null,null,null,null,null,null,null,null,null,"UHEC都市居住評価センター"]
[]
["ｸﾞﾙｰﾌﾟ番号","室名","室面積ｍ２",null,null,"北面","設計評価時",null,"面積","変更の場合\n（建設評価時）",null,null,"東面","設計評価時",null,"面積","変更の場合\n（建設評価時）",null,null,"南面","設計評価時",null,"面積","変更の場合\n（建設評価時）",null,null,"西面","設計評価時",null,"面積","変更の場合\n（建設評価時）",null,null,"真上","設計評価時",null,"面積","変更の場合\n（建設評価時）"]
[null,null,"設計時","変更後",null,"建具","W","H",null,"W","H",null,"建具","W","H",null,"W","H",null,"建具","W","H",null,"W","H",null,"建具","W","H",null,"W","H",null,"建具","W","H",null,"W","H"]
[16,null,null,null,{"$f":"IF(D6<>\"\",D6,C6)","v":0},null,null,null,{"$f":"G6*H6","v":0},null,null,{"$f":"IF(AND(J6<>\"\",K6<>\"\"),J6*K6,I6)","v":0},null,null,null,{"$f":"N6*O6","v":0},null,null,{"$f":"IF(AND(Q6<>\"\",R6<>\"\"),Q6*R6,P6)","v":0},null,null,null,{"$f":"U6*V6","v":0},null,null,{"$f":"IF(AND(X6<>\"\",Y6<>\"\"),X6*Y6,W6)","v":0},null,null,null,{"$f":"AB6*AC6","v":0},null,null,{"$f":"IF(AND(AE6<>\"\",AF6<>\"\"),AE6*AF6,AD6)","v":0},null,null,null,{"$f":"AI6*AJ6","v":0},null,null,{"$f":"IF(AND(AL6<>\"\",AM6<>\"\"),AL6*AM6,AK6)","v":0}]
[null,null,null,null,0,null,null,null,0,null,null,0,null,null,null,0,null,null,0,null,null,null,0,null,null,0,null,null,null,0,null,null,0,null,null,null,0,null,null,0]
["住戸番号",null,null,null,0,null,null,null,0,null,null,0,null,null,null,0,null,null,0,null,null,null,0,null,null,0,null,null,null,0,null,null,0,null,null,null,0,null,null,0]
[null,null,null,null,0,null,null,null,0,null,null,0,null,null,null,0,null,null,0,null,null,null,0,null,null,0,null,null,null,0,null,null,0,null,null,null,0,null,null,0]
[null,null,null,null,0,null,null,null,0,null,null,0,null,null,null,0,null,null,0,null,null,null,0,null,null,0,null,null,null,0,null,null,0,null,null,null,0,null,null,0]
[null,null,null,null,0,null,null,null,0,null,null,0,null,null,null,0,null,null,0,null,null,null,0,null,null,0,null,null,null,0,null,null,0,null,null,null,0,null,null,0]
[null,null,null,null,0,null,null,null,0,null,null,0,null,null,null,0,null,null,0,null,null,null,0,null,null,0,null,null,null,0,null,null,0,null,null,null,0,null,null,0]
[null,null,null,null,0,null,null,null,0,null,null,0,null,null,null,0,null,null,0,null,null,null,0,null,null,0,null,null,null,0,null,null,0,null,null,null,0,null,null,0]
[null,null,null,null,0,null,null,null,0,null,null,0,null,null,null,0,null,null,0,null,null,null,0,null,null,0,null,null,null,0,null,null,0,null,null,null,0,null,null,0]
[null,null,null,null,0,null,null,null,0,null,null,0,null,null,null,0,null,null,0,null,null,null,0,null,null,0,null,null,null,0,null,null,0,null,null,null,0,null,null,0]
[null,null,null,null,0,null,null,null,0,null,null,0,null,null,null,0,null,null,0,null,null,null,0,null,null,0,null,null,null,0,null,null,0,null,null,null,0,null,null,0]
[null,null,null,null,0,null,null,null,0,null,null,0,null,null,null,0,null,null,0,null,null,null,0,null,null,0,null,null,null,0,null,null,0,"真上窓面積",null,{"$f":"SUM(AK6:AK16)","v":0},null,"変更後",{"$f":"SUM(AN6:AN16)","v":0}]
[null,null,null,null,0,null,null,null,0,null,null,0,null,null,null,0,null,null,0,null,null,null,0,null,null,0,null,null,null,0,null,null,0,"方位別開口比％",null,{"$f":"IF(AJ19>0,INT(AJ17/AJ19*1000)/1000,\"\")","v":""},null,null,{"$f":"IF(AM19>0,INT(AM17/AM19*1000)/1000,\"\")","v":""}]
["居室面積合計",null,{"$f":"INT(SUM(C6:C18)*100)/100","v":0},{"$f":"INT(SUM(E6:E18)*100)/100","v":0},null,"北面窓面積",null,{"$f":"SUM(I6:I18)","v":0},null,"変更後",{"$f":"SUM(L6:L18)","v":0},null,"東面窓面積",null,{"$f":"SUM(P6:P18)","v":0},null,"変更後",{"$f":"SUM(S6:S18)","v":0},null,"南面窓面積",null,{"$f":"SUM(W6:W18)","v":0},null,"変更後",{"$f":"SUM(Z6:Z18)","v":0},null,"西面窓面積",null,{"$f":"SUM(AD6:AD18)","v":0},null,"変更後",{"$f":"SUM(AG6:AG18)","v":0},null,"開口総窓面積",null,{"$f":"SUM(H19,O19,V19,AC19,AJ17)","v":0},null,"変更後",{"$f":"SUM(K19,R19,Y19,AF19,AM17)","v":0}]
["開口率％",null,{"$f":"IF(C19>0,INT(AJ19/C19*1000)/1000,\"\")","v":""},{"$f":"IF(D19>0,INT(AM19/D19*1000)/1000,\"\")","v":""},null,"方位別開口比％",null,{"$f":"IF(AJ19>0,INT(H19/AJ19*1000)/1000,\"\")","v":""},null,null,{"$f":"IF(AM19>0,INT(K19/AM19*1000)/1000,\"\")","v":""},null,"方位別開口比％",null,{"$f":"IF(AJ19>0,INT(O19/AJ19*1000)/1000,\"\")","v":""},null,null,{"$f":"IF(AM19>0,INT(R19/AM19*1000)/1000,\"\")","v":""},null,"方位別開口比％",null,{"$f":"IF(AJ19>0,INT(V19/AJ19*1000)/1000,\"\")","v":""},null,null,{"$f":"IF(AM19>0,INT(Y19/AM19*1000)/1000,\"\")","v":""},null,"方位別開口比％",null,{"$f":"IF(AJ19>0,INT(AC19/AJ19*1000)/1000,\"\")","v":""},null,null,{"$f":"IF(AM19>0,INT(AF19/AM19*1000)/1000,\"\")","v":""}]
[]
["ｸﾞﾙｰﾌﾟ番号","室名","室面積ｍ２",null,null,"北面","設計評価時",null,"面積","変更の場合\n（建設評価時）",null,null,"東面","設計評価時",null,"面積","変更の場合\n（建設評価時）",null,null,"南面","設計評価時",null,"面積","変更の場合\n（建設評価時）",null,null,"西面","設計評価時",null,"面積","変更の場合\n（建設評価時）",null,null,"真上","設計評価時",null,"面積","変更の場合\n（建設評価時）"]
[null,null,"設計時","変更後",null,"建具","W","H",null,"W","H",null,"建具","W","H",null,"W","H",null,"建具","W","H",null,"W","H",null,"建具","W","H",null,"W","H",null,"建具","W","H",null,"W","H"]
[17,null,null,null,{"$f":"IF(D24<>\"\",D24,C24)","v":0},null,null,null,{"$f":"G24*H24","v":0},null,null,{"$f":"IF(AND(J24<>\"\",K24<>\"\"),J24*K24,I24)","v":0},null,null,null,{"$f":"N24*O24","v":0},null,null,{"$f":"IF(AND(Q24<>\"\",R24<>\"\"),Q24*R24,P24)","v":0},null,null,null,{"$f":"U24*V24","v":0},null,null,{"$f":"IF(AND(X24<>\"\",Y24<>\"\"),X24*Y24,W24)","v":0},null,null,null,{"$f":"AB24*AC24","v":0},null,null,{"$f":"IF(AND(AE24<>\"\",AF24<>\"\"),AE24*AF24,AD24)","v":0},null,null,null,{"$f":"AI24*AJ24","v":0},null,null,{"$f":"IF(AND(AL24<>\"\",AM24<>\"\"),AL24*AM24,AK24)","v":0}]
[null,null,null,null,0,null,null,null,0,null,null,0,null,null,null,0,null,null,0,null,null,null,0,null,null,0,null,null,null,0,null,null,0,null,null,null,0,null,null,0]
["住戸番号",null,null,null,0,null,null,null,0,null,null,0,null,null,null,0,null,null,0,null,null,null,0,null,null,0,null,null,null,0,null,null,0,null,null,null,0,null,null,0]
[null,null,null,null,0,null,null,null,0,null,null,0,null,null,null,0,null,null,0,null,null,null,0,null,null,0,null,null,null,0,null,null,0,null,null,null,0,null,null,0]
[null,null,null,null,0,null,null,null,0,null,null,0,null,null,null,0,null,null,0,null,null,null,0,null,null,0,null,null,null,0,null,null,0,null,null,null,0,null,null,0]
[null,null,null,null,0,null,null,null,0,null,null,0,null,null,null,0,null,null,0,null,null,null,0,null,null,0,null,null,null,0,null,null,0,null,null,null,0,null,null,0]
[null,null,null,null,0,null,null,null,0,null,null,0,null,null,null,0,null,null,0,null,null,null,0,null,null,0,null,null,null,0,null,null,0,null,null,null,0,null,null,0]
[null,null,null,null,0,null,null,null,0,null,null,0,null,null,null,0,null,null,0,null,null,null,0,null,null,0,null,null,null,0,null,null,0,null,null,null,0,null,null,0]
[null,null,null,null,0,null,null,null,0,null,null,0,null,null,null,0,null,null,0,null,null,null,0,null,null,0,null,null,null,0,null,null,0,null,null,null,0,null,null,0]
[null,null,null,null,0,null,null,null,0,null,null,0,null,null,null,0,null,null,0,null,null,null,0,null,null,0,null,null,null,0,null,null,0,null,null,null,0,null,null,0]
[null,null,null,null,0,null,null,null,0,null,null,0,null,null,null,0,null,null,0,null,null,null,0,null,null,0,null,null,null,0,null,null,0,null,null,null,0,null,null,0]
[null,null,null,null,0,null,null,null,0,null,null,0,null,null,null,0,null,null,0,null,null,null,0,null,null,0,null,null,null,0,null,null,0,"真上窓面積",null,{"$f":"SUM(AK24:AK34)","v":0},null,"変更後",{"$f":"SUM(AN24:AN34)","v":0}]
[null,null,null,null,0,null,null,null,0,null,null,0,null,null,null,0,null,null,0,null,null,null,0,null,null,0,null,null,null,0,null,null,0,"方位別開口比％",null,{"$f":"IF(AJ37>0,INT(AJ35/AJ37*1000)/1000,\"\")","v":""},null,null,{"$f":"IF(AM37>0,INT(AM35/AM37*1000)/1000,\"\")","v":""}]
["居室面積合計",null,{"$f":"INT(SUM(C24:C36)*100)/100","v":0},{"$f":"INT(SUM(E24:E36)*100)/100","v":0},null,"北面窓面積",null,{"$f":"SUM(I24:I36)","v":0},null,"変更後",{"$f":"SUM(L24:L36)","v":0},null,"東面窓面積",null,{"$f":"SUM(P24:P36)","v":0},null,"変更後",{"$f":"SUM(S24:S36)","v":0},null,"南面窓面積",null,{"$f":"SUM(W24:W36)","v":0},null,"変更後",{"$f":"SUM(Z24:Z36)","v":0},null,"西面窓面積",null,{"$f":"SUM(AD24:AD36)","v":0},null,"変更後",{"$f":"SUM(AG24:AG36)","v":0},null,"開口総窓面積",null,{"$f":"SUM(H37,O37,V37,AC37,AJ35)","v":0},null,"変更後",{"$f":"SUM(K37,R37,Y37,AF37,AM35)","v":0}]
["開口率％",null,{"$f":"IF(C37>0,INT(AJ37/C37*1000)/1000,\"\")","v":""},{"$f":"IF(D37>0,INT(AM37/D37*1000)/1000,\"\")","v":""},null,"方位別開口比％",null,{"$f":"IF(AJ37>0,INT(H37/AJ37*1000)/1000,\"\")","v":""},null,null,{"$f":"IF(AM37>0,INT(K37/AM37*1000)/1000,\"\")","v":""},null,"方位別開口比％",null,{"$f":"IF(AJ37>0,INT(O37/AJ37*1000)/1000,\"\")","v":""},null,null,{"$f":"IF(AM37>0,INT(R37/AM37*1000)/1000,\"\")","v":""},null,"方位別開口比％",null,{"$f":"IF(AJ37>0,INT(V37/AJ37*1000)/1000,\"\")","v":""},null,null,{"$f":"IF(AM37>0,INT(Y37/AM37*1000)/1000,\"\")","v":""},null,"方位別開口比％",null,{"$f":"IF(AJ37>0,INT(AC37/AJ37*1000)/1000,\"\")","v":""},null,null,{"$f":"IF(AM37>0,INT(AF37/AM37*1000)/1000,\"\")","v":""}]
[]
["ｸﾞﾙｰﾌﾟ番号","室名","室面積ｍ２",null,null,"北面","設計評価時",null,"面積","変更の場合\n（建設評価時）",null,null,"東面","設計評価時",null,"面積","変更の場合\n（建設評価時）",null,null,"南面","設計評価時",null,"面積","変更の場合\n（建設評価時）",null,null,"西面","設計評価時",null,"面積","変更の場合\n（建設評価時）",null,null,"真上","設計評価時",null,"面積","変更の場合\n（建設評価時）"]
[null,null,"設計時","変更後",null,"建具","W","H",null,"W","H",null,"建具","W","H",null,"W","H",null,"建具","W","H",null,"W","H",null,"建具","W","H",null,"W","H",null,"建具","W","H",null,"W","H"]
[18,null,null,null,{"$f":"IF(D42<>\"\",D42,C42)","v":0},null,null,null,{"$f":"G42*H42","v":0},null,null,{"$f":"IF(AND(J42<>\"\",K42<>\"\"),J42*K42,I42)","v":0},null,null,null,{"$f":"N42*O42","v":0},null,null,{"$f":"IF(AND(Q42<>\"\",R42<>\"\"),Q42*R42,P42)","v":0},null,null,null,{"$f":"U42*V42","v":0},null,null,{"$f":"IF(AND(X42<>\"\",Y42<>\"\"),X42*Y42,W42)","v":0},null,null,null,{"$f":"AB42*AC42","v":0},null,null,{"$f":"IF(AND(AE42<>\"\",AF42<>\"\"),AE42*AF42,AD42)","v":0},null,null,null,{"$f":"AI42*AJ42","v":0},null,null,{"$f":"IF(AND(AL42<>\"\",AM42<>\"\"),AL42*AM42,AK42)","v":0}]
[null,null,null,null,0,null,null,null,0,null,null,0,null,null,null,0,null,null,0,null,null,null,0,null,null,0,null,null,null,0,null,null,0,null,null,null,0,null,null,0]
["住戸番号",null,null,null,0,null,null,null,0,null,null,0,null,null,null,0,null,null,0,null,null,null,0,null,null,0,null,null,null,0,null,null,0,null,null,null,0,null,null,0]
[null,null,null,null,0,null,null,null,0,null,null,0,null,null,null,0,null,null,0,null,null,null,0,null,null,0,null,null,null,0,null,null,0,null,null,null,0,null,null,0]
[null,null,null,null,0,null,null,null,0,null,null,0,null,null,null,0,null,null,0,null,null,null,0,null,null,0,null,null,null,0,null,null,0,null,null,null,0,null,null,0]
[null,null,null,null,0,null,null,null,0,null,null,0,null,null,null,0,null,null,0,null,null,null,0,null,null,0,null,null,null,0,null,null,0,null,null,null,0,null,null,0]
[null,null,null,null,0,null,null,null,0,null,null,0,null,null,null,0,null,null,0,null,null,null,0,null,null,0,null,null,null,0,null,null,0,null,null,null,0,null,null,0]
[null,null,null,null,0,null,null,null,0,null,null,0,null,null,null,0,null,null,0,null,null,null,0,null,null,0,null,null,null,0,null,null,0,null,null,null,0,null,null,0]
[null,null,null,null,0,null,null,null,0,null,null,0,null,null,null,0,null,null,0,null,null,null,0,null,null,0,null,null,null,0,null,null,0,null,null,null,0,null,null,0]
[null,null,null,null,0,null,null,null,0,null,null,0,null,null,null,0,null,null,0,null,null,null,0,null,null,0,null,null,null,0,null,null,0,null,null,null,0,null,null,0]
[null,null,null,null,0,null,null,null,0,null,null,0,null,null,null,0,null,null,0,null,null,null,0,null,null,0,null,null,null,0,null,null,0,null,null,null,0,null,null,0]
[null,null,null,null,0,null,null,null,0,null,null,0,null,null,null,0,null,null,0,null,null,null,0,null,null,0,null,null,null,0,null,null,0,"真上窓面積",null,{"$f":"SUM(AK42:AK52)","v":0},null,"変更後",{"$f":"SUM(AN42:AN52)","v":0}]
[null,null,null,null,0,null,null,null,0,null,null,0,null,null,null,0,null,null,0,null,null,null,0,null,null,0,null,null,null,0,null,null,0,"方位別開口比％",null,{"$f":"IF(AJ55>0,INT(AJ53/AJ55*1000)/1000,\"\")","v":""},null,null,{"$f":"IF(AM55>0,INT(AM53/AM55*1000)/1000,\"\")","v":""}]
["居室面積合計",null,{"$f":"INT(SUM(C42:C54)*100)/100","v":0},{"$f":"INT(SUM(E42:E54)*100)/100","v":0},null,"北面窓面積",null,{"$f":"SUM(I42:I54)","v":0},null,"変更後",{"$f":"SUM(L42:L54)","v":0},null,"東面窓面積",null,{"$f":"SUM(P42:P54)","v":0},null,"変更後",{"$f":"SUM(S42:S54)","v":0},null,"南面窓面積",null,{"$f":"SUM(W42:W54)","v":0},null,"変更後",{"$f":"SUM(Z42:Z54)","v":0},null,"西面窓面積",null,{"$f":"SUM(AD42:AD54)","v":0},null,"変更後",{"$f":"SUM(AG42:AG54)","v":0},null,"開口総窓面積",null,{"$f":"SUM(H55,O55,V55,AC55,AJ53)","v":0},null,"変更後",{"$f":"SUM(K55,R55,Y55,AF55,AM53)","v":0}]
["開口率％",null,{"$f":"IF(C55>0,INT(AJ55/C55*1000)/1000,\"\")","v":""},{"$f":"IF(D55>0,INT(AM55/D55*1000)/1000,\"\")","v":""},null,"方位別開口比％",null,{"$f":"IF(AJ55>0,INT(H55/AJ55*1000)/1000,\"\")","v":""},null,null,{"$f":"IF(AM55>0,INT(K55/AM55*1000)/1000,\"\")","v":""},null,"方位別開口比％",null,{"$f":"IF(AJ55>0,INT(O55/AJ55*1000)/1000,\"\")","v":""},null,null,{"$f":"IF(AM55>0,INT(R55/AM55*1000)/1000,\"\")","v":""},null,"方位別開口比％",null,{"$f":"IF(AJ55>0,INT(V55/AJ55*1000)/1000,\"\")","v":""},null,null,{"$f":"IF(AM55>0,INT(Y55/AM55*1000)/1000,\"\")","v":""},null,"方位別開口比％",null,{"$f":"IF(AJ55>0,INT(AC55/AJ55*1000)/1000,\"\")","v":""},null,null,{"$f":"IF(AM55>0,INT(AF55/AM55*1000)/1000,\"\")","v":""}]

{"sheet":"S7","index":8,"n_rows":56,"n_cols":40,"rows_kept":56,"cut":false,"hidden":false,"merged":[[19,0,19,1],[26,0,35,0],[44,0,53,0],[23,0,24,0],[41,0,42,0],[36,0,36,1],[37,0,37,1],[39,0,40,0],[39,1,40,1],[21,0,22,0],[21,1,22,1],[0,23,0,30],[1,27,1,30],[3,27,3,28],[3,6,3,7],[18,0,18,1],[3,2,3,3],[3,9,3,10],[3,20,3,21],[1,9,1,10],[5,0,6,0],[8,0,17,0],[3,0,4,0],[3,1,4,1],[3,23,3,24],[3,13,3,14],[21,2,21,3],[3,37,3,38],[3,30,3,31],[3,34,3,35],[3,16,3,17],[21,37,21,38],[21,23,21,24],[21,27,21,28],[21,30,21,31],[21,34,21,35],[21,6,21,7],[21,9,21,10],[21,13,21,14],[21,16,21,17],[21,20,21,21],[39,37,39,38],[39,16,39,17],[39,20,39,21],[39,23,39,24],[39,27,39,28],[54,0,54,1],[55,0,55,1],[39,30,39,31],[39,34,39,35],[39,9,39,10],[39,13,39,14],[39,2,39,3],[39,6,39,7]]}
["７　光視環境に関すること",null,null,null,null,null,null,null,null,null,null,null,null,null,null,null,null,null,null,null,null,"（案件名称：",null,{"$f":"建具開口!H1","v":0},null,null,null,null,null,null,null,"）",null,"PAGE：  /",null,null,null,null,"光視環境②"]
[null,"開口部面積計算シートB",null,null,null,null,null,{"$f":"'S1'!H2","v":"BL1"},null,null,null,null,null,"申請者\n記入",null,null,"自動\n記入",null,null,"変更時\n記入","（単位　長さ：m、面積：m2）",null,null,null,null,null,null,{"$f":"建具開口!K2","v":"00:00:00"},null,null,null,null,null,null,null,null,null,null,"UHEC都市居住評価センター"]
[]
["ｸﾞﾙｰﾌﾟ番号","室名","室面積ｍ２",null,null,"北面","設計評価時",null,"面積","変更の場合\n（建設評価時）",null,null,"東面","設計評価時",null,"面積","変更の場合\n（建設評価時）",null,null,"南面","設計評価時",null,"面積","変更の場合\n（建設評価時）",null,null,"西面","設計評価時",null,"面積","変更の場合\n（建設評価時）",null,null,"真上","設計評価時",null,"面積","変更の場合\n（建設評価時）"]
[null,null,"設計時","変更後",null,"建具","W","H",null,"W","H",null,"建具","W","H",null,"W","H",null,"建具","W","H",null,"W","H",null,"建具","W","H",null,"W","H",null,"建具","W","H",null,"W","H"]
[19,null,null,null,{"$f":"IF(D6<>\"\",D6,C6)","v":0},null,null,null,{"$f":"G6*H6","v":0},null,null,{"$f":"IF(AND(J6<>\"\",K6<>\"\"),J6*K6,I6)","v":0},null,null,null,{"$f":"N6*O6","v":0},null,null,{"$f":"IF(AND(Q6<>\"\",R6<>\"\"),Q6*R6,P6)","v":0},null,null,null,{"$f":"U6*V6","v":0},null,null,{"$f":"IF(AND(X6<>\"\",Y6<>\"\"),X6*Y6,W6)","v":0},null,null,null,{"$f":"AB6*AC6","v":0},null,null,{"$f":"IF(AND(AE6<>\"\",AF6<>\"\"),AE6*AF6,AD6)","v":0},null,null,null,{"$f":"AI6*AJ6","v":0},null,null,{"$f":"IF(AND(AL6<>\"\",AM6<>\"\"),AL6*AM6,AK6)","v":0}]
[null,null,null,null,0,null,null,null,0,null,null,0,null,null,null,0,null,null,0,null,null,null,0,null,null,0,null,null,null,0,null,null,0,null,null,null,0,null,null,0]
["住戸番号",null,null,null,0,null,null,null,0,null,null,0,null,null,null,0,null,null,0,null,null,null,0,null,null,0,null,null,null,0,null,null,0,null,null,null,0,null,null,0]
[null,null,null,null,0,null,null,null,0,null,null,0,null,null,null,0,null,null,0,null,null,null,0,null,null,0,null,null,null,0,null,null,0,null,null,null,0,null,null,0]
[null,null,null,null,0,null,null,null,0,null,null,0,null,null,null,0,null,null,0,null,null,null,0,null,null,0,null,null,null,0,null,null,0,null,null,null,0,null,null,0]
[null,null,null,null,0,null,null,null,0,null,null,0,null,null,null,0,null,null,0,null,null,null,0,null,null,0,null,null,null,0,null,null,0,null,null,null,0,null,null,0]
[null,null,null,null,0,null,null,null,0,null,null,0,null,null,null,0,null,null,0,null,null,null,0,null,null,0,null,null,null,0,null,null,0,null,null,null,0,null,null,0]
[null,null,null,null,0,null,null,null,0,null,null,0,null,null,null,0,null,null,0,null,null,null,0,null,null,0,null,null,null,0,null,null,0,null,null,null,0,null,null,0]
[null,null,null,null,0,null,null,null,0,null,null,0,null,null,null,0,null,null,0,null,null,null,0,null,null,0,null,null,null,0,null,null,0,null,null,null,0,null,null,0]
[null,null,null,null,0,null,null,null,0,null,null,0,null,null,null,0,null,null,0,null,null,null,0,null,null,0,null,null,null,0,null,null,0,null,null,null,0,null,null,0]
[null,null,null,null,0,null,null,null,0,null,null,0,null,null,null,0,null,null,0,null,null,null,0,null,null,0,null,null,null,0,null,null,0,null,null,null,0,null,null,0]
[null,null,null,null,0,null,null,null,0,null,null,0,null,null,null,0,null,null,0,null,null,null,0,null,null,0,null,null,null,0,null,null,0,"真上窓面積",null,{"$f":"SUM(AK6:AK16)","v":0},null,"変更後",{"$f":"SUM(AN6:AN16)","v":0}]
[null,null,null,null,0,null,null,null,0,null,null,0,null,null,null,0,null,null,0,null,null,null,0,null,null,0,null,null,null,0,null,null,0,"方位別開口比％",null,{"$f":"IF(AJ19>0,INT(AJ17/AJ19*1000)/1000,\"\")","v":""},null,null,{"$f":"IF(AM19>0,INT(AM17/AM19*1000)/1000,\"\")","v":""}]
["居室面積合計",null,{"$f":"INT(SUM(C6:C18)*100)/100","v":0},{"$f":"INT(SUM(E6:E18)*100)/100","v":0},null,"北面窓面積",null,{"$f":"SUM(I6:I18)","v":0},null,"変更後",{"$f":"SUM(L6:L18)","v":0},null,"東面窓面積",null,{"$f":"SUM(P6:P18)","v":0},null,"変更後",{"$f":"SUM(S6:S18)","v":0},null,"南面窓面積",null,{"$f":"SUM(W6:W18)","v":0},null,"変更後",{"$f":"SUM(Z6:Z18)","v":0},null,"西面窓面積",null,{"$f":"SUM(AD6:AD18)","v":0},null,"変更後",{"$f":"SUM(AG6:AG18)","v":0},null,"開口総窓面積",null,{"$f":"SUM(H19,O19,V19,AC19,AJ17)","v":0},null,"変更後",{"$f":"SUM(K19,R19,Y19,AF19,AM17)","v":0}]
["開口率％",null,{"$f":"IF(C19>0,INT(AJ19/C19*1000)/1000,\"\")","v":""},{"$f":"IF(D19>0,INT(AM19/D19*1000)/1000,\"\")","v":""},null,"方位別開口比％",null,{"$f":"IF(AJ19>0,INT(H19/AJ19*1000)/1000,\"\")","v":""},null,null,{"$f":"IF(AM19>0,INT(K19/AM19*1000)/1000,\"\")","v":""},null,"方位別開口比％",null,{"$f":"IF(AJ19>0,INT(O19/AJ19*1000)/1000,\"\")","v":""},null,null,{"$f":"IF(AM19>0,INT(R19/AM19*1000)/1000,\"\")","v":""},null,"方位別開口比％",null,{"$f":"IF(AJ19>0,INT(V19/AJ19*1000)/1000,\"\")","v":""},null,null,{"$f":"IF(AM19>0,INT(Y19/AM19*1000)/1000,\"\")","v":""},null,"方位別開口比％",null,{"$f":"IF(AJ19>0,INT(AC19/AJ19*1000)/1000,\"\")","v":""},null,null,{"$f":"IF(AM19>0,INT(AF19/AM19*1000)/1000,\"\")","v":""}]
[]
["ｸﾞﾙｰﾌﾟ番号","室名","室面積ｍ２",null,null,"北面","設計評価時",null,"面積","変更の場合\n（建設評価時）",null,null,"東面","設計評価時",null,"面積","変更の場合\n（建設評価時）",null,null,"南面","設計評価時",null,"面積","変更の場合\n（建設評価時）",null,null,"西面","設計評価時",null,"面積","変更の場合\n（建設評価時）",null,null,"真上","設計評価時",null,"面積","変更の場合\n（建設評価時）"]
[null,null,"設計時","変更後",null,"建具","W","H",null,"W","H",null,"建具","W","H",null,"W","H",null,"建具","W","H",null,"W","H",null,"建具","W","H",null,"W","H",null,"建具","W","H",null,"W","H"]
[20,null,null,null,{"$f":"IF(D24<>\"\",D24,C24)","v":0},null,null,null,{"$f":"G24*H24","v":0},null,null,{"$f":"IF(AND(J24<>\"\",K24<>\"\"),J24*K24,I24)","v":0},null,null,null,{"$f":"N24*O24","v":0},null,null,{"$f":"IF(AND(Q24<>\"\",R24<>\"\"),Q24*R24,P24)","v":0},null,null,null,{"$f":"U24*V24","v":0},null,null,{"$f":"IF(AND(X24<>\"\",Y24<>\"\"),X24*Y24,W24)","v":0},null,null,null,{"$f":"AB24*AC24","v":0},null,null,{"$f":"IF(AND(AE24<>\"\",AF24<>\"\"),AE24*AF24,AD24)","v":0},null,null,null,{"$f":"AI24*AJ24","v":0},null,null,{"$f":"IF(AND(AL24<>\"\",AM24<>\"\"),AL24*AM24,AK24)","v":0}]
[null,null,null,null,0,null,null,null,0,null,null,0,null,null,null,0,null,null,0,null,null,null,0,null,null,0,null,null,null,0,null,null,0,null,null,null,0,null,null,0]
["住戸番号",null,null,null,0,null,null,null,0,null,null,0,null,null,null,0,null,null,0,null,null,null,0,null,null,0,null,null,null,0,null,null,0,null,null,null,0,null,null,0]
[null,null,null,null,0,null,null,null,0,null,null,0,null,null,null,0,null,null,0,null,null,null,0,null,null,0,null,null,null,0,null,null,0,null,null,null,0,null,null,0]
[null,null,null,null,0,null,null,null,0,null,null,0,null,null,null,0,null,null,0,null,null,null,0,null,null,0,null,null,null,0,null,null,0,null,null,null,0,null,null,0]
[null,null,null,null,0,null,null,null,0,null,null,0,null,null,null,0,null,null,0,null,null,null,0,null,null,0,null,null,null,0,null,null,0,null,null,null,0,null,null,0]
[null,null,null,null,0,null,null,null,0,null,null,0,null,null,null,0,null,null,0,null,null,null,0,null,null,0,null,null,null,0,null,null,0,null,null,null,0,null,null,0]
[null,null,null,null,0,null,null,null,0,null,null,0,null,null,null,0,null,null,0,null,null,null,0,null,null,0,null,null,null,0,null,null,0,null,null,null,0,null,null,0]
[null,null,null,null,0,null,null,null,0,null,null,0,null,null,null,0,null,null,0,null,null,null,0,null,null,0,null,null,null,0,null,null,0,null,null,null,0,null,null,0]
[null,null,null,null,0,null,null,null,0,null,null,0,null,null,null,0,null,null,0,null,null,null,0,null,null,0,null,null,null,0,null,null,0,null,null,null,0,null,null,0]
[null,null,null,null,0,null,null,null,0,null,null,0,null,null,null,0,null,null,0,null,null,null,0,null,null,0,null,null,null,0,null,null,0,null,null,null,0,null,null,0]
[null,null,null,null,0,null,null,null,0,null,null,0,null,null,null,0,null,null,0,null,null,null,0,null,null,0,null,null,null,0,null,null,0,"真上窓面積",null,{"$f":"SUM(AK24:AK34)","v":0},null,"変更後",{"$f":"SUM(AN24:AN34)","v":0}]
[null,null,null,null,0,null,null,null,0,null,null,0,null,null,null,0,null,null,0,null,null,null,0,null,null,0,null,null,null,0,null,null,0,"方位別開口比％",null,{"$f":"IF(AJ37>0,INT(AJ35/AJ37*1000)/1000,\"\")","v":""},null,null,{"$f":"IF(AM37>0,INT(AM35/AM37*1000)/1000,\"\")","v":""}]
["居室面積合計",null,{"$f":"INT(SUM(C24:C36)*100)/100","v":0},{"$f":"INT(SUM(E24:E36)*100)/100","v":0},null,"北面窓面積",null,{"$f":"SUM(I24:I36)","v":0},null,"変更後",{"$f":"SUM(L24:L36)","v":0},null,"東面窓面積",null,{"$f":"SUM(P24:P36)","v":0},null,"変更後",{"$f":"SUM(S24:S36)","v":0},null,"南面窓面積",null,{"$f":"SUM(W24:W36)","v":0},null,"変更後",{"$f":"SUM(Z24:Z36)","v":0},null,"西面窓面積",null,{"$f":"SUM(AD24:AD36)","v":0},null,"変更後",{"$f":"SUM(AG24:AG36)","v":0},null,"開口総窓面積",null,{"$f":"SUM(H37,O37,V37,AC37,AJ35)","v":0},null,"変更後",{"$f":"SUM(K37,R37,Y37,AF37,AM35)","v":0}]
["開口率％",null,{"$f":"IF(C37>0,INT(AJ37/C37*1000)/1000,\"\")","v":""},{"$f":"IF(D37>0,INT(AM37/D37*1000)/1000,\"\")","v":""},null,"方位別開口比％",null,{"$f":"IF(AJ37>0,INT(H37/AJ37*1000)/1000,\"\")","v":""},null,null,{"$f":"IF(AM37>0,INT(K37/AM37*1000)/1000,\"\")","v":""},null,"方位別開口比％",null,{"$f":"IF(AJ37>0,INT(O37/AJ37*1000)/1000,\"\")","v":""},null,null,{"$f":"IF(AM37>0,INT(R37/AM37*1000)/1000,\"\")","v":""},null,"方位別開口比％",null,{"$f":"IF(AJ37>0,INT(V37/AJ37*1000)/1000,\"\")","v":""},null,null,{"$f":"IF(AM37>0,INT(Y37/AM37*1000)/1000,\"\")","v":""},null,"方位別開口比％",null,{"$f":"IF(AJ37>0,INT(AC37/AJ37*1000)/1000,\"\")","v":""},null,null,{"$f":"IF(AM37>0,INT(AF37/AM37*1000)/1000,\"\")","v":""}]
[]
["ｸﾞﾙｰﾌﾟ番号","室名","室面積ｍ２",null,null,"北面","設計評価時",null,"面積","変更の場合\n（建設評価時）",null,null,"東面","設計評価時",null,"面積","変更の場合\n（建設評価時）",null,null,"南面","設計評価時",null,"面積","変更の場合\n（建設評価時）",null,null,"西面","設計評価時",null,"面積","変更の場合\n（建設評価時）",null,null,"真上","設計評価時",null,"面積","変更の場合\n（建設評価時）"]
[null,null,"設計時","変更後",null,"建具","W","H",null,"W","H",null,"建具","W","H",null,"W","H",null,"建具","W","H",null,"W","H",null,"建具","W","H",null,"W","H",null,"建具","W","H",null,"W","H"]
[21,null,null,null,{"$f":"IF(D42<>\"\",D42,C42)","v":0},null,null,null,{"$f":"G42*H42","v":0},null,null,{"$f":"IF(AND(J42<>\"\",K42<>\"\"),J42*K42,I42)","v":0},null,null,null,{"$f":"N42*O42","v":0},null,null,{"$f":"IF(AND(Q42<>\"\",R42<>\"\"),Q42*R42,P42)","v":0},null,null,null,{"$f":"U42*V42","v":0},null,null,{"$f":"IF(AND(X42<>\"\",Y42<>\"\"),X42*Y42,W42)","v":0},null,null,null,{"$f":"AB42*AC42","v":0},null,null,{"$f":"IF(AND(AE42<>\"\",AF42<>\"\"),AE42*AF42,AD42)","v":0},null,null,null,{"$f":"AI42*AJ42","v":0},null,null,{"$f":"IF(AND(AL42<>\"\",AM42<>\"\"),AL42*AM42,AK42)","v":0}]
[null,null,null,null,0,null,null,null,0,null,null,0,null,null,null,0,null,null,0,null,null,null,0,null,null,0,null,null,null,0,null,null,0,null,null,null,0,null,null,0]
["住戸番号",null,null,null,0,null,null,null,0,null,null,0,null,null,null,0,null,null,0,null,null,null,0,null,null,0,null,null,null,0,null,null,0,null,null,null,0,null,null,0]
[null,null,null,null,0,null,null,null,0,null,null,0,null,null,null,0,null,null,0,null,null,null,0,null,null,0,null,null,null,0,null,null,0,null,null,null,0,null,null,0]
[null,null,null,null,0,null,null,null,0,null,null,0,null,null,null,0,null,null,0,null,null,null,0,null,null,0,null,null,null,0,null,null,0,null,null,null,0,null,null,0]
[null,null,null,null,0,null,null,null,0,null,null,0,null,null,null,0,null,null,0,null,null,null,0,null,null,0,null,null,null,0,null,null,0,null,null,null,0,null,null,0]
[null,null,null,null,0,null,null,null,0,null,null,0,null,null,null,0,null,null,0,null,null,null,0,null,null,0,null,null,null,0,null,null,0,null,null,null,0,null,null,0]
[null,null,null,null,0,null,null,null,0,null,null,0,null,null,null,0,null,null,0,null,null,null,0,null,null,0,null,null,null,0,null,null,0,null,null,null,0,null,null,0]
[null,null,null,null,0,null,null,null,0,null,null,0,null,null,null,0,null,null,0,null,null,null,0,null,null,0,null,null,null,0,null,null,0,null,null,null,0,null,null,0]
[null,null,null,null,0,null,null,null,0,null,null,0,null,null,null,0,null,null,0,null,null,null,0,null,null,0,null,null,null,0,null,null,0,null,null,null,0,null,null,0]
[null,null,null,null,0,null,null,null,0,null,null,0,null,null,null,0,null,null,0,null,null,null,0,null,null,0,null,null,null,0,null,null,0,null,null,null,0,null,null,0]
[null,null,null,null,0,null,null,null,0,null,null,0,null,null,null,0,null,null,0,null,null,null,0,null,null,0,null,null,null,0,null,null,0,"真上窓面積",null,{"$f":"SUM(AK42:AK52)","v":0},null,"変更後",{"$f":"SUM(AN42:AN52)","v":0}]
[null,null,null,null,0,null,null,null,0,null,null,0,null,null,null,0,null,null,0,null,null,null,0,null,null,0,null,null,null,0,null,null,0,"方位別開口比％",null,{"$f":"IF(AJ55>0,INT(AJ53/AJ55*1000)/1000,\"\")","v":""},null,null,{"$f":"IF(AM55>0,INT(AM53/AM55*1000)/1000,\"\")","v":""}]
["居室面積合計",null,{"$f":"INT(SUM(C42:C54)*100)/100","v":0},{"$f":"INT(SUM(E42:E54)*100)/100","v":0},null,"北面窓面積",null,{"$f":"SUM(I42:I54)","v":0},null,"変更後",{"$f":"SUM(L42:L54)","v":0},null,"東面窓面積",null,{"$f":"SUM(P42:P54)","v":0},null,"変更後",{"$f":"SUM(S42:S54)","v":0},null,"南面窓面積",null,{"$f":"SUM(W42:W54)","v":0},null,"変更後",{"$f":"SUM(Z42:Z54)","v":0},null,"西面窓面積",null,{"$f":"SUM(AD42:AD54)","v":0},null,"変更後",{"$f":"SUM(AG42:AG54)","v":0},null,"開口総窓面積",null,{"$f":"SUM(H55,O55,V55,AC55,AJ53)","v":0},null,"変更後",{"$f":"SUM(K55,R55,Y55,AF55,AM53)","v":0}]
["開口率％",null,{"$f":"IF(C55>0,INT(AJ55/C55*1000)/1000,\"\")","v":""},{"$f":"IF(D55>0,INT(AM55/D55*1000)/1000,\"\")","v":""},null,"方位別開口比％",null,{"$f":"IF(AJ55>0,INT(H55/AJ55*1000)/1000,\"\")","v":""},null,null,{"$f":"IF(AM55>0,INT(K55/AM55*1000)/1000,\"\")","v":""},null,"方位別開口比％",null,{"$f":"IF(AJ55>0,INT(O55/AJ55*1000)/1000,\"\")","v":""},null,null,{"$f":"IF(AM55>0,INT(R55/AM55*1000)/1000,\"\")","v":""},null,"方位別開口比％",null,{"$f":"IF(AJ55>0,INT(V55/AJ55*1000)/1000,\"\")","v":""},null,null,{"$f":"IF(AM55>0,INT(Y55/AM55*1000)/1000,\"\")","v":""},null,"方位別開口比％",null,{"$f":"IF(AJ55>0,INT(AC55/AJ55*1000)/1000,\"\")","v":""},null,null,{"$f":"IF(AM55>0,INT(AF55/AM55*1000)/1000,\"\")","v":""}]

{"sheet":"S8","index":9,"n_rows":56,"n_cols":40,"rows_kept":56,"cut":false,"hidden":false,"merged":[[19,0,19,1],[26,0,35,0],[44,0,53,0],[23,0,24,0],[41,0,42,0],[36,0,36,1],[37,0,37,1],[39,0,40,0],[39,1,40,1],[21,0,22,0],[21,1,22,1],[0,23,0,30],[1,27,1,30],[3,27,3,28],[3,6,3,7],[18,0,18,1],[3,2,3,3],[3,9,3,10],[3,20,3,21],[1,9,1,10],[5,0,6,0],[8,0,17,0],[3,0,4,0],[3,1,4,1],[3,23,3,24],[3,13,3,14],[21,2,21,3],[3,37,3,38],[3,30,3,31],[3,34,3,35],[3,16,3,17],[21,37,21,38],[21,23,21,24],[21,27,21,28],[21,30,21,31],[21,34,21,35],[21,6,21,7],[21,9,21,10],[21,13,21,14],[21,16,21,17],[21,20,21,21],[39,37,39,38],[39,16,39,17],[39,20,39,21],[39,23,39,24],[39,27,39,28],[54,0,54,1],[55,0,55,1],[39,30,39,31],[39,34,39,35],[39,9,39,10],[39,13,39,14],[39,2,39,3],[39,6,39,7]]}
["７　光視環境に関すること",null,null,null,null,null,null,null,null,null,null,null,null,null,null,null,null,null,null,null,null,"（案件名称：",null,{"$f":"建具開口!H1","v":0},null,null,null,null,null,null,null,"）",null,"PAGE：  /",null,null,null,null,"光視環境②"]
[null,"開口部面積計算シートB",null,null,null,null,null,{"$f":"'S1'!H2","v":"BL1"},null,null,null,null,null,"申請者\n記入",null,null,"自動\n記入",null,null,"変更時\n記入","（単位　長さ：m、面積：m2）",null,null,null,null,null,null,{"$f":"建具開口!K2","v":"00:00:00"},null,null,null,null,null,null,null,null,null,null,"UHEC都市居住評価センター"]
[]
["ｸﾞﾙｰﾌﾟ番号","室名","室面積ｍ２",null,null,"北面","設計評価時",null,"面積","変更の場合\n（建設評価時）",null,null,"東面","設計評価時",null,"面積","変更の場合\n（建設評価時）",null,null,"南面","設計評価時",null,"面積","変更の場合\n（建設評価時）",null,null,"西面","設計評価時",null,"面積","変更の場合\n（建設評価時）",null,null,"真上","設計評価時",null,"面積","変更の場合\n（建設評価時）"]
[null,null,"設計時","変更後",null,"建具","W","H",null,"W","H",null,"建具","W","H",null,"W","H",null,"建具","W","H",null,"W","H",null,"建具","W","H",null,"W","H",null,"建具","W","H",null,"W","H"]
[22,null,null,null,{"$f":"IF(D6<>\"\",D6,C6)","v":0},null,null,null,{"$f":"G6*H6","v":0},null,null,{"$f":"IF(AND(J6<>\"\",K6<>\"\"),J6*K6,I6)","v":0},null,null,null,{"$f":"N6*O6","v":0},null,null,{"$f":"IF(AND(Q6<>\"\",R6<>\"\"),Q6*R6,P6)","v":0},null,null,null,{"$f":"U6*V6","v":0},null,null,{"$f":"IF(AND(X6<>\"\",Y6<>\"\"),X6*Y6,W6)","v":0},null,null,null,{"$f":"AB6*AC6","v":0},null,null,{"$f":"IF(AND(AE6<>\"\",AF6<>\"\"),AE6*AF6,AD6)","v":0},null,null,null,{"$f":"AI6*AJ6","v":0},null,null,{"$f":"IF(AND(AL6<>\"\",AM6<>\"\"),AL6*AM6,AK6)","v":0}]
[null,null,null,null,0,null,null,null,0,null,null,0,null,null,null,0,null,null,0,null,null,null,0,null,null,0,null,null,null,0,null,null,0,null,null,null,0,null,null,0]
["住戸番号",null,null,null,0,null,null,null,0,null,null,0,null,null,null,0,null,null,0,null,null,null,0,null,null,0,null,null,null,0,null,null,0,null,null,null,0,null,null,0]
[null,null,null,null,0,null,null,null,0,null,null,0,null,null,null,0,null,null,0,null,null,null,0,null,null,0,null,null,null,0,null,null,0,null,null,null,0,null,null,0]
[null,null,null,null,0,null,null,null,0,null,null,0,null,null,null,0,null,null,0,null,null,null,0,null,null,0,null,null,null,0,null,null,0,null,null,null,0,null,null,0]
[null,null,null,null,0,null,null,null,0,null,null,0,null,null,null,0,null,null,0,null,null,null,0,null,null,0,null,null,null,0,null,null,0,null,null,null,0,null,null,0]
[null,null,null,null,0,null,null,null,0,null,null,0,null,null,null,0,null,null,0,null,null,null,0,null,null,0,null,null,null,0,null,null,0,null,null,null,0,null,null,0]
[null,null,null,null,0,null,null,null,0,null,null,0,null,null,null,0,null,null,0,null,null,null,0,null,null,0,null,null,null,0,null,null,0,null,null,null,0,null,null,0]
[null,null,null,null,0,null,null,null,0,null,null,0,null,null,null,0,null,null,0,null,null,null,0,null,null,0,null,null,null,0,null,null,0,null,null,null,0,null,null,0]
[null,null,null,null,0,null,null,null,0,null,null,0,null,null,null,0,null,null,0,null,null,null,0,null,null,0,null,null,null,0,null,null,0,null,null,null,0,null,null,0]
[null,null,null,null,0,null,null,null,0,null,null,0,null,null,null,0,null,null,0,null,null,null,0,null,null,0,null,null,null,0,null,null,0,null,null,null,0,null,null,0]
[null,null,null,null,0,null,null,null,0,null,null,0,null,null,null,0,null,null,0,null,null,null,0,null,null,0,null,null,null,0,null,null,0,"真上窓面積",null,{"$f":"SUM(AK6:AK16)","v":0},null,"変更後",{"$f":"SUM(AN6:AN16)","v":0}]
[null,null,null,null,0,null,null,null,0,null,null,0,null,null,null,0,null,null,0,null,null,null,0,null,null,0,null,null,null,0,null,null,0,"方位別開口比％",null,{"$f":"IF(AJ19>0,INT(AJ17/AJ19*1000)/1000,\"\")","v":""},null,null,{"$f":"IF(AM19>0,INT(AM17/AM19*1000)/1000,\"\")","v":""}]
["居室面積合計",null,{"$f":"INT(SUM(C6:C18)*100)/100","v":0},{"$f":"INT(SUM(E6:E18)*100)/100","v":0},null,"北面窓面積",null,{"$f":"SUM(I6:I18)","v":0},null,"変更後",{"$f":"SUM(L6:L18)","v":0},null,"東面窓面積",null,{"$f":"SUM(P6:P18)","v":0},null,"変更後",{"$f":"SUM(S6:S18)","v":0},null,"南面窓面積",null,{"$f":"SUM(W6:W18)","v":0},null,"変更後",{"$f":"SUM(Z6:Z18)","v":0},null,"西面窓面積",null,{"$f":"SUM(AD6:AD18)","v":0},null,"変更後",{"$f":"SUM(AG6:AG18)","v":0},null,"開口総窓面積",null,{"$f":"SUM(H19,O19,V19,AC19,AJ17)","v":0},null,"変更後",{"$f":"SUM(K19,R19,Y19,AF19,AM17)","v":0}]
["開口率％",null,{"$f":"IF(C19>0,INT(AJ19/C19*1000)/1000,\"\")","v":""},{"$f":"IF(D19>0,INT(AM19/D19*1000)/1000,\"\")","v":""},null,"方位別開口比％",null,{"$f":"IF(AJ19>0,INT(H19/AJ19*1000)/1000,\"\")","v":""},null,null,{"$f":"IF(AM19>0,INT(K19/AM19*1000)/1000,\"\")","v":""},null,"方位別開口比％",null,{"$f":"IF(AJ19>0,INT(O19/AJ19*1000)/1000,\"\")","v":""},null,null,{"$f":"IF(AM19>0,INT(R19/AM19*1000)/1000,\"\")","v":""},null,"方位別開口比％",null,{"$f":"IF(AJ19>0,INT(V19/AJ19*1000)/1000,\"\")","v":""},null,null,{"$f":"IF(AM19>0,INT(Y19/AM19*1000)/1000,\"\")","v":""},null,"方位別開口比％",null,{"$f":"IF(AJ19>0,INT(AC19/AJ19*1000)/1000,\"\")","v":""},null,null,{"$f":"IF(AM19>0,INT(AF19/AM19*1000)/1000,\"\")","v":""}]
[]
["ｸﾞﾙｰﾌﾟ番号","室名","室面積ｍ２",null,null,"北面","設計評価時",null,"面積","変更の場合\n（建設評価時）",null,null,"東面","設計評価時",null,"面積","変更の場合\n（建設評価時）",null,null,"南面","設計評価時",null,"面積","変更の場合\n（建設評価時）",null,null,"西面","設計評価時",null,"面積","変更の場合\n（建設評価時）",null,null,"真上","設計評価時",null,"面積","変更の場合\n（建設評価時）"]
[null,null,"設計時","変更後",null,"建具","W","H",null,"W","H",null,"建具","W","H",null,"W","H",null,"建具","W","H",null,"W","H",null,"建具","W","H",null,"W","H",null,"建具","W","H",null,"W","H"]
[23,null,null,null,{"$f":"IF(D24<>\"\",D24,C24)","v":0},null,null,null,{"$f":"G24*H24","v":0},null,null,{"$f":"IF(AND(J24<>\"\",K24<>\"\"),J24*K24,I24)","v":0},null,null,null,{"$f":"N24*O24","v":0},null,null,{"$f":"IF(AND(Q24<>\"\",R24<>\"\"),Q24*R24,P24)","v":0},null,null,null,{"$f":"U24*V24","v":0},null,null,{"$f":"IF(AND(X24<>\"\",Y24<>\"\"),X24*Y24,W24)","v":0},null,null,null,{"$f":"AB24*AC24","v":0},null,null,{"$f":"IF(AND(AE24<>\"\",AF24<>\"\"),AE24*AF24,AD24)","v":0},null,null,null,{"$f":"AI24*AJ24","v":0},null,null,{"$f":"IF(AND(AL24<>\"\",AM24<>\"\"),AL24*AM24,AK24)","v":0}]
[null,null,null,null,0,null,null,null,0,null,null,0,null,null,null,0,null,null,0,null,null,null,0,null,null,0,null,null,null,0,null,null,0,null,null,null,0,null,null,0]
["住戸番号",null,null,null,0,null,null,null,0,null,null,0,null,null,null,0,null,null,0,null,null,null,0,null,null,0,null,null,null,0,null,null,0,null,null,null,0,null,null,0]
[null,null,null,null,0,null,null,null,0,null,null,0,null,null,null,0,null,null,0,null,null,null,0,null,null,0,null,null,null,0,null,null,0,null,null,null,0,null,null,0]
[null,null,null,null,0,null,null,null,0,null,null,0,null,null,null,0,null,null,0,null,null,null,0,null,null,0,null,null,null,0,null,null,0,null,null,null,0,null,null,0]
[null,null,null,null,0,null,null,null,0,null,null,0,null,null,null,0,null,null,0,null,null,null,0,null,null,0,null,null,null,0,null,null,0,null,null,null,0,null,null,0]
[null,null,null,null,0,null,null,null,0,null,null,0,null,null,null,0,null,null,0,null,null,null,0,null,null,0,null,null,null,0,null,null,0,null,null,null,0,null,null,0]
[null,null,null,null,0,null,null,null,0,null,null,0,null,null,null,0,null,null,0,null,null,null,0,null,null,0,null,null,null,0,null,null,0,null,null,null,0,null,null,0]
[null,null,null,null,0,null,null,null,0,null,null,0,null,null,null,0,null,null,0,null,null,null,0,null,null,0,null,null,null,0,null,null,0,null,null,null,0,null,null,0]
[null,null,null,null,0,null,null,null,0,null,null,0,null,null,null,0,null,null,0,null,null,null,0,null,null,0,null,null,null,0,null,null,0,null,null,null,0,null,null,0]
[null,null,null,null,0,null,null,null,0,null,null,0,null,null,null,0,null,null,0,null,null,null,0,null,null,0,null,null,null,0,null,null,0,null,null,null,0,null,null,0]
[null,null,null,null,0,null,null,null,0,null,null,0,null,null,null,0,null,null,0,null,null,null,0,null,null,0,null,null,null,0,null,null,0,"真上窓面積",null,{"$f":"SUM(AK24:AK34)","v":0},null,"変更後",{"$f":"SUM(AN24:AN34)","v":0}]
[null,null,null,null,0,null,null,null,0,null,null,0,null,null,null,0,null,null,0,null,null,null,0,null,null,0,null,null,null,0,null,null,0,"方位別開口比％",null,{"$f":"IF(AJ37>0,INT(AJ35/AJ37*1000)/1000,\"\")","v":""},null,null,{"$f":"IF(AM37>0,INT(AM35/AM37*1000)/1000,\"\")","v":""}]
["居室面積合計",null,{"$f":"INT(SUM(C24:C36)*100)/100","v":0},{"$f":"INT(SUM(E24:E36)*100)/100","v":0},null,"北面窓面積",null,{"$f":"SUM(I24:I36)","v":0},null,"変更後",{"$f":"SUM(L24:L36)","v":0},null,"東面窓面積",null,{"$f":"SUM(P24:P36)","v":0},null,"変更後",{"$f":"SUM(S24:S36)","v":0},null,"南面窓面積",null,{"$f":"SUM(W24:W36)","v":0},null,"変更後",{"$f":"SUM(Z24:Z36)","v":0},null,"西面窓面積",null,{"$f":"SUM(AD24:AD36)","v":0},null,"変更後",{"$f":"SUM(AG24:AG36)","v":0},null,"開口総窓面積",null,{"$f":"SUM(H37,O37,V37,AC37,AJ35)","v":0},null,"変更後",{"$f":"SUM(K37,R37,Y37,AF37,AM35)","v":0}]
["開口率％",null,{"$f":"IF(C37>0,INT(AJ37/C37*1000)/1000,\"\")","v":""},{"$f":"IF(D37>0,INT(AM37/D37*1000)/1000,\"\")","v":""},null,"方位別開口比％",null,{"$f":"IF(AJ37>0,INT(H37/AJ37*1000)/1000,\"\")","v":""},null,null,{"$f":"IF(AM37>0,INT(K37/AM37*1000)/1000,\"\")","v":""},null,"方位別開口比％",null,{"$f":"IF(AJ37>0,INT(O37/AJ37*1000)/1000,\"\")","v":""},null,null,{"$f":"IF(AM37>0,INT(R37/AM37*1000)/1000,\"\")","v":""},null,"方位別開口比％",null,{"$f":"IF(AJ37>0,INT(V37/AJ37*1000)/1000,\"\")","v":""},null,null,{"$f":"IF(AM37>0,INT(Y37/AM37*1000)/1000,\"\")","v":""},null,"方位別開口比％",null,{"$f":"IF(AJ37>0,INT(AC37/AJ37*1000)/1000,\"\")","v":""},null,null,{"$f":"IF(AM37>0,INT(AF37/AM37*1000)/1000,\"\")","v":""}]
[]
["ｸﾞﾙｰﾌﾟ番号","室名","室面積ｍ２",null,null,"北面","設計評価時",null,"面積","変更の場合\n（建設評価時）",null,null,"東面","設計評価時",null,"面積","変更の場合\n（建設評価時）",null,null,"南面","設計評価時",null,"面積","変更の場合\n（建設評価時）",null,null,"西面","設計評価時",null,"面積","変更の場合\n（建設評価時）",null,null,"真上","設計評価時",null,"面積","変更の場合\n（建設評価時）"]
[null,null,"設計時","変更後",null,"建具","W","H",null,"W","H",null,"建具","W","H",null,"W","H",null,"建具","W","H",null,"W","H",null,"建具","W","H",null,"W","H",null,"建具","W","H",null,"W","H"]
[24,null,null,null,{"$f":"IF(D42<>\"\",D42,C42)","v":0},null,null,null,{"$f":"G42*H42","v":0},null,null,{"$f":"IF(AND(J42<>\"\",K42<>\"\"),J42*K42,I42)","v":0},null,null,null,{"$f":"N42*O42","v":0},null,null,{"$f":"IF(AND(Q42<>\"\",R42<>\"\"),Q42*R42,P42)","v":0},null,null,null,{"$f":"U42*V42","v":0},null,null,{"$f":"IF(AND(X42<>\"\",Y42<>\"\"),X42*Y42,W42)","v":0},null,null,null,{"$f":"AB42*AC42","v":0},null,null,{"$f":"IF(AND(AE42<>\"\",AF42<>\"\"),AE42*AF42,AD42)","v":0},null,null,null,{"$f":"AI42*AJ42","v":0},null,null,{"$f":"IF(AND(AL42<>\"\",AM42<>\"\"),AL42*AM42,AK42)","v":0}]
[null,null,null,null,0,null,null,null,0,null,null,0,null,null,null,0,null,null,0,null,null,null,0,null,null,0,null,null,null,0,null,null,0,null,null,null,0,null,null,0]
["住戸番号",null,null,null,0,null,null,null,0,null,null,0,null,null,null,0,null,null,0,null,null,null,0,null,null,0,null,null,null,0,null,null,0,null,null,null,0,null,null,0]
[null,null,null,null,0,null,null,null,0,null,null,0,null,null,null,0,null,null,0,null,null,null,0,null,null,0,null,null,null,0,null,null,0,null,null,null,0,null,null,0]
[null,null,null,null,0,null,null,null,0,null,null,0,null,null,null,0,null,null,0,null,null,null,0,null,null,0,null,null,null,0,null,null,0,null,null,null,0,null,null,0]
[null,null,null,null,0,null,null,null,0,null,null,0,null,null,null,0,null,null,0,null,null,null,0,null,null,0,null,null,null,0,null,null,0,null,null,null,0,null,null,0]
[null,null,null,null,0,null,null,null,0,null,null,0,null,null,null,0,null,null,0,null,null,null,0,null,null,0,null,null,null,0,null,null,0,null,null,null,0,null,null,0]
[null,null,null,null,0,null,null,null,0,null,null,0,null,null,null,0,null,null,0,null,null,null,0,null,null,0,null,null,null,0,null,null,0,null,null,null,0,null,null,0]
[null,null,null,null,0,null,null,null,0,null,null,0,null,null,null,0,null,null,0,null,null,null,0,null,null,0,null,null,null,0,null,null,0,null,null,null,0,null,null,0]
[null,null,null,null,0,null,null,null,0,null,null,0,null,null,null,0,null,null,0,null,null,null,0,null,null,0,null,null,null,0,null,null,0,null,null,null,0,null,null,0]
[null,null,null,null,0,null,null,null,0,null,null,0,null,null,null,0,null,null,0,null,null,null,0,null,null,0,null,null,null,0,null,null,0,null,null,null,0,null,null,0]
[null,null,null,null,0,null,null,null,0,null,null,0,null,null,null,0,null,null,0,null,null,null,0,null,null,0,null,null,null,0,null,null,0,"真上窓面積",null,{"$f":"SUM(AK42:AK52)","v":0},null,"変更後",{"$f":"SUM(AN42:AN52)","v":0}]
[null,null,null,null,0,null,null,null,0,null,null,0,null,null,null,0,null,null,0,null,null,null,0,null,null,0,null,null,null,0,null,null,0,"方位別開口比％",null,{"$f":"IF(AJ55>0,INT(AJ53/AJ55*1000)/1000,\"\")","v":""},null,null,{"$f":"IF(AM55>0,INT(AM53/AM55*1000)/1000,\"\")","v":""}]
["居室面積合計",null,{"$f":"INT(SUM(C42:C54)*100)/100","v":0},{"$f":"INT(SUM(E42:E54)*100)/100","v":0},null,"北面窓面積",null,{"$f":"SUM(I42:I54)","v":0},null,"変更後",{"$f":"SUM(L42:L54)","v":0},null,"東面窓面積",null,{"$f":"SUM(P42:P54)","v":0},null,"変更後",{"$f":"SUM(S42:S54)","v":0},null,"南面窓面積",null,{"$f":"SUM(W42:W54)","v":0},null,"変更後",{"$f":"SUM(Z42:Z54)","v":0},null,"西面窓面積",null,{"$f":"SUM(AD42:AD54)","v":0},null,"変更後",{"$f":"SUM(AG42:AG54)","v":0},null,"開口総窓面積",null,{"$f":"SUM(H55,O55,V55,AC55,AJ53)","v":0},null,"変更後",{"$f":"SUM(K55,R55,Y55,AF55,AM53)","v":0}]
["開口率％",null,{"$f":"IF(C55>0,INT(AJ55/C55*1000)/1000,\"\")","v":""},{"$f":"IF(D55>0,INT(AM55/D55*1000)/1000,\"\")","v":""},null,"方位別開口比％",null,{"$f":"IF(AJ55>0,INT(H55/AJ55*1000)/1000,\"\")","v":""},null,null,{"$f":"IF(AM55>0,INT(K55/AM55*1000)/1000,\"\")","v":""},null,"方位別開口比％",null,{"$f":"IF(AJ55>0,INT(O55/AJ55*1000)/1000,\"\")","v":""},null,null,{"$f":"IF(AM55>0,INT(R55/AM55*1000)/1000,\"\")","v":""},null,"方位別開口比％",null,{"$f":"IF(AJ55>0,INT(V55/AJ55*1000)/1000,\"\")","v":""},null,null,{"$f":"IF(AM55>0,INT(Y55/AM55*1000)/1000,\"\")","v":""},null,"方位別開口比％",null,{"$f":"IF(AJ55>0,INT(AC55/AJ55*1000)/1000,\"\")","v":""},null,null,{"$f":"IF(AM55>0,INT(AF55/AM55*1000)/1000,\"\")","v":""}]

{"sheet":"S9","index":10,"n_rows":56,"n_cols":40,"rows_kept":56,"cut":false,"hidden":false,"merged":[[19,0,19,1],[26,0,35,0],[44,0,53,0],[23,0,24,0],[41,0,42,0],[36,0,36,1],[37,0,37,1],[39,0,40,0],[39,1,40,1],[21,0,22,0],[21,1,22,1],[0,23,0,30],[1,27,1,30],[3,27,3,28],[3,6,3,7],[18,0,18,1],[3,2,3,3],[3,9,3,10],[3,20,3,21],[1,9,1,10],[5,0,6,0],[8,0,17,0],[3,0,4,0],[3,1,4,1],[3,23,3,24],[3,13,3,14],[21,2,21,3],[3,37,3,38],[3,30,3,31],[3,34,3,35],[3,16,3,17],[21,37,21,38],[21,23,21,24],[21,27,21,28],[21,30,21,31],[21,34,21,35],[21,6,21,7],[21,9,21,10],[21,13,21,14],[21,16,21,17],[21,20,21,21],[39,37,39,38],[39,16,39,17],[39,20,39,21],[39,23,39,24],[39,27,39,28],[54,0,54,1],[55,0,55,1],[39,30,39,31],[39,34,39,35],[39,9,39,10],[39,13,39,14],[39,2,39,3],[39,6,39,7]]}
["７　光視環境に関すること",null,null,null,null,null,null,null,null,null,null,null,null,null,null,null,null,null,null,null,null,"（案件名称：",null,{"$f":"建具開口!H1","v":0},null,null,null,null,null,null,null,"）",null,"PAGE：  /",null,null,null,null,"光視環境②"]
[null,"開口部面積計算シートB",null,null,null,null,null,{"$f":"'S1'!H2","v":"BL1"},null,null,null,null,null,"申請者\n記入",null,null,"自動\n記入",null,null,"変更時\n記入","（単位　長さ：m、面積：m2）",null,null,null,null,null,null,{"$f":"建具開口!K2","v":"00:00:00"},null,null,null,null,null,null,null,null,null,null,"UHEC都市居住評価センター"]
[]
["ｸﾞﾙｰﾌﾟ番号","室名","室面積ｍ２",null,null,"北面","設計評価時",null,"面積","変更の場合\n（建設評価時）",null,null,"東面","設計評価時",null,"面積","変更の場合\n（建設評価時）",null,null,"南面","設計評価時",null,"面積","変更の場合\n（建設評価時）",null,null,"西面","設計評価時",null,"面積","変更の場合\n（建設評価時）",null,null,"真上","設計評価時",null,"面積","変更の場合\n（建設評価時）"]
[null,null,"設計時","変更後",null,"建具","W","H",null,"W","H",null,"建具","W","H",null,"W","H",null,"建具","W","H",null,"W","H",null,"建具","W","H",null,"W","H",null,"建具","W","H",null,"W","H"]
[25,null,null,null,{"$f":"IF(D6<>\"\",D6,C6)","v":0},null,null,null,{"$f":"G6*H6","v":0},null,null,{"$f":"IF(AND(J6<>\"\",K6<>\"\"),J6*K6,I6)","v":0},null,null,null,{"$f":"N6*O6","v":0},null,null,{"$f":"IF(AND(Q6<>\"\",R6<>\"\"),Q6*R6,P6)","v":0},null,null,null,{"$f":"U6*V6","v":0},null,null,{"$f":"IF(AND(X6<>\"\",Y6<>\"\"),X6*Y6,W6)","v":0},null,null,null,{"$f":"AB6*AC6","v":0},null,null,{"$f":"IF(AND(AE6<>\"\",AF6<>\"\"),AE6*AF6,AD6)","v":0},null,null,null,{"$f":"AI6*AJ6","v":0},null,null,{"$f":"IF(AND(AL6<>\"\",AM6<>\"\"),AL6*AM6,AK6)","v":0}]
[null,null,null,null,0,null,null,null,0,null,null,0,null,null,null,0,null,null,0,null,null,null,0,null,null,0,null,null,null,0,null,null,0,null,null,null,0,null,null,0]
["住戸番号",null,null,null,0,null,null,null,0,null,null,0,null,null,null,0,null,null,0,null,null,null,0,null,null,0,null,null,null,0,null,null,0,null,null,null,0,null,null,0]
[null,null,null,null,0,null,null,null,0,null,null,0,null,null,null,0,null,null,0,null,null,null,0,null,null,0,null,null,null,0,null,null,0,null,null,null,0,null,null,0]
[null,null,null,null,0,null,null,null,0,null,null,0,null,null,null,0,null,null,0,null,null,null,0,null,null,0,null,null,null,0,null,null,0,null,null,null,0,null,null,0]
[null,null,null,null,0,null,null,null,0,null,null,0,null,null,null,0,null,null,0,null,null,null,0,null,null,0,null,null,null,0,null,null,0,null,null,null,0,null,null,0]
[null,null,null,null,0,null,null,null,0,null,null,0,null,null,null,0,null,null,0,null,null,null,0,null,null,0,null,null,null,0,null,null,0,null,null,null,0,null,null,0]
[null,null,null,null,0,null,null,null,0,null,null,0,null,null,null,0,null,null,0,null,null,null,0,null,null,0,null,null,null,0,null,null,0,null,null,null,0,null,null,0]
[null,null,null,null,0,null,null,null,0,null,null,0,null,null,null,0,null,null,0,null,null,null,0,null,null,0,null,null,null,0,null,null,0,null,null,null,0,null,null,0]
[null,null,null,null,0,null,null,null,0,null,null,0,null,null,null,0,null,null,0,null,null,null,0,null,null,0,null,null,null,0,null,null,0,null,null,null,0,null,null,0]
[null,null,null,null,0,null,null,null,0,null,null,0,null,null,null,0,null,null,0,null,null,null,0,null,null,0,null,null,null,0,null,null,0,null,null,null,0,null,null,0]
[null,null,null,null,0,null,null,null,0,null,null,0,null,null,null,0,null,null,0,null,null,null,0,null,null,0,null,null,null,0,null,null,0,"真上窓面積",null,{"$f":"SUM(AK6:AK16)","v":0},null,"変更後",{"$f":"SUM(AN6:AN16)","v":0}]
[null,null,null,null,0,null,null,null,0,null,null,0,null,null,null,0,null,null,0,null,null,null,0,null,null,0,null,null,null,0,null,null,0,"方位別開口比％",null,{"$f":"IF(AJ19>0,INT(AJ17/AJ19*1000)/1000,\"\")","v":""},null,null,{"$f":"IF(AM19>0,INT(AM17/AM19*1000)/1000,\"\")","v":""}]
["居室面積合計",null,{"$f":"INT(SUM(C6:C18)*100)/100","v":0},{"$f":"INT(SUM(E6:E18)*100)/100","v":0},null,"北面窓面積",null,{"$f":"SUM(I6:I18)","v":0},null,"変更後",{"$f":"SUM(L6:L18)","v":0},null,"東面窓面積",null,{"$f":"SUM(P6:P18)","v":0},null,"変更後",{"$f":"SUM(S6:S18)","v":0},null,"南面窓面積",null,{"$f":"SUM(W6:W18)","v":0},null,"変更後",{"$f":"SUM(Z6:Z18)","v":0},null,"西面窓面積",null,{"$f":"SUM(AD6:AD18)","v":0},null,"変更後",{"$f":"SUM(AG6:AG18)","v":0},null,"開口総窓面積",null,{"$f":"SUM(H19,O19,V19,AC19,AJ17)","v":0},null,"変更後",{"$f":"SUM(K19,R19,Y19,AF19,AM17)","v":0}]
["開口率％",null,{"$f":"IF(C19>0,INT(AJ19/C19*1000)/1000,\"\")","v":""},{"$f":"IF(D19>0,INT(AM19/D19*1000)/1000,\"\")","v":""},null,"方位別開口比％",null,{"$f":"IF(AJ19>0,INT(H19/AJ19*1000)/1000,\"\")","v":""},null,null,{"$f":"IF(AM19>0,INT(K19/AM19*1000)/1000,\"\")","v":""},null,"方位別開口比％",null,{"$f":"IF(AJ19>0,INT(O19/AJ19*1000)/1000,\"\")","v":""},null,null,{"$f":"IF(AM19>0,INT(R19/AM19*1000)/1000,\"\")","v":""},null,"方位別開口比％",null,{"$f":"IF(AJ19>0,INT(V19/AJ19*1000)/1000,\"\")","v":""},null,null,{"$f":"IF(AM19>0,INT(Y19/AM19*1000)/1000,\"\")","v":""},null,"方位別開口比％",null,{"$f":"IF(AJ19>0,INT(AC19/AJ19*1000)/1000,\"\")","v":""},null,null,{"$f":"IF(AM19>0,INT(AF19/AM19*1000)/1000,\"\")","v":""}]
[]
["ｸﾞﾙｰﾌﾟ番号","室名","室面積ｍ２",null,null,"北面","設計評価時",null,"面積","変更の場合\n（建設評価時）",null,null,"東面","設計評価時",null,"面積","変更の場合\n（建設評価時）",null,null,"南面","設計評価時",null,"面積","変更の場合\n（建設評価時）",null,null,"西面","設計評価時",null,"面積","変更の場合\n（建設評価時）",null,null,"真上","設計評価時",null,"面積","変更の場合\n（建設評価時）"]
[null,null,"設計時","変更後",null,"建具","W","H",null,"W","H",null,"建具","W","H",null,"W","H",null,"建具","W","H",null,"W","H",null,"建具","W","H",null,"W","H",null,"建具","W","H",null,"W","H"]
[26,null,null,null,{"$f":"IF(D24<>\"\",D24,C24)","v":0},null,null,null,{"$f":"G24*H24","v":0},null,null,{"$f":"IF(AND(J24<>\"\",K24<>\"\"),J24*K24,I24)","v":0},null,null,null,{"$f":"N24*O24","v":0},null,null,{"$f":"IF(AND(Q24<>\"\",R24<>\"\"),Q24*R24,P24)","v":0},null,null,null,{"$f":"U24*V24","v":0},null,null,{"$f":"IF(AND(X24<>\"\",Y24<>\"\"),X24*Y24,W24)","v":0},null,null,null,{"$f":"AB24*AC24","v":0},null,null,{"$f":"IF(AND(AE24<>\"\",AF24<>\"\"),AE24*AF24,AD24)","v":0},null,null,null,{"$f":"AI24*AJ24","v":0},null,null,{"$f":"IF(AND(AL24<>\"\",AM24<>\"\"),AL24*AM24,AK24)","v":0}]
[null,null,null,null,0,null,null,null,0,null,null,0,null,null,null,0,null,null,0,null,null,null,0,null,null,0,null,null,null,0,null,null,0,null,null,null,0,null,null,0]
["住戸番号",null,null,null,0,null,null,null,0,null,null,0,null,null,null,0,null,null,0,null,null,null,0,null,null,0,null,null,null,0,null,null,0,null,null,null,0,null,null,0]
[null,null,null,null,0,null,null,null,0,null,null,0,null,null,null,0,null,null,0,null,null,null,0,null,null,0,null,null,null,0,null,null,0,null,null,null,0,null,null,0]
[null,null,null,null,0,null,null,null,0,null,null,0,null,null,null,0,null,null,0,null,null,null,0,null,null,0,null,null,null,0,null,null,0,null,null,null,0,null,null,0]
[null,null,null,null,0,null,null,null,0,null,null,0,null,null,null,0,null,null,0,null,null,null,0,null,null,0,null,null,null,0,null,null,0,null,null,null,0,null,null,0]
[null,null,null,null,0,null,null,null,0,null,null,0,null,null,null,0,null,null,0,null,null,null,0,null,null,0,null,null,null,0,null,null,0,null,null,null,0,null,null,0]
[null,null,null,null,0,null,null,null,0,null,null,0,null,null,null,0,null,null,0,null,null,null,0,null,null,0,null,null,null,0,null,null,0,null,null,null,0,null,null,0]
[null,null,null,null,0,null,null,null,0,null,null,0,null,null,null,0,null,null,0,null,null,null,0,null,null,0,null,null,null,0,null,null,0,null,null,null,0,null,null,0]
[null,null,null,null,0,null,null,null,0,null,null,0,null,null,null,0,null,null,0,null,null,null,0,null,null,0,null,null,null,0,null,null,0,null,null,null,0,null,null,0]
[null,null,null,null,0,null,null,null,0,null,null,0,null,null,null,0,null,null,0,null,null,null,0,null,null,0,null,null,null,0,null,null,0,null,null,null,0,null,null,0]
[null,null,null,null,0,null,null,null,0,null,null,0,null,null,null,0,null,null,0,null,null,null,0,null,null,0,null,null,null,0,null,null,0,"真上窓面積",null,{"$f":"SUM(AK24:AK34)","v":0},null,"変更後",{"$f":"SUM(AN24:AN34)","v":0}]
[null,null,null,null,0,null,null,null,0,null,null,0,null,null,null,0,null,null,0,null,null,null,0,null,null,0,null,null,null,0,null,null,0,"方位別開口比％",null,{"$f":"IF(AJ37>0,INT(AJ35/AJ37*1000)/1000,\"\")","v":""},null,null,{"$f":"IF(AM37>0,INT(AM35/AM37*1000)/1000,\"\")","v":""}]
["居室面積合計",null,{"$f":"INT(SUM(C24:C36)*100)/100","v":0},{"$f":"INT(SUM(E24:E36)*100)/100","v":0},null,"北面窓面積",null,{"$f":"SUM(I24:I36)","v":0},null,"変更後",{"$f":"SUM(L24:L36)","v":0},null,"東面窓面積",null,{"$f":"SUM(P24:P36)","v":0},null,"変更後",{"$f":"SUM(S24:S36)","v":0},null,"南面窓面積",null,{"$f":"SUM(W24:W36)","v":0},null,"変更後",{"$f":"SUM(Z24:Z36)","v":0},null,"西面窓面積",null,{"$f":"SUM(AD24:AD36)","v":0},null,"変更後",{"$f":"SUM(AG24:AG36)","v":0},null,"開口総窓面積",null,{"$f":"SUM(H37,O37,V37,AC37,AJ35)","v":0},null,"変更後",{"$f":"SUM(K37,R37,Y37,AF37,AM35)","v":0}]
["開口率％",null,{"$f":"IF(C37>0,INT(AJ37/C37*1000)/1000,\"\")","v":""},{"$f":"IF(D37>0,INT(AM37/D37*1000)/1000,\"\")","v":""},null,"方位別開口比％",null,{"$f":"IF(AJ37>0,INT(H37/AJ37*1000)/1000,\"\")","v":""},null,null,{"$f":"IF(AM37>0,INT(K37/AM37*1000)/1000,\"\")","v":""},null,"方位別開口比％",null,{"$f":"IF(AJ37>0,INT(O37/AJ37*1000)/1000,\"\")","v":""},null,null,{"$f":"IF(AM37>0,INT(R37/AM37*1000)/1000,\"\")","v":""},null,"方位別開口比％",null,{"$f":"IF(AJ37>0,INT(V37/AJ37*1000)/1000,\"\")","v":""},null,null,{"$f":"IF(AM37>0,INT(Y37/AM37*1000)/1000,\"\")","v":""},null,"方位別開口比％",null,{"$f":"IF(AJ37>0,INT(AC37/AJ37*1000)/1000,\"\")","v":""},null,null,{"$f":"IF(AM37>0,INT(AF37/AM37*1000)/1000,\"\")","v":""}]
[]
["ｸﾞﾙｰﾌﾟ番号","室名","室面積ｍ２",null,null,"北面","設計評価時",null,"面積","変更の場合\n（建設評価時）",null,null,"東面","設計評価時",null,"面積","変更の場合\n（建設評価時）",null,null,"南面","設計評価時",null,"面積","変更の場合\n（建設評価時）",null,null,"西面","設計評価時",null,"面積","変更の場合\n（建設評価時）",null,null,"真上","設計評価時",null,"面積","変更の場合\n（建設評価時）"]
[null,null,"設計時","変更後",null,"建具","W","H",null,"W","H",null,"建具","W","H",null,"W","H",null,"建具","W","H",null,"W","H",null,"建具","W","H",null,"W","H",null,"建具","W","H",null,"W","H"]
[27,null,null,null,{"$f":"IF(D42<>\"\",D42,C42)","v":0},null,null,null,{"$f":"G42*H42","v":0},null,null,{"$f":"IF(AND(J42<>\"\",K42<>\"\"),J42*K42,I42)","v":0},null,null,null,{"$f":"N42*O42","v":0},null,null,{"$f":"IF(AND(Q42<>\"\",R42<>\"\"),Q42*R42,P42)","v":0},null,null,null,{"$f":"U42*V42","v":0},null,null,{"$f":"IF(AND(X42<>\"\",Y42<>\"\"),X42*Y42,W42)","v":0},null,null,null,{"$f":"AB42*AC42","v":0},null,null,{"$f":"IF(AND(AE42<>\"\",AF42<>\"\"),AE42*AF42,AD42)","v":0},null,null,null,{"$f":"AI42*AJ42","v":0},null,null,{"$f":"IF(AND(AL42<>\"\",AM42<>\"\"),AL42*AM42,AK42)","v":0}]
[null,null,null,null,0,null,null,null,0,null,null,0,null,null,null,0,null,null,0,null,null,null,0,null,null,0,null,null,null,0,null,null,0,null,null,null,0,null,null,0]
["住戸番号",null,null,null,0,null,null,null,0,null,null,0,null,null,null,0,null,null,0,null,null,null,0,null,null,0,null,null,null,0,null,null,0,null,null,null,0,null,null,0]
[null,null,null,null,0,null,null,null,0,null,null,0,null,null,null,0,null,null,0,null,null,null,0,null,null,0,null,null,null,0,null,null,0,null,null,null,0,null,null,0]
[null,null,null,null,0,null,null,null,0,null,null,0,null,null,null,0,null,null,0,null,null,null,0,null,null,0,null,null,null,0,null,null,0,null,null,null,0,null,null,0]
[null,null,null,null,0,null,null,null,0,null,null,0,null,null,null,0,null,null,0,null,null,null,0,null,null,0,null,null,null,0,null,null,0,null,null,null,0,null,null,0]
[null,null,null,null,0,null,null,null,0,null,null,0,null,null,null,0,null,null,0,null,null,null,0,null,null,0,null,null,null,0,null,null,0,null,null,null,0,null,null,0]
[null,null,null,null,0,null,null,null,0,null,null,0,null,null,null,0,null,null,0,null,null,null,0,null,null,0,null,null,null,0,null,null,0,null,null,null,0,null,null,0]
[null,null,null,null,0,null,null,null,0,null,null,0,null,null,null,0,null,null,0,null,null,null,0,null,null,0,null,null,null,0,null,null,0,null,null,null,0,null,null,0]
[null,null,null,null,0,null,null,null,0,null,null,0,null,null,null,0,null,null,0,null,null,null,0,null,null,0,null,null,null,0,null,null,0,null,null,null,0,null,null,0]
[null,null,null,null,0,null,null,null,0,null,null,0,null,null,null,0,null,null,0,null,null,null,0,null,null,0,null,null,null,0,null,null,0,null,null,null,0,null,null,0]
[null,null,null,null,0,null,null,null,0,null,null,0,null,null,null,0,null,null,0,null,null,null,0,null,null,0,null,null,null,0,null,null,0,"真上窓面積",null,{"$f":"SUM(AK42:AK52)","v":0},null,"変更後",{"$f":"SUM(AN42:AN52)","v":0}]
[null,null,null,null,0,null,null,null,0,null,null,0,null,null,null,0,null,null,0,null,null,null,0,null,null,0,null,null,null,0,null,null,0,"方位別開口比％",null,{"$f":"IF(AJ55>0,INT(AJ53/AJ55*1000)/1000,\"\")","v":""},null,null,{"$f":"IF(AM55>0,INT(AM53/AM55*1000)/1000,\"\")","v":""}]
["居室面積合計",null,{"$f":"INT(SUM(C42:C54)*100)/100","v":0},{"$f":"INT(SUM(E42:E54)*100)/100","v":0},null,"北面窓面積",null,{"$f":"SUM(I42:I54)","v":0},null,"変更後",{"$f":"SUM(L42:L54)","v":0},null,"東面窓面積",null,{"$f":"SUM(P42:P54)","v":0},null,"変更後",{"$f":"SUM(S42:S54)","v":0},null,"南面窓面積",null,{"$f":"SUM(W42:W54)","v":0},null,"変更後",{"$f":"SUM(Z42:Z54)","v":0},null,"西面窓面積",null,{"$f":"SUM(AD42:AD54)","v":0},null,"変更後",{"$f":"SUM(AG42:AG54)","v":0},null,"開口総窓面積",null,{"$f":"SUM(H55,O55,V55,AC55,AJ53)","v":0},null,"変更後",{"$f":"SUM(K55,R55,Y55,AF55,AM53)","v":0}]
["開口率％",null,{"$f":"IF(C55>0,INT(AJ55/C55*1000)/1000,\"\")","v":""},{"$f":"IF(D55>0,INT(AM55/D55*1000)/1000,\"\")","v":""},null,"方位別開口比％",null,{"$f":"IF(AJ55>0,INT(H55/AJ55*1000)/1000,\"\")","v":""},null,null,{"$f":"IF(AM55>0,INT(K55/AM55*1000)/1000,\"\")","v":""},null,"方位別開口比％",null,{"$f":"IF(AJ55>0,INT(O55/AJ55*1000)/1000,\"\")","v":""},null,null,{"$f":"IF(AM55>0,INT(R55/AM55*1000)/1000,\"\")","v":""},null,"方位別開口比％",null,{"$f":"IF(AJ55>0,INT(V55/AJ55*1000)/1000,\"\")","v":""},null,null,{"$f":"IF(AM55>0,INT(Y55/AM55*1000)/1000,\"\")","v":""},null,"方位別開口比％",null,{"$f":"IF(AJ55>0,INT(AC55/AJ55*1000)/1000,\"\")","v":""},null,null,{"$f":"IF(AM55>0,INT(AF55/AM55*1000)/1000,\"\")","v":""}]

{"sheet":"S10","index":11,"n_rows":56,"n_cols":40,"rows_kept":56,"cut":false,"hidden":false,"merged":[[19,0,19,1],[26,0,35,0],[44,0,53,0],[23,0,24,0],[41,0,42,0],[36,0,36,1],[37,0,37,1],[39,0,40,0],[39,1,40,1],[21,0,22,0],[21,1,22,1],[0,23,0,30],[1,27,1,30],[3,27,3,28],[3,6,3,7],[18,0,18,1],[3,2,3,3],[3,9,3,10],[3,20,3,21],[1,9,1,10],[5,0,6,0],[8,0,17,0],[3,0,4,0],[3,1,4,1],[3,23,3,24],[3,13,3,14],[21,2,21,3],[3,37,3,38],[3,30,3,31],[3,34,3,35],[3,16,3,17],[21,37,21,38],[21,23,21,24],[21,27,21,28],[21,30,21,31],[21,34,21,35],[21,6,21,7],[21,9,21,10],[21,13,21,14],[21,16,21,17],[21,20,21,21],[39,37,39,38],[39,16,39,17],[39,20,39,21],[39,23,39,24],[39,27,39,28],[54,0,54,1],[55,0,55,1],[39,30,39,31],[39,34,39,35],[39,9,39,10],[39,13,39,14],[39,2,39,3],[39,6,39,7]]}
["７　光視環境に関すること",null,null,null,null,null,null,null,null,null,null,null,null,null,null,null,null,null,null,null,null,"（案件名称：",null,{"$f":"建具開口!H1","v":0},null,null,null,null,null,null,null,"）",null,"PAGE：  /",null,null,null,null,"光視環境②"]
[null,"開口部面積計算シートB",null,null,null,null,null,{"$f":"'S1'!H2","v":"BL1"},null,null,null,null,null,"申請者\n記入",null,null,"自動\n記入",null,null,"変更時\n記入","（単位　長さ：m、面積：m2）",null,null,null,null,null,null,{"$f":"建具開口!K2","v":"00:00:00"},null,null,null,null,null,null,null,null,null,null,"UHEC都市居住評価センター"]
[]
["ｸﾞﾙｰﾌﾟ番号","室名","室面積ｍ２",null,null,"北面","設計評価時",null,"面積","変更の場合\n（建設評価時）",null,null,"東面","設計評価時",null,"面積","変更の場合\n（建設評価時）",null,null,"南面","設計評価時",null,"面積","変更の場合\n（建設評価時）",null,null,"西面","設計評価時",null,"面積","変更の場合\n（建設評価時）",null,null,"真上","設計評価時",null,"面積","変更の場合\n（建設評価時）"]
[null,null,"設計時","変更後",null,"建具","W","H",null,"W","H",null,"建具","W","H",null,"W","H",null,"建具","W","H",null,"W","H",null,"建具","W","H",null,"W","H",null,"建具","W","H",null,"W","H"]
[28,null,null,null,{"$f":"IF(D6<>\"\",D6,C6)","v":0},null,null,null,{"$f":"G6*H6","v":0},null,null,{"$f":"IF(AND(J6<>\"\",K6<>\"\"),J6*K6,I6)","v":0},null,null,null,{"$f":"N6*O6","v":0},null,null,{"$f":"IF(AND(Q6<>\"\",R6<>\"\"),Q6*R6,P6)","v":0},null,null,null,{"$f":"U6*V6","v":0},null,null,{"$f":"IF(AND(X6<>\"\",Y6<>\"\"),X6*Y6,W6)","v":0},null,null,null,{"$f":"AB6*AC6","v":0},null,null,{"$f":"IF(AND(AE6<>\"\",AF6<>\"\"),AE6*AF6,AD6)","v":0},null,null,null,{"$f":"AI6*AJ6","v":0},null,null,{"$f":"IF(AND(AL6<>\"\",AM6<>\"\"),AL6*AM6,AK6)","v":0}]
[null,null,null,null,0,null,null,null,0,null,null,0,null,null,null,0,null,null,0,null,null,null,0,null,null,0,null,null,null,0,null,null,0,null,null,null,0,null,null,0]
["住戸番号",null,null,null,0,null,null,null,0,null,null,0,null,null,null,0,null,null,0,null,null,null,0,null,null,0,null,null,null,0,null,null,0,null,null,null,0,null,null,0]
[null,null,null,null,0,null,null,null,0,null,null,0,null,null,null,0,null,null,0,null,null,null,0,null,null,0,null,null,null,0,null,null,0,null,null,null,0,null,null,0]
[null,null,null,null,0,null,null,null,0,null,null,0,null,null,null,0,null,null,0,null,null,null,0,null,null,0,null,null,null,0,null,null,0,null,null,null,0,null,null,0]
[null,null,null,null,0,null,null,null,0,null,null,0,null,null,null,0,null,null,0,null,null,null,0,null,null,0,null,null,null,0,null,null,0,null,null,null,0,null,null,0]
[null,null,null,null,0,null,null,null,0,null,null,0,null,null,null,0,null,null,0,null,null,null,0,null,null,0,null,null,null,0,null,null,0,null,null,null,0,null,null,0]
[null,null,null,null,0,null,null,null,0,null,null,0,null,null,null,0,null,null,0,null,null,null,0,null,null,0,null,null,null,0,null,null,0,null,null,null,0,null,null,0]
[null,null,null,null,0,null,null,null,0,null,null,0,null,null,null,0,null,null,0,null,null,null,0,null,null,0,null,null,null,0,null,null,0,null,null,null,0,null,null,0]
[null,null,null,null,0,null,null,null,0,null,null,0,null,null,null,0,null,null,0,null,null,null,0,null,null,0,null,null,null,0,null,null,0,null,null,null,0,null,null,0]
[null,null,null,null,0,null,null,null,0,null,null,0,null,null,null,0,null,null,0,null,null,null,0,null,null,0,null,null,null,0,null,null,0,null,null,null,0,null,null,0]
[null,null,null,null,0,null,null,null,0,null,null,0,null,null,null,0,null,null,0,null,null,null,0,null,null,0,null,null,null,0,null,null,0,"真上窓面積",null,{"$f":"SUM(AK6:AK16)","v":0},null,"変更後",{"$f":"SUM(AN6:AN16)","v":0}]
[null,null,null,null,0,null,null,null,0,null,null,0,null,null,null,0,null,null,0,null,null,null,0,null,null,0,null,null,null,0,null,null,0,"方位別開口比％",null,{"$f":"IF(AJ19>0,INT(AJ17/AJ19*1000)/1000,\"\")","v":""},null,null,{"$f":"IF(AM19>0,INT(AM17/AM19*1000)/1000,\"\")","v":""}]
["居室面積合計",null,{"$f":"INT(SUM(C6:C18)*100)/100","v":0},{"$f":"INT(SUM(E6:E18)*100)/100","v":0},null,"北面窓面積",null,{"$f":"SUM(I6:I18)","v":0},null,"変更後",{"$f":"SUM(L6:L18)","v":0},null,"東面窓面積",null,{"$f":"SUM(P6:P18)","v":0},null,"変更後",{"$f":"SUM(S6:S18)","v":0},null,"南面窓面積",null,{"$f":"SUM(W6:W18)","v":0},null,"変更後",{"$f":"SUM(Z6:Z18)","v":0},null,"西面窓面積",null,{"$f":"SUM(AD6:AD18)","v":0},null,"変更後",{"$f":"SUM(AG6:AG18)","v":0},null,"開口総窓面積",null,{"$f":"SUM(H19,O19,V19,AC19,AJ17)","v":0},null,"変更後",{"$f":"SUM(K19,R19,Y19,AF19,AM17)","v":0}]
["開口率％",null,{"$f":"IF(C19>0,INT(AJ19/C19*1000)/1000,\"\")","v":""},{"$f":"IF(D19>0,INT(AM19/D19*1000)/1000,\"\")","v":""},null,"方位別開口比％",null,{"$f":"IF(AJ19>0,INT(H19/AJ19*1000)/1000,\"\")","v":""},null,null,{"$f":"IF(AM19>0,INT(K19/AM19*1000)/1000,\"\")","v":""},null,"方位別開口比％",null,{"$f":"IF(AJ19>0,INT(O19/AJ19*1000)/1000,\"\")","v":""},null,null,{"$f":"IF(AM19>0,INT(R19/AM19*1000)/1000,\"\")","v":""},null,"方位別開口比％",null,{"$f":"IF(AJ19>0,INT(V19/AJ19*1000)/1000,\"\")","v":""},null,null,{"$f":"IF(AM19>0,INT(Y19/AM19*1000)/1000,\"\")","v":""},null,"方位別開口比％",null,{"$f":"IF(AJ19>0,INT(AC19/AJ19*1000)/1000,\"\")","v":""},null,null,{"$f":"IF(AM19>0,INT(AF19/AM19*1000)/1000,\"\")","v":""}]
[]
["ｸﾞﾙｰﾌﾟ番号","室名","室面積ｍ２",null,null,"北面","設計評価時",null,"面積","変更の場合\n（建設評価時）",null,null,"東面","設計評価時",null,"面積","変更の場合\n（建設評価時）",null,null,"南面","設計評価時",null,"面積","変更の場合\n（建設評価時）",null,null,"西面","設計評価時",null,"面積","変更の場合\n（建設評価時）",null,null,"真上","設計評価時",null,"面積","変更の場合\n（建設評価時）"]
[null,null,"設計時","変更後",null,"建具","W","H",null,"W","H",null,"建具","W","H",null,"W","H",null,"建具","W","H",null,"W","H",null,"建具","W","H",null,"W","H",null,"建具","W","H",null,"W","H"]
[29,null,null,null,{"$f":"IF(D24<>\"\",D24,C24)","v":0},null,null,null,{"$f":"G24*H24","v":0},null,null,{"$f":"IF(AND(J24<>\"\",K24<>\"\"),J24*K24,I24)","v":0},null,null,null,{"$f":"N24*O24","v":0},null,null,{"$f":"IF(AND(Q24<>\"\",R24<>\"\"),Q24*R24,P24)","v":0},null,null,null,{"$f":"U24*V24","v":0},null,null,{"$f":"IF(AND(X24<>\"\",Y24<>\"\"),X24*Y24,W24)","v":0},null,null,null,{"$f":"AB24*AC24","v":0},null,null,{"$f":"IF(AND(AE24<>\"\",AF24<>\"\"),AE24*AF24,AD24)","v":0},null,null,null,{"$f":"AI24*AJ24","v":0},null,null,{"$f":"IF(AND(AL24<>\"\",AM24<>\"\"),AL24*AM24,AK24)","v":0}]
[null,null,null,null,0,null,null,null,0,null,null,0,null,null,null,0,null,null,0,null,null,null,0,null,null,0,null,null,null,0,null,null,0,null,null,null,0,null,null,0]
["住戸番号",null,null,null,0,null,null,null,0,null,null,0,null,null,null,0,null,null,0,null,null,null,0,null,null,0,null,null,null,0,null,null,0,null,null,null,0,null,null,0]
[null,null,null,null,0,null,null,null,0,null,null,0,null,null,null,0,null,null,0,null,null,null,0,null,null,0,null,null,null,0,null,null,0,null,null,null,0,null,null,0]
[null,null,null,null,0,null,null,null,0,null,null,0,null,null,null,0,null,null,0,null,null,null,0,null,null,0,null,null,null,0,null,null,0,null,null,null,0,null,null,0]
[null,null,null,null,0,null,null,null,0,null,null,0,null,null,null,0,null,null,0,null,null,null,0,null,null,0,null,null,null,0,null,null,0,null,null,null,0,null,null,0]
[null,null,null,null,0,null,null,null,0,null,null,0,null,null,null,0,null,null,0,null,null,null,0,null,null,0,null,null,null,0,null,null,0,null,null,null,0,null,null,0]
[null,null,null,null,0,null,null,null,0,null,null,0,null,null,null,0,null,null,0,null,null,null,0,null,null,0,null,null,null,0,null,null,0,null,null,null,0,null,null,0]
[null,null,null,null,0,null,null,null,0,null,null,0,null,null,null,0,null,null,0,null,null,null,0,null,null,0,null,null,null,0,null,null,0,null,null,null,0,null,null,0]
[null,null,null,null,0,null,null,null,0,null,null,0,null,null,null,0,null,null,0,null,null,null,0,null,null,0,null,null,null,0,null,null,0,null,null,null,0,null,null,0]
[null,null,null,null,0,null,null,null,0,null,null,0,null,null,null,0,null,null,0,null,null,null,0,null,null,0,null,null,null,0,null,null,0,null,null,null,0,null,null,0]
[null,null,null,null,0,null,null,null,0,null,null,0,null,null,null,0,null,null,0,null,null,null,0,null,null,0,null,null,null,0,null,null,0,"真上窓面積",null,{"$f":"SUM(AK24:AK34)","v":0},null,"変更後",{"$f":"SUM(AN24:AN34)","v":0}]
[null,null,null,null,0,null,null,null,0,null,null,0,null,null,null,0,null,null,0,null,null,null,0,null,null,0,null,null,null,0,null,null,0,"方位別開口比％",null,{"$f":"IF(AJ37>0,INT(AJ35/AJ37*1000)/1000,\"\")","v":""},null,null,{"$f":"IF(AM37>0,INT(AM35/AM37*1000)/1000,\"\")","v":""}]
["居室面積合計",null,{"$f":"INT(SUM(C24:C36)*100)/100","v":0},{"$f":"INT(SUM(E24:E36)*100)/100","v":0},null,"北面窓面積",null,{"$f":"SUM(I24:I36)","v":0},null,"変更後",{"$f":"SUM(L24:L36)","v":0},null,"東面窓面積",null,{"$f":"SUM(P24:P36)","v":0},null,"変更後",{"$f":"SUM(S24:S36)","v":0},null,"南面窓面積",null,{"$f":"SUM(W24:W36)","v":0},null,"変更後",{"$f":"SUM(Z24:Z36)","v":0},null,"西面窓面積",null,{"$f":"SUM(AD24:AD36)","v":0},null,"変更後",{"$f":"SUM(AG24:AG36)","v":0},null,"開口総窓面積",null,{"$f":"SUM(H37,O37,V37,AC37,AJ35)","v":0},null,"変更後",{"$f":"SUM(K37,R37,Y37,AF37,AM35)","v":0}]
["開口率％",null,{"$f":"IF(C37>0,INT(AJ37/C37*1000)/1000,\"\")","v":""},{"$f":"IF(D37>0,INT(AM37/D37*1000)/1000,\"\")","v":""},null,"方位別開口比％",null,{"$f":"IF(AJ37>0,INT(H37/AJ37*1000)/1000,\"\")","v":""},null,null,{"$f":"IF(AM37>0,INT(K37/AM37*1000)/1000,\"\")","v":""},null,"方位別開口比％",null,{"$f":"IF(AJ37>0,INT(O37/AJ37*1000)/1000,\"\")","v":""},null,null,{"$f":"IF(AM37>0,INT(R37/AM37*1000)/1000,\"\")","v":""},null,"方位別開口比％",null,{"$f":"IF(AJ37>0,INT(V37/AJ37*1000)/1000,\"\")","v":""},null,null,{"$f":"IF(AM37>0,INT(Y37/AM37*1000)/1000,\"\")","v":""},null,"方位別開口比％",null,{"$f":"IF(AJ37>0,INT(AC37/AJ37*1000)/1000,\"\")","v":""},null,null,{"$f":"IF(AM37>0,INT(AF37/AM37*1000)/1000,\"\")","v":""}]
[]
["ｸﾞﾙｰﾌﾟ番号","室名","室面積ｍ２",null,null,"北面","設計評価時",null,"面積","変更の場合\n（建設評価時）",null,null,"東面","設計評価時",null,"面積","変更の場合\n（建設評価時）",null,null,"南面","設計評価時",null,"面積","変更の場合\n（建設評価時）",null,null,"西面","設計評価時",null,"面積","変更の場合\n（建設評価時）",null,null,"真上","設計評価時",null,"面積","変更の場合\n（建設評価時）"]
[null,null,"設計時","変更後",null,"建具","W","H",null,"W","H",null,"建具","W","H",null,"W","H",null,"建具","W","H",null,"W","H",null,"建具","W","H",null,"W","H",null,"建具","W","H",null,"W","H"]
[30,null,null,null,{"$f":"IF(D42<>\"\",D42,C42)","v":0},null,null,null,{"$f":"G42*H42","v":0},null,null,{"$f":"IF(AND(J42<>\"\",K42<>\"\"),J42*K42,I42)","v":0},null,null,null,{"$f":"N42*O42","v":0},null,null,{"$f":"IF(AND(Q42<>\"\",R42<>\"\"),Q42*R42,P42)","v":0},null,null,null,{"$f":"U42*V42","v":0},null,null,{"$f":"IF(AND(X42<>\"\",Y42<>\"\"),X42*Y42,W42)","v":0},null,null,null,{"$f":"AB42*AC42","v":0},null,null,{"$f":"IF(AND(AE42<>\"\",AF42<>\"\"),AE42*AF42,AD42)","v":0},null,null,null,{"$f":"AI42*AJ42","v":0},null,null,{"$f":"IF(AND(AL42<>\"\",AM42<>\"\"),AL42*AM42,AK42)","v":0}]
[null,null,null,null,0,null,null,null,0,null,null,0,null,null,null,0,null,null,0,null,null,null,0,null,null,0,null,null,null,0,null,null,0,null,null,null,0,null,null,0]
["住戸番号",null,null,null,0,null,null,null,0,null,null,0,null,null,null,0,null,null,0,null,null,null,0,null,null,0,null,null,null,0,null,null,0,null,null,null,0,null,null,0]
[null,null,null,null,0,null,null,null,0,null,null,0,null,null,null,0,null,null,0,null,null,null,0,null,null,0,null,null,null,0,null,null,0,null,null,null,0,null,null,0]
[null,null,null,null,0,null,null,null,0,null,null,0,null,null,null,0,null,null,0,null,null,null,0,null,null,0,null,null,null,0,null,null,0,null,null,null,0,null,null,0]
[null,null,null,null,0,null,null,null,0,null,null,0,null,null,null,0,null,null,0,null,null,null,0,null,null,0,null,null,null,0,null,null,0,null,null,null,0,null,null,0]
[null,null,null,null,0,null,null,null,0,null,null,0,null,null,null,0,null,null,0,null,null,null,0,null,null,0,null,null,null,0,null,null,0,null,null,null,0,null,null,0]
[null,null,null,null,0,null,null,null,0,null,null,0,null,null,null,0,null,null,0,null,null,null,0,null,null,0,null,null,null,0,null,null,0,null,null,null,0,null,null,0]
[null,null,null,null,0,null,null,null,0,null,null,0,null,null,null,0,null,null,0,null,null,null,0,null,null,0,null,null,null,0,null,null,0,null,null,null,0,null,null,0]
[null,null,null,null,0,null,null,null,0,null,null,0,null,null,null,0,null,null,0,null,null,null,0,null,null,0,null,null,null,0,null,null,0,null,null,null,0,null,null,0]
[null,null,null,null,0,null,null,null,0,null,null,0,null,null,null,0,null,null,0,null,null,null,0,null,null,0,null,null,null,0,null,null,0,null,null,null,0,null,null,0]
[null,null,null,null,0,null,null,null,0,null,null,0,null,null,null,0,null,null,0,null,null,null,0,null,null,0,null,null,null,0,null,null,0,"真上窓面積",null,{"$f":"SUM(AK42:AK52)","v":0},null,"変更後",{"$f":"SUM(AN42:AN52)","v":0}]
[null,null,null,null,0,null,null,null,0,null,null,0,null,null,null,0,null,null,0,null,null,null,0,null,null,0,null,null,null,0,null,null,0,"方位別開口比％",null,{"$f":"IF(AJ55>0,INT(AJ53/AJ55*1000)/1000,\"\")","v":""},null,null,{"$f":"IF(AM55>0,INT(AM53/AM55*1000)/1000,\"\")","v":""}]
["居室面積合計",null,{"$f":"INT(SUM(C42:C54)*100)/100","v":0},{"$f":"INT(SUM(E42:E54)*100)/100","v":0},null,"北面窓面積",null,{"$f":"SUM(I42:I54)","v":0},null,"変更後",{"$f":"SUM(L42:L54)","v":0},null,"東面窓面積",null,{"$f":"SUM(P42:P54)","v":0},null,"変更後",{"$f":"SUM(S42:S54)","v":0},null,"南面窓面積",null,{"$f":"SUM(W42:W54)","v":0},null,"変更後",{"$f":"SUM(Z42:Z54)","v":0},null,"西面窓面積",null,{"$f":"SUM(AD42:AD54)","v":0},null,"変更後",{"$f":"SUM(AG42:AG54)","v":0},null,"開口総窓面積",null,{"$f":"SUM(H55,O55,V55,AC55,AJ53)","v":0},null,"変更後",{"$f":"SUM(K55,R55,Y55,AF55,AM53)","v":0}]
["開口率％",null,{"$f":"IF(C55>0,INT(AJ55/C55*1000)/1000,\"\")","v":""},{"$f":"IF(D55>0,INT(AM55/D55*1000)/1000,\"\")","v":""},null,"方位別開口比％",null,{"$f":"IF(AJ55>0,INT(H55/AJ55*1000)/1000,\"\")","v":""},null,null,{"$f":"IF(AM55>0,INT(K55/AM55*1000)/1000,\"\")","v":""},null,"方位別開口比％",null,{"$f":"IF(AJ55>0,INT(O55/AJ55*1000)/1000,\"\")","v":""},null,null,{"$f":"IF(AM55>0,INT(R55/AM55*1000)/1000,\"\")","v":""},null,"方位別開口比％",null,{"$f":"IF(AJ55>0,INT(V55/AJ55*1000)/1000,\"\")","v":""},null,null,{"$f":"IF(AM55>0,INT(Y55/AM55*1000)/1000,\"\")","v":""},null,"方位別開口比％",null,{"$f":"IF(AJ55>0,INT(AC55/AJ55*1000)/1000,\"\")","v":""},null,null,{"$f":"IF(AM55>0,INT(AF55/AM55*1000)/1000,\"\")","v":""}]

{"sheet":"S11","index":12,"n_rows":56,"n_cols":40,"rows_kept":56,"cut":false,"hidden":false,"merged":[[19,0,19,1],[26,0,35,0],[44,0,53,0],[23,0,24,0],[41,0,42,0],[36,0,36,1],[37,0,37,1],[39,0,40,0],[39,1,40,1],[21,0,22,0],[21,1,22,1],[0,23,0,30],[1,27,1,30],[3,27,3,28],[3,6,3,7],[18,0,18,1],[3,2,3,3],[3,9,3,10],[3,20,3,21],[1,9,1,10],[5,0,6,0],[8,0,17,0],[3,0,4,0],[3,1,4,1],[3,23,3,24],[3,13,3,14],[21,2,21,3],[3,37,3,38],[3,30,3,31],[3,34,3,35],[3,16,3,17],[21,37,21,38],[21,23,21,24],[21,27,21,28],[21,30,21,31],[21,34,21,35],[21,6,21,7],[21,9,21,10],[21,13,21,14],[21,16,21,17],[21,20,21,21],[39,37,39,38],[39,16,39,17],[39,20,39,21],[39,23,39,24],[39,27,39,28],[54,0,54,1],[55,0,55,1],[39,30,39,31],[39,34,39,35],[39,9,39,10],[39,13,39,14],[39,2,39,3],[39,6,39,7]]}
["７　光視環境に関すること",null,null,null,null,null,null,null,null,null,null,null,null,null,null,null,null,null,null,null,null,"（案件名称：",null,{"$f":"建具開口!H1","v":0},null,null,null,null,null,null,null,"）",null,"PAGE：  /",null,null,null,null,"光視環境②"]
[null,"開口部面積計算シートB",null,null,null,null,null,{"$f":"'S1'!H2","v":"BL1"},null,null,null,null,null,"申請者\n記入",null,null,"自動\n記入",null,null,"変更時\n記入","（単位　長さ：m、面積：m2）",null,null,null,null,null,null,{"$f":"建具開口!K2","v":"00:00:00"},null,null,null,null,null,null,null,null,null,null,"UHEC都市居住評価センター"]
[]
["ｸﾞﾙｰﾌﾟ番号","室名","室面積ｍ２",null,null,"北面","設計評価時",null,"面積","変更の場合\n（建設評価時）",null,null,"東面","設計評価時",null,"面積","変更の場合\n（建設評価時）",null,null,"南面","設計評価時",null,"面積","変更の場合\n（建設評価時）",null,null,"西面","設計評価時",null,"面積","変更の場合\n（建設評価時）",null,null,"真上","設計評価時",null,"面積","変更の場合\n（建設評価時）"]
[null,null,"設計時","変更後",null,"建具","W","H",null,"W","H",null,"建具","W","H",null,"W","H",null,"建具","W","H",null,"W","H",null,"建具","W","H",null,"W","H",null,"建具","W","H",null,"W","H"]
[31,null,null,null,{"$f":"IF(D6<>\"\",D6,C6)","v":0},null,null,null,{"$f":"G6*H6","v":0},null,null,{"$f":"IF(AND(J6<>\"\",K6<>\"\"),J6*K6,I6)","v":0},null,null,null,{"$f":"N6*O6","v":0},null,null,{"$f":"IF(AND(Q6<>\"\",R6<>\"\"),Q6*R6,P6)","v":0},null,null,null,{"$f":"U6*V6","v":0},null,null,{"$f":"IF(AND(X6<>\"\",Y6<>\"\"),X6*Y6,W6)","v":0},null,null,null,{"$f":"AB6*AC6","v":0},null,null,{"$f":"IF(AND(AE6<>\"\",AF6<>\"\"),AE6*AF6,AD6)","v":0},null,null,null,{"$f":"AI6*AJ6","v":0},null,null,{"$f":"IF(AND(AL6<>\"\",AM6<>\"\"),AL6*AM6,AK6)","v":0}]
[null,null,null,null,0,null,null,null,0,null,null,0,null,null,null,0,null,null,0,null,null,null,0,null,null,0,null,null,null,0,null,null,0,null,null,null,0,null,null,0]
["住戸番号",null,null,null,0,null,null,null,0,null,null,0,null,null,null,0,null,null,0,null,null,null,0,null,null,0,null,null,null,0,null,null,0,null,null,null,0,null,null,0]
[null,null,null,null,0,null,null,null,0,null,null,0,null,null,null,0,null,null,0,null,null,null,0,null,null,0,null,null,null,0,null,null,0,null,null,null,0,null,null,0]
[null,null,null,null,0,null,null,null,0,null,null,0,null,null,null,0,null,null,0,null,null,null,0,null,null,0,null,null,null,0,null,null,0,null,null,null,0,null,null,0]
[null,null,null,null,0,null,null,null,0,null,null,0,null,null,null,0,null,null,0,null,null,null,0,null,null,0,null,null,null,0,null,null,0,null,null,null,0,null,null,0]
[null,null,null,null,0,null,null,null,0,null,null,0,null,null,null,0,null,null,0,null,null,null,0,null,null,0,null,null,null,0,null,null,0,null,null,null,0,null,null,0]
[null,null,null,null,0,null,null,null,0,null,null,0,null,null,null,0,null,null,0,null,null,null,0,null,null,0,null,null,null,0,null,null,0,null,null,null,0,null,null,0]
[null,null,null,null,0,null,null,null,0,null,null,0,null,null,null,0,null,null,0,null,null,null,0,null,null,0,null,null,null,0,null,null,0,null,null,null,0,null,null,0]
[null,null,null,null,0,null,null,null,0,null,null,0,null,null,null,0,null,null,0,null,null,null,0,null,null,0,null,null,null,0,null,null,0,null,null,null,0,null,null,0]
[null,null,null,null,0,null,null,null,0,null,null,0,null,null,null,0,null,null,0,null,null,null,0,null,null,0,null,null,null,0,null,null,0,null,null,null,0,null,null,0]
[null,null,null,null,0,null,null,null,0,null,null,0,null,null,null,0,null,null,0,null,null,null,0,null,null,0,null,null,null,0,null,null,0,"真上窓面積",null,{"$f":"SUM(AK6:AK16)","v":0},null,"変更後",{"$f":"SUM(AN6:AN16)","v":0}]
[null,null,null,null,0,null,null,null,0,null,null,0,null,null,null,0,null,null,0,null,null,null,0,null,null,0,null,null,null,0,null,null,0,"方位別開口比％",null,{"$f":"IF(AJ19>0,INT(AJ17/AJ19*1000)/1000,\"\")","v":""},null,null,{"$f":"IF(AM19>0,INT(AM17/AM19*1000)/1000,\"\")","v":""}]
["居室面積合計",null,{"$f":"INT(SUM(C6:C18)*100)/100","v":0},{"$f":"INT(SUM(E6:E18)*100)/100","v":0},null,"北面窓面積",null,{"$f":"SUM(I6:I18)","v":0},null,"変更後",{"$f":"SUM(L6:L18)","v":0},null,"東面窓面積",null,{"$f":"SUM(P6:P18)","v":0},null,"変更後",{"$f":"SUM(S6:S18)","v":0},null,"南面窓面積",null,{"$f":"SUM(W6:W18)","v":0},null,"変更後",{"$f":"SUM(Z6:Z18)","v":0},null,"西面窓面積",null,{"$f":"SUM(AD6:AD18)","v":0},null,"変更後",{"$f":"SUM(AG6:AG18)","v":0},null,"開口総窓面積",null,{"$f":"SUM(H19,O19,V19,AC19,AJ17)","v":0},null,"変更後",{"$f":"SUM(K19,R19,Y19,AF19,AM17)","v":0}]
["開口率％",null,{"$f":"IF(C19>0,INT(AJ19/C19*1000)/1000,\"\")","v":""},{"$f":"IF(D19>0,INT(AM19/D19*1000)/1000,\"\")","v":""},null,"方位別開口比％",null,{"$f":"IF(AJ19>0,INT(H19/AJ19*1000)/1000,\"\")","v":""},null,null,{"$f":"IF(AM19>0,INT(K19/AM19*1000)/1000,\"\")","v":""},null,"方位別開口比％",null,{"$f":"IF(AJ19>0,INT(O19/AJ19*1000)/1000,\"\")","v":""},null,null,{"$f":"IF(AM19>0,INT(R19/AM19*1000)/1000,\"\")","v":""},null,"方位別開口比％",null,{"$f":"IF(AJ19>0,INT(V19/AJ19*1000)/1000,\"\")","v":""},null,null,{"$f":"IF(AM19>0,INT(Y19/AM19*1000)/1000,\"\")","v":""},null,"方位別開口比％",null,{"$f":"IF(AJ19>0,INT(AC19/AJ19*1000)/1000,\"\")","v":""},null,null,{"$f":"IF(AM19>0,INT(AF19/AM19*1000)/1000,\"\")","v":""}]
[]
["ｸﾞﾙｰﾌﾟ番号","室名","室面積ｍ２",null,null,"北面","設計評価時",null,"面積","変更の場合\n（建設評価時）",null,null,"東面","設計評価時",null,"面積","変更の場合\n（建設評価時）",null,null,"南面","設計評価時",null,"面積","変更の場合\n（建設評価時）",null,null,"西面","設計評価時",null,"面積","変更の場合\n（建設評価時）",null,null,"真上","設計評価時",null,"面積","変更の場合\n（建設評価時）"]
[null,null,"設計時","変更後",null,"建具","W","H",null,"W","H",null,"建具","W","H",null,"W","H",null,"建具","W","H",null,"W","H",null,"建具","W","H",null,"W","H",null,"建具","W","H",null,"W","H"]
[32,null,null,null,{"$f":"IF(D24<>\"\",D24,C24)","v":0},null,null,null,{"$f":"G24*H24","v":0},null,null,{"$f":"IF(AND(J24<>\"\",K24<>\"\"),J24*K24,I24)","v":0},null,null,null,{"$f":"N24*O24","v":0},null,null,{"$f":"IF(AND(Q24<>\"\",R24<>\"\"),Q24*R24,P24)","v":0},null,null,null,{"$f":"U24*V24","v":0},null,null,{"$f":"IF(AND(X24<>\"\",Y24<>\"\"),X24*Y24,W24)","v":0},null,null,null,{"$f":"AB24*AC24","v":0},null,null,{"$f":"IF(AND(AE24<>\"\",AF24<>\"\"),AE24*AF24,AD24)","v":0},null,null,null,{"$f":"AI24*AJ24","v":0},null,null,{"$f":"IF(AND(AL24<>\"\",AM24<>\"\"),AL24*AM24,AK24)","v":0}]
[null,null,null,null,0,null,null,null,0,null,null,0,null,null,null,0,null,null,0,null,null,null,0,null,null,0,null,null,null,0,null,null,0,null,null,null,0,null,null,0]
["住戸番号",null,null,null,0,null,null,null,0,null,null,0,null,null,null,0,null,null,0,null,null,null,0,null,null,0,null,null,null,0,null,null,0,null,null,null,0,null,null,0]
[null,null,null,null,0,null,null,null,0,null,null,0,null,null,null,0,null,null,0,null,null,null,0,null,null,0,null,null,null,0,null,null,0,null,null,null,0,null,null,0]
[null,null,null,null,0,null,null,null,0,null,null,0,null,null,null,0,null,null,0,null,null,null,0,null,null,0,null,null,null,0,null,null,0,null,null,null,0,null,null,0]
[null,null,null,null,0,null,null,null,0,null,null,0,null,null,null,0,null,null,0,null,null,null,0,null,null,0,null,null,null,0,null,null,0,null,null,null,0,null,null,0]
[null,null,null,null,0,null,null,null,0,null,null,0,null,null,null,0,null,null,0,null,null,null,0,null,null,0,null,null,null,0,null,null,0,null,null,null,0,null,null,0]
[null,null,null,null,0,null,null,null,0,null,null,0,null,null,null,0,null,null,0,null,null,null,0,null,null,0,null,null,null,0,null,null,0,null,null,null,0,null,null,0]
[null,null,null,null,0,null,null,null,0,null,null,0,null,null,null,0,null,null,0,null,null,null,0,null,null,0,null,null,null,0,null,null,0,null,null,null,0,null,null,0]
[null,null,null,null,0,null,null,null,0,null,null,0,null,null,null,0,null,null,0,null,null,null,0,null,null,0,null,null,null,0,null,null,0,null,null,null,0,null,null,0]
[null,null,null,null,0,null,null,null,0,null,null,0,null,null,null,0,null,null,0,null,null,null,0,null,null,0,null,null,null,0,null,null,0,null,null,null,0,null,null,0]
[null,null,null,null,0,null,null,null,0,null,null,0,null,null,null,0,null,null,0,null,null,null,0,null,null,0,null,null,null,0,null,null,0,"真上窓面積",null,{"$f":"SUM(AK24:AK34)","v":0},null,"変更後",{"$f":"SUM(AN24:AN34)","v":0}]
[null,null,null,null,0,null,null,null,0,null,null,0,null,null,null,0,null,null,0,null,null,null,0,null,null,0,null,null,null,0,null,null,0,"方位別開口比％",null,{"$f":"IF(AJ37>0,INT(AJ35/AJ37*1000)/1000,\"\")","v":""},null,null,{"$f":"IF(AM37>0,INT(AM35/AM37*1000)/1000,\"\")","v":""}]
["居室面積合計",null,{"$f":"INT(SUM(C24:C36)*100)/100","v":0},{"$f":"INT(SUM(E24:E36)*100)/100","v":0},null,"北面窓面積",null,{"$f":"SUM(I24:I36)","v":0},null,"変更後",{"$f":"SUM(L24:L36)","v":0},null,"東面窓面積",null,{"$f":"SUM(P24:P36)","v":0},null,"変更後",{"$f":"SUM(S24:S36)","v":0},null,"南面窓面積",null,{"$f":"SUM(W24:W36)","v":0},null,"変更後",{"$f":"SUM(Z24:Z36)","v":0},null,"西面窓面積",null,{"$f":"SUM(AD24:AD36)","v":0},null,"変更後",{"$f":"SUM(AG24:AG36)","v":0},null,"開口総窓面積",null,{"$f":"SUM(H37,O37,V37,AC37,AJ35)","v":0},null,"変更後",{"$f":"SUM(K37,R37,Y37,AF37,AM35)","v":0}]
["開口率％",null,{"$f":"IF(C37>0,INT(AJ37/C37*1000)/1000,\"\")","v":""},{"$f":"IF(D37>0,INT(AM37/D37*1000)/1000,\"\")","v":""},null,"方位別開口比％",null,{"$f":"IF(AJ37>0,INT(H37/AJ37*1000)/1000,\"\")","v":""},null,null,{"$f":"IF(AM37>0,INT(K37/AM37*1000)/1000,\"\")","v":""},null,"方位別開口比％",null,{"$f":"IF(AJ37>0,INT(O37/AJ37*1000)/1000,\"\")","v":""},null,null,{"$f":"IF(AM37>0,INT(R37/AM37*1000)/1000,\"\")","v":""},null,"方位別開口比％",null,{"$f":"IF(AJ37>0,INT(V37/AJ37*1000)/1000,\"\")","v":""},null,null,{"$f":"IF(AM37>0,INT(Y37/AM37*1000)/1000,\"\")","v":""},null,"方位別開口比％",null,{"$f":"IF(AJ37>0,INT(AC37/AJ37*1000)/1000,\"\")","v":""},null,null,{"$f":"IF(AM37>0,INT(AF37/AM37*1000)/1000,\"\")","v":""}]
[]
["ｸﾞﾙｰﾌﾟ番号","室名","室面積ｍ２",null,null,"北面","設計評価時",null,"面積","変更の場合\n（建設評価時）",null,null,"東面","設計評価時",null,"面積","変更の場合\n（建設評価時）",null,null,"南面","設計評価時",null,"面積","変更の場合\n（建設評価時）",null,null,"西面","設計評価時",null,"面積","変更の場合\n（建設評価時）",null,null,"真上","設計評価時",null,"面積","変更の場合\n（建設評価時）"]
[null,null,"設計時","変更後",null,"建具","W","H",null,"W","H",null,"建具","W","H",null,"W","H",null,"建具","W","H",null,"W","H",null,"建具","W","H",null,"W","H",null,"建具","W","H",null,"W","H"]
[33,null,null,null,{"$f":"IF(D42<>\"\",D42,C42)","v":0},null,null,null,{"$f":"G42*H42","v":0},null,null,{"$f":"IF(AND(J42<>\"\",K42<>\"\"),J42*K42,I42)","v":0},null,null,null,{"$f":"N42*O42","v":0},null,null,{"$f":"IF(AND(Q42<>\"\",R42<>\"\"),Q42*R42,P42)","v":0},null,null,null,{"$f":"U42*V42","v":0},null,null,{"$f":"IF(AND(X42<>\"\",Y42<>\"\"),X42*Y42,W42)","v":0},null,null,null,{"$f":"AB42*AC42","v":0},null,null,{"$f":"IF(AND(AE42<>\"\",AF42<>\"\"),AE42*AF42,AD42)","v":0},null,null,null,{"$f":"AI42*AJ42","v":0},null,null,{"$f":"IF(AND(AL42<>\"\",AM42<>\"\"),AL42*AM42,AK42)","v":0}]
[null,null,null,null,0,null,null,null,0,null,null,0,null,null,null,0,null,null,0,null,null,null,0,null,null,0,null,null,null,0,null,null,0,null,null,null,0,null,null,0]
["住戸番号",null,null,null,0,null,null,null,0,null,null,0,null,null,null,0,null,null,0,null,null,null,0,null,null,0,null,null,null,0,null,null,0,null,null,null,0,null,null,0]
[null,null,null,null,0,null,null,null,0,null,null,0,null,null,null,0,null,null,0,null,null,null,0,null,null,0,null,null,null,0,null,null,0,null,null,null,0,null,null,0]
[null,null,null,null,0,null,null,null,0,null,null,0,null,null,null,0,null,null,0,null,null,null,0,null,null,0,null,null,null,0,null,null,0,null,null,null,0,null,null,0]
[null,null,null,null,0,null,null,null,0,null,null,0,null,null,null,0,null,null,0,null,null,null,0,null,null,0,null,null,null,0,null,null,0,null,null,null,0,null,null,0]
[null,null,null,null,0,null,null,null,0,null,null,0,null,null,null,0,null,null,0,null,null,null,0,null,null,0,null,null,null,0,null,null,0,null,null,null,0,null,null,0]
[null,null,null,null,0,null,null,null,0,null,null,0,null,null,null,0,null,null,0,null,null,null,0,null,null,0,null,null,null,0,null,null,0,null,null,null,0,null,null,0]
[null,null,null,null,0,null,null,null,0,null,null,0,null,null,null,0,null,null,0,null,null,null,0,null,null,0,null,null,null,0,null,null,0,null,null,null,0,null,null,0]
[null,null,null,null,0,null,null,null,0,null,null,0,null,null,null,0,null,null,0,null,null,null,0,null,null,0,null,null,null,0,null,null,0,null,null,null,0,null,null,0]
[null,null,null,null,0,null,null,null,0,null,null,0,null,null,null,0,null,null,0,null,null,null,0,null,null,0,null,null,null,0,null,null,0,null,null,null,0,null,null,0]
[null,null,null,null,0,null,null,null,0,null,null,0,null,null,null,0,null,null,0,null,null,null,0,null,null,0,null,null,null,0,null,null,0,"真上窓面積",null,{"$f":"SUM(AK42:AK52)","v":0},null,"変更後",{"$f":"SUM(AN42:AN52)","v":0}]
[null,null,null,null,0,null,null,null,0,null,null,0,null,null,null,0,null,null,0,null,null,null,0,null,null,0,null,null,null,0,null,null,0,"方位別開口比％",null,{"$f":"IF(AJ55>0,INT(AJ53/AJ55*1000)/1000,\"\")","v":""},null,null,{"$f":"IF(AM55>0,INT(AM53/AM55*1000)/1000,\"\")","v":""}]
["居室面積合計",null,{"$f":"INT(SUM(C42:C54)*100)/100","v":0},{"$f":"INT(SUM(E42:E54)*100)/100","v":0},null,"北面窓面積",null,{"$f":"SUM(I42:I54)","v":0},null,"変更後",{"$f":"SUM(L42:L54)","v":0},null,"東面窓面積",null,{"$f":"SUM(P42:P54)","v":0},null,"変更後",{"$f":"SUM(S42:S54)","v":0},null,"南面窓面積",null,{"$f":"SUM(W42:W54)","v":0},null,"変更後",{"$f":"SUM(Z42:Z54)","v":0},null,"西面窓面積",null,{"$f":"SUM(AD42:AD54)","v":0},null,"変更後",{"$f":"SUM(AG42:AG54)","v":0},null,"開口総窓面積",null,{"$f":"SUM(H55,O55,V55,AC55,AJ53)","v":0},null,"変更後",{"$f":"SUM(K55,R55,Y55,AF55,AM53)","v":0}]
["開口率％",null,{"$f":"IF(C55>0,INT(AJ55/C55*1000)/1000,\"\")","v":""},{"$f":"IF(D55>0,INT(AM55/D55*1000)/1000,\"\")","v":""},null,"方位別開口比％",null,{"$f":"IF(AJ55>0,INT(H55/AJ55*1000)/1000,\"\")","v":""},null,null,{"$f":"IF(AM55>0,INT(K55/AM55*1000)/1000,\"\")","v":""},null,"方位別開口比％",null,{"$f":"IF(AJ55>0,INT(O55/AJ55*1000)/1000,\"\")","v":""},null,null,{"$f":"IF(AM55>0,INT(R55/AM55*1000)/1000,\"\")","v":""},null,"方位別開口比％",null,{"$f":"IF(AJ55>0,INT(V55/AJ55*1000)/1000,\"\")","v":""},null,null,{"$f":"IF(AM55>0,INT(Y55/AM55*1000)/1000,\"\")","v":""},null,"方位別開口比％",null,{"$f":"IF(AJ55>0,INT(AC55/AJ55*1000)/1000,\"\")","v":""},null,null,{"$f":"IF(AM55>0,INT(AF55/AM55*1000)/1000,\"\")","v":""}]

{"sheet":"S12","index":13,"n_rows":56,"n_cols":40,"rows_kept":56,"cut":false,"hidden":false,"merged":[[19,0,19,1],[26,0,35,0],[44,0,53,0],[23,0,24,0],[41,0,42,0],[36,0,36,1],[37,0,37,1],[39,0,40,0],[39,1,40,1],[21,0,22,0],[21,1,22,1],[0,23,0,30],[1,27,1,30],[3,27,3,28],[3,6,3,7],[18,0,18,1],[3,2,3,3],[3,9,3,10],[3,20,3,21],[1,9,1,10],[5,0,6,0],[8,0,17,0],[3,0,4,0],[3,1,4,1],[3,23,3,24],[3,13,3,14],[21,2,21,3],[3,37,3,38],[3,30,3,31],[3,34,3,35],[3,16,3,17],[21,37,21,38],[21,23,21,24],[21,27,21,28],[21,30,21,31],[21,34,21,35],[21,6,21,7],[21,9,21,10],[21,13,21,14],[21,16,21,17],[21,20,21,21],[39,37,39,38],[39,16,39,17],[39,20,39,21],[39,23,39,24],[39,27,39,28],[54,0,54,1],[55,0,55,1],[39,30,39,31],[39,34,39,35],[39,9,39,10],[39,13,39,14],[39,2,39,3],[39,6,39,7]]}
["７　光視環境に関すること",null,null,null,null,null,null,null,null,null,null,null,null,null,null,null,null,null,null,null,null,"（案件名称：",null,{"$f":"建具開口!H1","v":0},null,null,null,null,null,null,null,"）",null,"PAGE：  /",null,null,null,null,"光視環境②"]
[null,"開口部面積計算シートB",null,null,null,null,null,{"$f":"'S1'!H2","v":"BL1"},null,null,null,null,null,"申請者\n記入",null,null,"自動\n記入",null,null,"変更時\n記入","（単位　長さ：m、面積：m2）",null,null,null,null,null,null,{"$f":"建具開口!K2","v":"00:00:00"},null,null,null,null,null,null,null,null,null,null,"UHEC都市居住評価センター"]
[]
["ｸﾞﾙｰﾌﾟ番号","室名","室面積ｍ２",null,null,"北面","設計評価時",null,"面積","変更の場合\n（建設評価時）",null,null,"東面","設計評価時",null,"面積","変更の場合\n（建設評価時）",null,null,"南面","設計評価時",null,"面積","変更の場合\n（建設評価時）",null,null,"西面","設計評価時",null,"面積","変更の場合\n（建設評価時）",null,null,"真上","設計評価時",null,"面積","変更の場合\n（建設評価時）"]
[null,null,"設計時","変更後",null,"建具","W","H",null,"W","H",null,"建具","W","H",null,"W","H",null,"建具","W","H",null,"W","H",null,"建具","W","H",null,"W","H",null,"建具","W","H",null,"W","H"]
[34,null,null,null,{"$f":"IF(D6<>\"\",D6,C6)","v":0},null,null,null,{"$f":"G6*H6","v":0},null,null,{"$f":"IF(AND(J6<>\"\",K6<>\"\"),J6*K6,I6)","v":0},null,null,null,{"$f":"N6*O6","v":0},null,null,{"$f":"IF(AND(Q6<>\"\",R6<>\"\"),Q6*R6,P6)","v":0},null,null,null,{"$f":"U6*V6","v":0},null,null,{"$f":"IF(AND(X6<>\"\",Y6<>\"\"),X6*Y6,W6)","v":0},null,null,null,{"$f":"AB6*AC6","v":0},null,null,{"$f":"IF(AND(AE6<>\"\",AF6<>\"\"),AE6*AF6,AD6)","v":0},null,null,null,{"$f":"AI6*AJ6","v":0},null,null,{"$f":"IF(AND(AL6<>\"\",AM6<>\"\"),AL6*AM6,AK6)","v":0}]
[null,null,null,null,0,null,null,null,0,null,null,0,null,null,null,0,null,null,0,null,null,null,0,null,null,0,null,null,null,0,null,null,0,null,null,null,0,null,null,0]
["住戸番号",null,null,null,0,null,null,null,0,null,null,0,null,null,null,0,null,null,0,null,null,null,0,null,null,0,null,null,null,0,null,null,0,null,null,null,0,null,null,0]
[null,null,null,null,0,null,null,null,0,null,null,0,null,null,null,0,null,null,0,null,null,null,0,null,null,0,null,null,null,0,null,null,0,null,null,null,0,null,null,0]
[null,null,null,null,0,null,null,null,0,null,null,0,null,null,null,0,null,null,0,null,null,null,0,null,null,0,null,null,null,0,null,null,0,null,null,null,0,null,null,0]
[null,null,null,null,0,null,null,null,0,null,null,0,null,null,null,0,null,null,0,null,null,null,0,null,null,0,null,null,null,0,null,null,0,null,null,null,0,null,null,0]
[null,null,null,null,0,null,null,null,0,null,null,0,null,null,null,0,null,null,0,null,null,null,0,null,null,0,null,null,null,0,null,null,0,null,null,null,0,null,null,0]
[null,null,null,null,0,null,null,null,0,null,null,0,null,null,null,0,null,null,0,null,null,null,0,null,null,0,null,null,null,0,null,null,0,null,null,null,0,null,null,0]
[null,null,null,null,0,null,null,null,0,null,null,0,null,null,null,0,null,null,0,null,null,null,0,null,null,0,null,null,null,0,null,null,0,null,null,null,0,null,null,0]
[null,null,null,null,0,null,null,null,0,null,null,0,null,null,null,0,null,null,0,null,null,null,0,null,null,0,null,null,null,0,null,null,0,null,null,null,0,null,null,0]
[null,null,null,null,0,null,null,null,0,null,null,0,null,null,null,0,null,null,0,null,null,null,0,null,null,0,null,null,null,0,null,null,0,null,null,null,0,null,null,0]
[null,null,null,null,0,null,null,null,0,null,null,0,null,null,null,0,null,null,0,null,null,null,0,null,null,0,null,null,null,0,null,null,0,"真上窓面積",null,{"$f":"SUM(AK6:AK16)","v":0},null,"変更後",{"$f":"SUM(AN6:AN16)","v":0}]
[null,null,null,null,0,null,null,null,0,null,null,0,null,null,null,0,null,null,0,null,null,null,0,null,null,0,null,null,null,0,null,null,0,"方位別開口比％",null,{"$f":"IF(AJ19>0,INT(AJ17/AJ19*1000)/1000,\"\")","v":""},null,null,{"$f":"IF(AM19>0,INT(AM17/AM19*1000)/1000,\"\")","v":""}]
["居室面積合計",null,{"$f":"INT(SUM(C6:C18)*100)/100","v":0},{"$f":"INT(SUM(E6:E18)*100)/100","v":0},null,"北面窓面積",null,{"$f":"SUM(I6:I18)","v":0},null,"変更後",{"$f":"SUM(L6:L18)","v":0},null,"東面窓面積",null,{"$f":"SUM(P6:P18)","v":0},null,"変更後",{"$f":"SUM(S6:S18)","v":0},null,"南面窓面積",null,{"$f":"SUM(W6:W18)","v":0},null,"変更後",{"$f":"SUM(Z6:Z18)","v":0},null,"西面窓面積",null,{"$f":"SUM(AD6:AD18)","v":0},null,"変更後",{"$f":"SUM(AG6:AG18)","v":0},null,"開口総窓面積",null,{"$f":"SUM(H19,O19,V19,AC19,AJ17)","v":0},null,"変更後",{"$f":"SUM(K19,R19,Y19,AF19,AM17)","v":0}]
["開口率％",null,{"$f":"IF(C19>0,INT(AJ19/C19*1000)/1000,\"\")","v":""},{"$f":"IF(D19>0,INT(AM19/D19*1000)/1000,\"\")","v":""},null,"方位別開口比％",null,{"$f":"IF(AJ19>0,INT(H19/AJ19*1000)/1000,\"\")","v":""},null,null,{"$f":"IF(AM19>0,INT(K19/AM19*1000)/1000,\"\")","v":""},null,"方位別開口比％",null,{"$f":"IF(AJ19>0,INT(O19/AJ19*1000)/1000,\"\")","v":""},null,null,{"$f":"IF(AM19>0,INT(R19/AM19*1000)/1000,\"\")","v":""},null,"方位別開口比％",null,{"$f":"IF(AJ19>0,INT(V19/AJ19*1000)/1000,\"\")","v":""},null,null,{"$f":"IF(AM19>0,INT(Y19/AM19*1000)/1000,\"\")","v":""},null,"方位別開口比％",null,{"$f":"IF(AJ19>0,INT(AC19/AJ19*1000)/1000,\"\")","v":""},null,null,{"$f":"IF(AM19>0,INT(AF19/AM19*1000)/1000,\"\")","v":""}]
[]
["ｸﾞﾙｰﾌﾟ番号","室名","室面積ｍ２",null,null,"北面","設計評価時",null,"面積","変更の場合\n（建設評価時）",null,null,"東面","設計評価時",null,"面積","変更の場合\n（建設評価時）",null,null,"南面","設計評価時",null,"面積","変更の場合\n（建設評価時）",null,null,"西面","設計評価時",null,"面積","変更の場合\n（建設評価時）",null,null,"真上","設計評価時",null,"面積","変更の場合\n（建設評価時）"]
[null,null,"設計時","変更後",null,"建具","W","H",null,"W","H",null,"建具","W","H",null,"W","H",null,"建具","W","H",null,"W","H",null,"建具","W","H",null,"W","H",null,"建具","W","H",null,"W","H"]
[35,null,null,null,{"$f":"IF(D24<>\"\",D24,C24)","v":0},null,null,null,{"$f":"G24*H24","v":0},null,null,{"$f":"IF(AND(J24<>\"\",K24<>\"\"),J24*K24,I24)","v":0},null,null,null,{"$f":"N24*O24","v":0},null,null,{"$f":"IF(AND(Q24<>\"\",R24<>\"\"),Q24*R24,P24)","v":0},null,null,null,{"$f":"U24*V24","v":0},null,null,{"$f":"IF(AND(X24<>\"\",Y24<>\"\"),X24*Y24,W24)","v":0},null,null,null,{"$f":"AB24*AC24","v":0},null,null,{"$f":"IF(AND(AE24<>\"\",AF24<>\"\"),AE24*AF24,AD24)","v":0},null,null,null,{"$f":"AI24*AJ24","v":0},null,null,{"$f":"IF(AND(AL24<>\"\",AM24<>\"\"),AL24*AM24,AK24)","v":0}]
[null,null,null,null,0,null,null,null,0,null,null,0,null,null,null,0,null,null,0,null,null,null,0,null,null,0,null,null,null,0,null,null,0,null,null,null,0,null,null,0]
["住戸番号",null,null,null,0,null,null,null,0,null,null,0,null,null,null,0,null,null,0,null,null,null,0,null,null,0,null,null,null,0,null,null,0,null,null,null,0,null,null,0]
[null,null,null,null,0,null,null,null,0,null,null,0,null,null,null,0,null,null,0,null,null,null,0,null,null,0,null,null,null,0,null,null,0,null,null,null,0,null,null,0]
[null,null,null,null,0,null,null,null,0,null,null,0,null,null,null,0,null,null,0,null,null,null,0,null,null,0,null,null,null,0,null,null,0,null,null,null,0,null,null,0]
[null,null,null,null,0,null,null,null,0,null,null,0,null,null,null,0,null,null,0,null,null,null,0,null,null,0,null,null,null,0,null,null,0,null,null,null,0,null,null,0]
[null,null,null,null,0,null,null,null,0,null,null,0,null,null,null,0,null,null,0,null,null,null,0,null,null,0,null,null,null,0,null,null,0,null,null,null,0,null,null,0]
[null,null,null,null,0,null,null,null,0,null,null,0,null,null,null,0,null,null,0,null,null,null,0,null,null,0,null,null,null,0,null,null,0,null,null,null,0,null,null,0]
[null,null,null,null,0,null,null,null,0,null,null,0,null,null,null,0,null,null,0,null,null,null,0,null,null,0,null,null,null,0,null,null,0,null,null,null,0,null,null,0]
[null,null,null,null,0,null,null,null,0,null,null,0,null,null,null,0,null,null,0,null,null,null,0,null,null,0,null,null,null,0,null,null,0,null,null,null,0,null,null,0]
[null,null,null,null,0,null,null,null,0,null,null,0,null,null,null,0,null,null,0,null,null,null,0,null,null,0,null,null,null,0,null,null,0,null,null,null,0,null,null,0]
[null,null,null,null,0,null,null,null,0,null,null,0,null,null,null,0,null,null,0,null,null,null,0,null,null,0,null,null,null,0,null,null,0,"真上窓面積",null,{"$f":"SUM(AK24:AK34)","v":0},null,"変更後",{"$f":"SUM(AN24:AN34)","v":0}]
[null,null,null,null,0,null,null,null,0,null,null,0,null,null,null,0,null,null,0,null,null,null,0,null,null,0,null,null,null,0,null,null,0,"方位別開口比％",null,{"$f":"IF(AJ37>0,INT(AJ35/AJ37*1000)/1000,\"\")","v":""},null,null,{"$f":"IF(AM37>0,INT(AM35/AM37*1000)/1000,\"\")","v":""}]
["居室面積合計",null,{"$f":"INT(SUM(C24:C36)*100)/100","v":0},{"$f":"INT(SUM(E24:E36)*100)/100","v":0},null,"北面窓面積",null,{"$f":"SUM(I24:I36)","v":0},null,"変更後",{"$f":"SUM(L24:L36)","v":0},null,"東面窓面積",null,{"$f":"SUM(P24:P36)","v":0},null,"変更後",{"$f":"SUM(S24:S36)","v":0},null,"南面窓面積",null,{"$f":"SUM(W24:W36)","v":0},null,"変更後",{"$f":"SUM(Z24:Z36)","v":0},null,"西面窓面積",null,{"$f":"SUM(AD24:AD36)","v":0},null,"変更後",{"$f":"SUM(AG24:AG36)","v":0},null,"開口総窓面積",null,{"$f":"SUM(H37,O37,V37,AC37,AJ35)","v":0},null,"変更後",{"$f":"SUM(K37,R37,Y37,AF37,AM35)","v":0}]
["開口率％",null,{"$f":"IF(C37>0,INT(AJ37/C37*1000)/1000,\"\")","v":""},{"$f":"IF(D37>0,INT(AM37/D37*1000)/1000,\"\")","v":""},null,"方位別開口比％",null,{"$f":"IF(AJ37>0,INT(H37/AJ37*1000)/1000,\"\")","v":""},null,null,{"$f":"IF(AM37>0,INT(K37/AM37*1000)/1000,\"\")","v":""},null,"方位別開口比％",null,{"$f":"IF(AJ37>0,INT(O37/AJ37*1000)/1000,\"\")","v":""},null,null,{"$f":"IF(AM37>0,INT(R37/AM37*1000)/1000,\"\")","v":""},null,"方位別開口比％",null,{"$f":"IF(AJ37>0,INT(V37/AJ37*1000)/1000,\"\")","v":""},null,null,{"$f":"IF(AM37>0,INT(Y37/AM37*1000)/1000,\"\")","v":""},null,"方位別開口比％",null,{"$f":"IF(AJ37>0,INT(AC37/AJ37*1000)/1000,\"\")","v":""},null,null,{"$f":"IF(AM37>0,INT(AF37/AM37*1000)/1000,\"\")","v":""}]
[]
["ｸﾞﾙｰﾌﾟ番号","室名","室面積ｍ２",null,null,"北面","設計評価時",null,"面積","変更の場合\n（建設評価時）",null,null,"東面","設計評価時",null,"面積","変更の場合\n（建設評価時）",null,null,"南面","設計評価時",null,"面積","変更の場合\n（建設評価時）",null,null,"西面","設計評価時",null,"面積","変更の場合\n（建設評価時）",null,null,"真上","設計評価時",null,"面積","変更の場合\n（建設評価時）"]
[null,null,"設計時","変更後",null,"建具","W","H",null,"W","H",null,"建具","W","H",null,"W","H",null,"建具","W","H",null,"W","H",null,"建具","W","H",null,"W","H",null,"建具","W","H",null,"W","H"]
[36,null,null,null,{"$f":"IF(D42<>\"\",D42,C42)","v":0},null,null,null,{"$f":"G42*H42","v":0},null,null,{"$f":"IF(AND(J42<>\"\",K42<>\"\"),J42*K42,I42)","v":0},null,null,null,{"$f":"N42*O42","v":0},null,null,{"$f":"IF(AND(Q42<>\"\",R42<>\"\"),Q42*R42,P42)","v":0},null,null,null,{"$f":"U42*V42","v":0},null,null,{"$f":"IF(AND(X42<>\"\",Y42<>\"\"),X42*Y42,W42)","v":0},null,null,null,{"$f":"AB42*AC42","v":0},null,null,{"$f":"IF(AND(AE42<>\"\",AF42<>\"\"),AE42*AF42,AD42)","v":0},null,null,null,{"$f":"AI42*AJ42","v":0},null,null,{"$f":"IF(AND(AL42<>\"\",AM42<>\"\"),AL42*AM42,AK42)","v":0}]
[null,null,null,null,0,null,null,null,0,null,null,0,null,null,null,0,null,null,0,null,null,null,0,null,null,0,null,null,null,0,null,null,0,null,null,null,0,null,null,0]
["住戸番号",null,null,null,0,null,null,null,0,null,null,0,null,null,null,0,null,null,0,null,null,null,0,null,null,0,null,null,null,0,null,null,0,null,null,null,0,null,null,0]
[null,null,null,null,0,null,null,null,0,null,null,0,null,null,null,0,null,null,0,null,null,null,0,null,null,0,null,null,null,0,null,null,0,null,null,null,0,null,null,0]
[null,null,null,null,0,null,null,null,0,null,null,0,null,null,null,0,null,null,0,null,null,null,0,null,null,0,null,null,null,0,null,null,0,null,null,null,0,null,null,0]
[null,null,null,null,0,null,null,null,0,null,null,0,null,null,null,0,null,null,0,null,null,null,0,null,null,0,null,null,null,0,null,null,0,null,null,null,0,null,null,0]
[null,null,null,null,0,null,null,null,0,null,null,0,null,null,null,0,null,null,0,null,null,null,0,null,null,0,null,null,null,0,null,null,0,null,null,null,0,null,null,0]
[null,null,null,null,0,null,null,null,0,null,null,0,null,null,null,0,null,null,0,null,null,null,0,null,null,0,null,null,null,0,null,null,0,null,null,null,0,null,null,0]
[null,null,null,null,0,null,null,null,0,null,null,0,null,null,null,0,null,null,0,null,null,null,0,null,null,0,null,null,null,0,null,null,0,null,null,null,0,null,null,0]
[null,null,null,null,0,null,null,null,0,null,null,0,null,null,null,0,null,null,0,null,null,null,0,null,null,0,null,null,null,0,null,null,0,null,null,null,0,null,null,0]
[null,null,null,null,0,null,null,null,0,null,null,0,null,null,null,0,null,null,0,null,null,null,0,null,null,0,null,null,null,0,null,null,0,null,null,null,0,null,null,0]
[null,null,null,null,0,null,null,null,0,null,null,0,null,null,null,0,null,null,0,null,null,null,0,null,null,0,null,null,null,0,null,null,0,"真上窓面積",null,{"$f":"SUM(AK42:AK52)","v":0},null,"変更後",{"$f":"SUM(AN42:AN52)","v":0}]
[null,null,null,null,0,null,null,null,0,null,null,0,null,null,null,0,null,null,0,null,null,null,0,null,null,0,null,null,null,0,null,null,0,"方位別開口比％",null,{"$f":"IF(AJ55>0,INT(AJ53/AJ55*1000)/1000,\"\")","v":""},null,null,{"$f":"IF(AM55>0,INT(AM53/AM55*1000)/1000,\"\")","v":""}]
["居室面積合計",null,{"$f":"INT(SUM(C42:C54)*100)/100","v":0},{"$f":"INT(SUM(E42:E54)*100)/100","v":0},null,"北面窓面積",null,{"$f":"SUM(I42:I54)","v":0},null,"変更後",{"$f":"SUM(L42:L54)","v":0},null,"東面窓面積",null,{"$f":"SUM(P42:P54)","v":0},null,"変更後",{"$f":"SUM(S42:S54)","v":0},null,"南面窓面積",null,{"$f":"SUM(W42:W54)","v":0},null,"変更後",{"$f":"SUM(Z42:Z54)","v":0},null,"西面窓面積",null,{"$f":"SUM(AD42:AD54)","v":0},null,"変更後",{"$f":"SUM(AG42:AG54)","v":0},null,"開口総窓面積",null,{"$f":"SUM(H55,O55,V55,AC55,AJ53)","v":0},null,"変更後",{"$f":"SUM(K55,R55,Y55,AF55,AM53)","v":0}]
["開口率％",null,{"$f":"IF(C55>0,INT(AJ55/C55*1000)/1000,\"\")","v":""},{"$f":"IF(D55>0,INT(AM55/D55*1000)/1000,\"\")","v":""},null,"方位別開口比％",null,{"$f":"IF(AJ55>0,INT(H55/AJ55*1000)/1000,\"\")","v":""},null,null,{"$f":"IF(AM55>0,INT(K55/AM55*1000)/1000,\"\")","v":""},null,"方位別開口比％",null,{"$f":"IF(AJ55>0,INT(O55/AJ55*1000)/1000,\"\")","v":""},null,null,{"$f":"IF(AM55>0,INT(R55/AM55*1000)/1000,\"\")","v":""},null,"方位別開口比％",null,{"$f":"IF(AJ55>0,INT(V55/AJ55*1000)/1000,\"\")","v":""},null,null,{"$f":"IF(AM55>0,INT(Y55/AM55*1000)/1000,\"\")","v":""},null,"方位別開口比％",null,{"$f":"IF(AJ55>0,INT(AC55/AJ55*1000)/1000,\"\")","v":""},null,null,{"$f":"IF(AM55>0,INT(AF55/AM55*1000)/1000,\"\")","v":""}]

{"sheet":"設計内容説明書1","index":14,"n_rows":44,"n_cols":18,"rows_kept":44,"cut":false,"hidden":false,"merged":[[1,0,1,6],[1,10,1,14],[2,13,2,14],[11,1,13,1],[2,3,2,5],[8,1,10,1],[3,3,3,5],[8,10,10,14],[3,6,3,11],[5,0,7,0],[6,3,7,3],[6,4,6,8],[5,10,7,14],[14,1,16,1],[5,15,7,15],[5,16,5,17],[6,16,7,16],[6,17,7,17],[8,15,10,15],[11,10,13,14],[11,15,13,15],[14,10,16,14],[14,15,16,15],[41,1,43,1],[35,1,37,1],[29,1,31,1],[32,1,34,1],[17,1,19,1],[26,1,28,1],[20,1,22,1],[23,1,25,1],[38,1,40,1],[29,10,31,14],[17,15,19,15],[20,15,22,15],[23,15,25,15],[26,15,28,15],[29,15,31,15],[17,10,19,14],[20,10,22,14],[23,10,25,14],[26,10,28,14],[32,10,34,14],[35,10,37,14],[38,10,40,14],[41,10,43,14],[32,15,34,15],[35,15,37,15],[38,15,40,15],[41,15,43,15]]}
["設計内容説明書（兼自己評価書)　",null,null,null,null,null,null,null,null,null,null,null,null,null,null,null,null,"UHEC都市居住評価センター"]
["７．光・視環境に関すること （住戸評価用）",null,null,null,null,null,null,null,"(案件略称：",null,{"$f":"建具開口!H1","v":0},null,null,null,null,"）"]
[null,"7-1　単純開口率　　評価方法：",null,"■評価方法基準による",null,null,"□その他（　　　　　　　　　　　）",null,null,null,null,null,null,{"$f":"建具開口!K2","v":"00:00:00"}]
[null,"7-2　方位別開口比　評価方法：",null,"■評価方法基準による",null,null,"□その他（　　　　　　　　　　　）"]
[]
["グル\nープ\n番号","ブロック名",null,null,null,"自己評価結果　(設計評価時）",null,null,null,null,"図面番号・その他",null,null,null,null,"申請者記入\n備考欄","評価者記入欄"]
[null,{"$f":"'S1'!H2","v":"BL1"},"居室床","単純\n開口率","方位別開口面積㎡／開口比％",null,null,null,null,null,null,null,null,null,null,null,"確\n認","備　考"]
[null,"住戸番号","面積㎡",null,"北面","東面","南面","西面","真上","計"]
[{"$f":"IF('S1'!AJ19>0,'S1'!A6,\"\")","v":""},{"$f":"'S1'!A9","v":0},{"$f":"'S1'!C19","v":0},null,{"$f":"'S1'!H19","v":0},{"$f":"'S1'!O19","v":0},{"$f":"'S1'!V19","v":0},{"$f":"'S1'!AC19","v":0},{"$f":"'S1'!AJ17","v":0},{"$f":"SUM(E9:I9)","v":0}]
[null,null,"比率％",{"$f":"IF(C9>0,INT(J9/$C9*100),\"\")","v":""},{"$f":"IF(J9>0,INT(E9/$J9*100),\"\")","v":""},{"$f":"IF(J9>0,INT(F9/$J9*100),\"\")","v":""},{"$f":"IF(J9>0,INT(G9/$J9*100),\"\")","v":""},{"$f":"IF(J9>0,INT(H9/$J9*100),\"\")","v":""},{"$f":"IF(J9>0,INT(I9/$J9*100),\"\")","v":""},0,null,null,null,null,null,null,"□"]
[null,null,"評価％",null,null,null,null,null,null,0]
[{"$f":"IF('S1'!AJ37>0,'S1'!A24,\"\")","v":""},{"$f":"'S1'!A27","v":0},{"$f":"'S1'!C37","v":0},null,{"$f":"'S1'!H37","v":0},{"$f":"'S1'!O37","v":0},{"$f":"'S1'!V37","v":0},{"$f":"'S1'!AC37","v":0},{"$f":"'S1'!AJ35","v":0},0]
[null,null,"比率％",{"$f":"IF(C12>0,INT(J12/$C12*100),\"\")","v":""},{"$f":"IF(J12>0,INT(E12/$J12*100),\"\")","v":""},{"$f":"IF(J12>0,INT(F12/$J12*100),\"\")","v":""},{"$f":"IF(J12>0,INT(G12/$J12*100),\"\")","v":""},{"$f":"IF(J12>0,INT(H12/$J12*100),\"\")","v":""},{"$f":"IF(J12>0,INT(I12/$J12*100),\"\")","v":""},0,null,null,null,null,null,null,"□"]
[null,null,"評価％",null,null,null,null,null,null,0]
[{"$f":"IF('S1'!AJ55>0,'S1'!A42,\"\")","v":""},{"$f":"'S1'!A45","v":0},{"$f":"'S1'!C55","v":0},null,{"$f":"'S1'!H55","v":0},{"$f":"'S1'!O55","v":0},{"$f":"'S1'!V55","v":0},{"$f":"'S1'!AC55","v":0},{"$f":"'S1'!AJ53","v":0},0]
[null,null,"比率％",{"$f":"IF(C15>0,INT(J15/$C15*100),\"\")","v":""},{"$f":"IF(J15>0,INT(E15/$J15*100),\"\")","v":""},{"$f":"IF(J15>0,INT(F15/$J15*100),\"\")","v":""},{"$f":"IF(J15>0,INT(G15/$J15*100),\"\")","v":""},{"$f":"IF(J15>0,INT(H15/$J15*100),\"\")","v":""},{"$f":"IF(J15>0,INT(I15/$J15*100),\"\")","v":""},0,null,null,null,null,null,null,"□"]
[null,null,"評価％",null,null,null,null,null,null,0]
[{"$f":"IF('S2'!AJ19>0,'S2'!A6,\"\")","v":""},{"$f":"'S2'!A9","v":0},{"$f":"'S2'!C19","v":0},null,{"$f":"'S2'!H19","v":0},{"$f":"'S2'!O19","v":0},{"$f":"'S2'!V19","v":0},{"$f":"'S2'!AC19","v":0},{"$f":"'S2'!AJ17","v":0},0]
[null,null,"比率％",{"$f":"IF(C18>0,INT(J18/$C18*100),\"\")","v":""},{"$f":"IF(J18>0,INT(E18/$J18*100),\"\")","v":""},{"$f":"IF(J18>0,INT(F18/$J18*100),\"\")","v":""},{"$f":"IF(J18>0,INT(G18/$J18*100),\"\")","v":""},{"$f":"IF(J18>0,INT(H18/$J18*100),\"\")","v":""},{"$f":"IF(J18>0,INT(I18/$J18*100),\"\")","v":""},0,null,null,null,null,null,null,"□"]
[null,null,"評価％",null,null,null,null,null,null,0]
[{"$f":"IF('S2'!AJ37>0,'S2'!A24,\"\")","v":""},{"$f":"'S2'!A27","v":0},{"$f":"'S2'!C37","v":0},null,{"$f":"'S2'!H37","v":0},{"$f":"'S2'!O37","v":0},{"$f":"'S2'!V37","v":0},{"$f":"'S2'!AC37","v":0},{"$f":"'S2'!AJ35","v":0},0]
[null,null,"比率％",{"$f":"IF(C21>0,INT(J21/$C21*100),\"\")","v":""},{"$f":"IF(J21>0,INT(E21/$J21*100),\"\")","v":""},{"$f":"IF(J21>0,INT(F21/$J21*100),\"\")","v":""},{"$f":"IF(J21>0,INT(G21/$J21*100),\"\")","v":""},{"$f":"IF(J21>0,INT(H21/$J21*100),\"\")","v":""},{"$f":"IF(J21>0,INT(I21/$J21*100),\"\")","v":""},0,null,null,null,null,null,null,"□"]
[null,null,"評価％",null,null,null,null,null,null,0]
[{"$f":"IF('S2'!AJ55>0,'S2'!A42,\"\")","v":""},{"$f":"'S2'!A45","v":0},{"$f":"'S2'!C55","v":0},null,{"$f":"'S2'!H55","v":0},{"$f":"'S2'!O55","v":0},{"$f":"'S2'!V55","v":0},{"$f":"'S2'!AC55","v":0},{"$f":"'S2'!AJ53","v":0},0]
[null,null,"比率％",{"$f":"IF(C24>0,INT(J24/$C24*100),\"\")","v":""},{"$f":"IF(J24>0,INT(E24/$J24*100),\"\")","v":""},{"$f":"IF(J24>0,INT(F24/$J24*100),\"\")","v":""},{"$f":"IF(J24>0,INT(G24/$J24*100),\"\")","v":""},{"$f":"IF(J24>0,INT(H24/$J24*100),\"\")","v":""},{"$f":"IF(J24>0,INT(I24/$J24*100),\"\")","v":""},0,null,null,null,null,null,null,"□"]
[null,null,"評価％",null,null,null,null,null,null,0]
[{"$f":"IF('S3'!AJ19>0,'S3'!A6,\"\")","v":""},{"$f":"'S3'!A9","v":0},{"$f":"'S3'!C19","v":0},null,{"$f":"'S3'!H19","v":0},{"$f":"'S3'!O19","v":0},{"$f":"'S3'!V19","v":0},{"$f":"'S3'!AC19","v":0},{"$f":"'S3'!AJ17","v":0},0]
[null,null,"比率％",{"$f":"IF(C27>0,INT(J27/$C27*100),\"\")","v":""},{"$f":"IF(J27>0,INT(E27/$J27*100),\"\")","v":""},{"$f":"IF(J27>0,INT(F27/$J27*100),\"\")","v":""},{"$f":"IF(J27>0,INT(G27/$J27*100),\"\")","v":""},{"$f":"IF(J27>0,INT(H27/$J27*100),\"\")","v":""},{"$f":"IF(J27>0,INT(I27/$J27*100),\"\")","v":""},0,null,null,null,null,null,null,"□"]
[null,null,"評価％",null,null,null,null,null,null,0]
[{"$f":"IF('S3'!AJ37>0,'S3'!A24,\"\")","v":""},{"$f":"'S3'!A27","v":0},{"$f":"'S3'!C37","v":0},null,{"$f":"'S3'!H37","v":0},{"$f":"'S3'!O37","v":0},{"$f":"'S3'!V37","v":0},{"$f":"'S3'!AC37","v":0},{"$f":"'S3'!AJ35","v":0},0]
[null,null,"比率％",{"$f":"IF(C30>0,INT(J30/$C30*100),\"\")","v":""},{"$f":"IF(J30>0,INT(E30/$J30*100),\"\")","v":""},{"$f":"IF(J30>0,INT(F30/$J30*100),\"\")","v":""},{"$f":"IF(J30>0,INT(G30/$J30*100),\"\")","v":""},{"$f":"IF(J30>0,INT(H30/$J30*100),\"\")","v":""},{"$f":"IF(J30>0,INT(I30/$J30*100),\"\")","v":""},0,null,null,null,null,null,null,"□"]
[null,null,"評価％",null,null,null,null,null,null,0]
[{"$f":"IF('S3'!AJ55>0,'S3'!A42,\"\")","v":""},{"$f":"'S3'!A45","v":0},{"$f":"'S3'!C55","v":0},null,{"$f":"'S3'!H55","v":0},{"$f":"'S3'!O55","v":0},{"$f":"'S3'!V55","v":0},{"$f":"'S3'!AC55","v":0},{"$f":"'S3'!AJ53","v":0},0]
[null,null,"比率％",{"$f":"IF(C33>0,INT(J33/$C33*100),\"\")","v":""},{"$f":"IF(J33>0,INT(E33/$J33*100),\"\")","v":""},{"$f":"IF(J33>0,INT(F33/$J33*100),\"\")","v":""},{"$f":"IF(J33>0,INT(G33/$J33*100),\"\")","v":""},{"$f":"IF(J33>0,INT(H33/$J33*100),\"\")","v":""},{"$f":"IF(J33>0,INT(I33/$J33*100),\"\")","v":""},0,null,null,null,null,null,null,"□"]
[null,null,"評価％",null,null,null,null,null,null,0]
[{"$f":"IF('S4'!AJ19>0,'S4'!A6,\"\")","v":""},{"$f":"'S4'!A9","v":0},{"$f":"'S4'!C19","v":0},null,{"$f":"'S4'!H19","v":0},{"$f":"'S4'!O19","v":0},{"$f":"'S4'!V19","v":0},{"$f":"'S4'!AC19","v":0},{"$f":"'S4'!AJ17","v":0},0]
[null,null,"比率％",{"$f":"IF(C36>0,INT(J36/$C36*100),\"\")","v":""},{"$f":"IF(J36>0,INT(E36/$J36*100),\"\")","v":""},{"$f":"IF(J36>0,INT(F36/$J36*100),\"\")","v":""},{"$f":"IF(J36>0,INT(G36/$J36*100),\"\")","v":""},{"$f":"IF(J36>0,INT(H36/$J36*100),\"\")","v":""},{"$f":"IF(J36>0,INT(I36/$J36*100),\"\")","v":""},0,null,null,null,null,null,null,"□"]
[null,null,"評価％",null,null,null,null,null,null,0]
[{"$f":"IF('S4'!AJ37>0,'S4'!A24,\"\")","v":""},{"$f":"'S4'!A27","v":0},{"$f":"'S4'!C37","v":0},null,{"$f":"'S4'!H37","v":0},{"$f":"'S4'!O37","v":0},{"$f":"'S4'!V37","v":0},{"$f":"'S4'!AC37","v":0},{"$f":"'S4'!AJ35","v":0},0]
[null,null,"比率％",{"$f":"IF(C39>0,INT(J39/$C39*100),\"\")","v":""},{"$f":"IF(J39>0,INT(E39/$J39*100),\"\")","v":""},{"$f":"IF(J39>0,INT(F39/$J39*100),\"\")","v":""},{"$f":"IF(J39>0,INT(G39/$J39*100),\"\")","v":""},{"$f":"IF(J39>0,INT(H39/$J39*100),\"\")","v":""},{"$f":"IF(J39>0,INT(I39/$J39*100),\"\")","v":""},0,null,null,null,null,null,null,"□"]
[null,null,"評価％",null,null,null,null,null,null,0]
[{"$f":"IF('S4'!AJ55>0,'S4'!A42,\"\")","v":""},{"$f":"'S4'!A45","v":0},{"$f":"'S4'!C55","v":0},null,{"$f":"'S4'!H55","v":0},{"$f":"'S4'!O55","v":0},{"$f":"'S4'!V55","v":0},{"$f":"'S4'!AC55","v":0},{"$f":"'S4'!AJ53","v":0},0]
[null,null,"比率％",{"$f":"IF(C42>0,INT(J42/$C42*100),\"\")","v":""},{"$f":"IF(J42>0,INT(E42/$J42*100),\"\")","v":""},{"$f":"IF(J42>0,INT(F42/$J42*100),\"\")","v":""},{"$f":"IF(J42>0,INT(G42/$J42*100),\"\")","v":""},{"$f":"IF(J42>0,INT(H42/$J42*100),\"\")","v":""},{"$f":"IF(J42>0,INT(I42/$J42*100),\"\")","v":""},0,null,null,null,null,null,null,"□"]
[null,null,"評価％",null,null,null,null,null,null,0]

{"sheet":"施工状況報告書1","index":15,"n_rows":44,"n_cols":23,"rows_kept":44,"cut":false,"hidden":false,"merged":[[38,1,40,1],[41,1,43,1],[29,1,31,1],[32,1,34,1],[35,1,37,1],[26,1,28,1],[8,1,10,1],[11,1,13,1],[20,1,22,1],[23,1,25,1],[14,1,16,1],[17,1,19,1],[1,10,1,17],[2,6,2,11],[2,15,2,17],[1,0,1,6],[5,19,7,19],[6,3,7,3],[6,4,6,8],[6,11,7,11],[6,12,6,16],[5,18,7,18],[5,0,7,0],[5,20,5,22],[6,20,7,20],[6,21,7,21],[6,22,7,22],[2,3,2,5],[3,3,3,5],[3,6,3,11]]}
["　 施工状況報告書チェックシート",null,null,null,null,null,null,null,null,null,null,null,null,null,null,null,null,null,null,null,null,null,"UHEC都市居住評価センター"]
["７．光・視環境に関すること （住戸評価用）",null,null,null,null,null,null,null,null,"（案件略称：",{"$f":"建具開口!H1","v":0},null,null,null,null,null,null,null,"）"]
[null,"7-1　単純開口率　　評価方法：",null,"■評価方法基準による",null,null,"□その他（　　　　　　　　　　　）"]
[null,"7-2　方位別開口比　評価方法：",null,"■評価方法基準による",null,null,"□その他（　　　　　　　　　　　）"]
[]
["グル\nープ\n番号","ブロック名",null,null,null,"自己評価結果　(設計評価時）",null,null,null,null,null,"自己評価結果　（変更の場合：建設評価時）",null,null,null,null,null,null,"施工\n管理者","工事\n監理者","評価者記入欄"]
[null,{"$f":"設計内容説明書1!B7","v":"BL1"},"居室床","単純\n開口率","方位別開口面積㎡／開口比％",null,null,null,null,null,"居室床","単純\n開口率","方位別開口面積㎡／開口比％",null,null,null,null,null,null,null,"確\n認","回","備　考"]
[null,"住戸","面積㎡",null,"北面","東面","南面","西面","真上","計","面積㎡",null,"北面","東面","南面","西面","真上","計"]
[{"$f":"設計内容説明書1!A9","v":""},{"$f":"設計内容説明書1!$B$9","v":0},{"$f":"設計内容説明書1!C9","v":0},null,{"$f":"設計内容説明書1!E9","v":0},{"$f":"設計内容説明書1!F9","v":0},{"$f":"設計内容説明書1!G9","v":0},{"$f":"設計内容説明書1!H9","v":0},{"$f":"設計内容説明書1!I9","v":0},{"$f":"設計内容説明書1!J9","v":0},{"$f":"'S1'!D19","v":0},null,{"$f":"'S1'!K19","v":0},{"$f":"'S1'!R19","v":0},{"$f":"'S1'!Y19","v":0},{"$f":"'S1'!AF19","v":0},{"$f":"'S1'!AM17","v":0},{"$f":"SUM(M9:Q9)","v":0}]
[null,null,"比率％",{"$f":"設計内容説明書1!D10","v":""},{"$f":"設計内容説明書1!E10","v":""},{"$f":"設計内容説明書1!F10","v":""},{"$f":"設計内容説明書1!G10","v":""},{"$f":"設計内容説明書1!H10","v":""},{"$f":"設計内容説明書1!I10","v":""},{"$f":"設計内容説明書1!J10","v":0},"比率％",{"$f":"IF(K9>0,INT(R9/$K9*100),\"\")","v":""},{"$f":"IF(R9>0,INT(M9/$R9*100),\"\")","v":""},{"$f":"IF(R9>0,INT(N9/$R9*100),\"\")","v":""},{"$f":"IF(R9>0,INT(O9/$R9*100),\"\")","v":""},{"$f":"IF(R9>0,INT(P9/$R9*100),\"\")","v":""},{"$f":"IF(R9>0,INT(Q9/$R9*100),\"\")","v":""},0,"□","□","□"]
[null,null,"評価％",{"$f":"設計内容説明書1!D11","v":0},{"$f":"設計内容説明書1!E11","v":0},{"$f":"設計内容説明書1!F11","v":0},{"$f":"設計内容説明書1!G11","v":0},{"$f":"設計内容説明書1!H11","v":0},{"$f":"設計内容説明書1!I11","v":0},{"$f":"設計内容説明書1!J11","v":0},"評価％",null,null,null,null,null,null,0]
[{"$f":"設計内容説明書1!$A$12","v":""},{"$f":"設計内容説明書1!$B$12","v":0},{"$f":"設計内容説明書1!C12","v":0},null,{"$f":"設計内容説明書1!E12","v":0},{"$f":"設計内容説明書1!F12","v":0},{"$f":"設計内容説明書1!G12","v":0},{"$f":"設計内容説明書1!H12","v":0},{"$f":"設計内容説明書1!I12","v":0},{"$f":"設計内容説明書1!J12","v":0},{"$f":"'S1'!D37","v":0},null,{"$f":"'S1'!K37","v":0},{"$f":"'S1'!R37","v":0},{"$f":"'S1'!Y37","v":0},{"$f":"'S1'!AF37","v":0},{"$f":"'S1'!AM35","v":0},0]
[null,null,"比率％",{"$f":"設計内容説明書1!D13","v":""},{"$f":"設計内容説明書1!E13","v":""},{"$f":"設計内容説明書1!F13","v":""},{"$f":"設計内容説明書1!G13","v":""},{"$f":"設計内容説明書1!H13","v":""},{"$f":"設計内容説明書1!I13","v":""},{"$f":"設計内容説明書1!J13","v":0},"比率％",{"$f":"IF(K12>0,INT(R12/$K12*100),\"\")","v":""},{"$f":"IF(R12>0,INT(M12/$R12*100),\"\")","v":""},{"$f":"IF(R12>0,INT(N12/$R12*100),\"\")","v":""},{"$f":"IF(R12>0,INT(O12/$R12*100),\"\")","v":""},{"$f":"IF(R12>0,INT(P12/$R12*100),\"\")","v":""},{"$f":"IF(R12>0,INT(Q12/$R12*100),\"\")","v":""},0,"□","□","□"]
[null,null,"評価％",{"$f":"設計内容説明書1!D14","v":0},{"$f":"設計内容説明書1!E14","v":0},{"$f":"設計内容説明書1!F14","v":0},{"$f":"設計内容説明書1!G14","v":0},{"$f":"設計内容説明書1!H14","v":0},{"$f":"設計内容説明書1!I14","v":0},{"$f":"設計内容説明書1!J14","v":0},"評価％",null,null,null,null,null,null,0]
[{"$f":"設計内容説明書1!$A$15","v":""},{"$f":"設計内容説明書1!$B$15","v":0},{"$f":"設計内容説明書1!C15","v":0},null,{"$f":"設計内容説明書1!E15","v":0},{"$f":"設計内容説明書1!F15","v":0},{"$f":"設計内容説明書1!G15","v":0},{"$f":"設計内容説明書1!H15","v":0},{"$f":"設計内容説明書1!I15","v":0},{"$f":"設計内容説明書1!J15","v":0},{"$f":"'S1'!D55","v":0},null,{"$f":"'S1'!K55","v":0},{"$f":"'S1'!R55","v":0},{"$f":"'S1'!Y55","v":0},{"$f":"'S1'!AF55","v":0},{"$f":"'S1'!AM53","v":0},0]
[null,null,"比率％",{"$f":"設計内容説明書1!D16","v":""},{"$f":"設計内容説明書1!E16","v":""},{"$f":"設計内容説明書1!F16","v":""},{"$f":"設計内容説明書1!G16","v":""},{"$f":"設計内容説明書1!H16","v":""},{"$f":"設計内容説明書1!I16","v":""},{"$f":"設計内容説明書1!J16","v":0},"比率％",{"$f":"IF(K15>0,INT(R15/$K15*100),\"\")","v":""},{"$f":"IF(R15>0,INT(M15/$R15*100),\"\")","v":""},{"$f":"IF(R15>0,INT(N15/$R15*100),\"\")","v":""},{"$f":"IF(R15>0,INT(O15/$R15*100),\"\")","v":""},{"$f":"IF(R15>0,INT(P15/$R15*100),\"\")","v":""},{"$f":"IF(R15>0,INT(Q15/$R15*100),\"\")","v":""},0,"□","□","□"]
[null,null,"評価％",{"$f":"設計内容説明書1!D17","v":0},{"$f":"設計内容説明書1!E17","v":0},{"$f":"設計内容説明書1!F17","v":0},{"$f":"設計内容説明書1!G17","v":0},{"$f":"設計内容説明書1!H17","v":0},{"$f":"設計内容説明書1!I17","v":0},{"$f":"設計内容説明書1!J17","v":0},"評価％",null,null,null,null,null,null,0]
[{"$f":"設計内容説明書1!$A$18","v":""},{"$f":"設計内容説明書1!$B$18","v":0},{"$f":"設計内容説明書1!C18","v":0},null,{"$f":"設計内容説明書1!E18","v":0},{"$f":"設計内容説明書1!F18","v":0},{"$f":"設計内容説明書1!G18","v":0},{"$f":"設計内容説明書1!H18","v":0},{"$f":"設計内容説明書1!I18","v":0},{"$f":"設計内容説明書1!J18","v":0},{"$f":"'S2'!D19","v":0},null,{"$f":"'S2'!K19","v":0},{"$f":"'S2'!R19","v":0},{"$f":"'S2'!Y19","v":0},{"$f":"'S2'!AF19","v":0},{"$f":"'S2'!AM17","v":0},0]
[null,null,"比率％",{"$f":"設計内容説明書1!D19","v":""},{"$f":"設計内容説明書1!E19","v":""},{"$f":"設計内容説明書1!F19","v":""},{"$f":"設計内容説明書1!G19","v":""},{"$f":"設計内容説明書1!H19","v":""},{"$f":"設計内容説明書1!I19","v":""},{"$f":"設計内容説明書1!J19","v":0},"比率％",{"$f":"IF(K18>0,INT(R18/$K18*100),\"\")","v":""},{"$f":"IF(R18>0,INT(M18/$R18*100),\"\")","v":""},{"$f":"IF(R18>0,INT(N18/$R18*100),\"\")","v":""},{"$f":"IF(R18>0,INT(O18/$R18*100),\"\")","v":""},{"$f":"IF(R18>0,INT(P18/$R18*100),\"\")","v":""},{"$f":"IF(R18>0,INT(Q18/$R18*100),\"\")","v":""},0,"□","□","□"]
[null,null,"評価％",{"$f":"設計内容説明書1!D20","v":0},{"$f":"設計内容説明書1!E20","v":0},{"$f":"設計内容説明書1!F20","v":0},{"$f":"設計内容説明書1!G20","v":0},{"$f":"設計内容説明書1!H20","v":0},{"$f":"設計内容説明書1!I20","v":0},{"$f":"設計内容説明書1!J20","v":0},"評価％",null,null,null,null,null,null,0]
[{"$f":"設計内容説明書1!$A$21","v":""},{"$f":"設計内容説明書1!$B$21","v":0},{"$f":"設計内容説明書1!C21","v":0},null,{"$f":"設計内容説明書1!E21","v":0},{"$f":"設計内容説明書1!F21","v":0},{"$f":"設計内容説明書1!G21","v":0},{"$f":"設計内容説明書1!H21","v":0},{"$f":"設計内容説明書1!I21","v":0},{"$f":"設計内容説明書1!J21","v":0},{"$f":"'S2'!D37","v":0},null,{"$f":"'S2'!K37","v":0},{"$f":"'S2'!R37","v":0},{"$f":"'S2'!Y37","v":0},{"$f":"'S2'!AF37","v":0},{"$f":"'S2'!AM35","v":0},0]
[null,null,"比率％",{"$f":"設計内容説明書1!D22","v":""},{"$f":"設計内容説明書1!E22","v":""},{"$f":"設計内容説明書1!F22","v":""},{"$f":"設計内容説明書1!G22","v":""},{"$f":"設計内容説明書1!H22","v":""},{"$f":"設計内容説明書1!I22","v":""},{"$f":"設計内容説明書1!J22","v":0},"比率％",{"$f":"IF(K21>0,INT(R21/$K21*100),\"\")","v":""},{"$f":"IF(R21>0,INT(M21/$R21*100),\"\")","v":""},{"$f":"IF(R21>0,INT(N21/$R21*100),\"\")","v":""},{"$f":"IF(R21>0,INT(O21/$R21*100),\"\")","v":""},{"$f":"IF(R21>0,INT(P21/$R21*100),\"\")","v":""},{"$f":"IF(R21>0,INT(Q21/$R21*100),\"\")","v":""},0,"□","□","□"]
[null,null,"評価％",{"$f":"設計内容説明書1!D23","v":0},{"$f":"設計内容説明書1!E23","v":0},{"$f":"設計内容説明書1!F23","v":0},{"$f":"設計内容説明書1!G23","v":0},{"$f":"設計内容説明書1!H23","v":0},{"$f":"設計内容説明書1!I23","v":0},{"$f":"設計内容説明書1!J23","v":0},"評価％",null,null,null,null,null,null,0]
[{"$f":"設計内容説明書1!$A$24","v":""},{"$f":"設計内容説明書1!$B$24","v":0},{"$f":"設計内容説明書1!C24","v":0},null,{"$f":"設計内容説明書1!E24","v":0},{"$f":"設計内容説明書1!F24","v":0},{"$f":"設計内容説明書1!G24","v":0},{"$f":"設計内容説明書1!H24","v":0},{"$f":"設計内容説明書1!I24","v":0},{"$f":"設計内容説明書1!J24","v":0},{"$f":"'S2'!D55","v":0},null,{"$f":"'S2'!K55","v":0},{"$f":"'S2'!R55","v":0},{"$f":"'S2'!Y55","v":0},{"$f":"'S2'!AF55","v":0},{"$f":"'S2'!AM53","v":0},0]
[null,null,"比率％",{"$f":"設計内容説明書1!D25","v":""},{"$f":"設計内容説明書1!E25","v":""},{"$f":"設計内容説明書1!F25","v":""},{"$f":"設計内容説明書1!G25","v":""},{"$f":"設計内容説明書1!H25","v":""},{"$f":"設計内容説明書1!I25","v":""},{"$f":"設計内容説明書1!J25","v":0},"比率％",{"$f":"IF(K24>0,INT(R24/$K24*100),\"\")","v":""},{"$f":"IF(R24>0,INT(M24/$R24*100),\"\")","v":""},{"$f":"IF(R24>0,INT(N24/$R24*100),\"\")","v":""},{"$f":"IF(R24>0,INT(O24/$R24*100),\"\")","v":""},{"$f":"IF(R24>0,INT(P24/$R24*100),\"\")","v":""},{"$f":"IF(R24>0,INT(Q24/$R24*100),\"\")","v":""},0,"□","□","□"]
[null,null,"評価％",{"$f":"設計内容説明書1!D26","v":0},{"$f":"設計内容説明書1!E26","v":0},{"$f":"設計内容説明書1!F26","v":0},{"$f":"設計内容説明書1!G26","v":0},{"$f":"設計内容説明書1!H26","v":0},{"$f":"設計内容説明書1!I26","v":0},{"$f":"設計内容説明書1!J26","v":0},"評価％",null,null,null,null,null,null,0]
[{"$f":"設計内容説明書1!$A$27","v":""},{"$f":"設計内容説明書1!$B$27","v":0},{"$f":"設計内容説明書1!C27","v":0},null,{"$f":"設計内容説明書1!E27","v":0},{"$f":"設計内容説明書1!F27","v":0},{"$f":"設計内容説明書1!G27","v":0},{"$f":"設計内容説明書1!H27","v":0},{"$f":"設計内容説明書1!I27","v":0},{"$f":"設計内容説明書1!J27","v":0},{"$f":"'S3'!D19","v":0},null,{"$f":"'S3'!K19","v":0},{"$f":"'S3'!R19","v":0},{"$f":"'S3'!Y19","v":0},{"$f":"'S3'!AF19","v":0},{"$f":"'S3'!AM17","v":0},0]
[null,null,"比率％",{"$f":"設計内容説明書1!D28","v":""},{"$f":"設計内容説明書1!E28","v":""},{"$f":"設計内容説明書1!F28","v":""},{"$f":"設計内容説明書1!G28","v":""},{"$f":"設計内容説明書1!H28","v":""},{"$f":"設計内容説明書1!I28","v":""},{"$f":"設計内容説明書1!J28","v":0},"比率％",{"$f":"IF(K27>0,INT(R27/$K27*100),\"\")","v":""},{"$f":"IF(R27>0,INT(M27/$R27*100),\"\")","v":""},{"$f":"IF(R27>0,INT(N27/$R27*100),\"\")","v":""},{"$f":"IF(R27>0,INT(O27/$R27*100),\"\")","v":""},{"$f":"IF(R27>0,INT(P27/$R27*100),\"\")","v":""},{"$f":"IF(R27>0,INT(Q27/$R27*100),\"\")","v":""},0,"□","□","□"]
[null,null,"評価％",{"$f":"設計内容説明書1!D29","v":0},{"$f":"設計内容説明書1!E29","v":0},{"$f":"設計内容説明書1!F29","v":0},{"$f":"設計内容説明書1!G29","v":0},{"$f":"設計内容説明書1!H29","v":0},{"$f":"設計内容説明書1!I29","v":0},{"$f":"設計内容説明書1!J29","v":0},"評価％",null,null,null,null,null,null,0]
[{"$f":"設計内容説明書1!$A$30","v":""},{"$f":"設計内容説明書1!$B$30","v":0},{"$f":"設計内容説明書1!C30","v":0},null,{"$f":"設計内容説明書1!E30","v":0},{"$f":"設計内容説明書1!F30","v":0},{"$f":"設計内容説明書1!G30","v":0},{"$f":"設計内容説明書1!H30","v":0},{"$f":"設計内容説明書1!I30","v":0},{"$f":"設計内容説明書1!J30","v":0},{"$f":"'S3'!D37","v":0},null,{"$f":"'S3'!K37","v":0},{"$f":"'S3'!R37","v":0},{"$f":"'S3'!Y37","v":0},{"$f":"'S3'!AF37","v":0},{"$f":"'S3'!AM35","v":0},0]
[null,null,"比率％",{"$f":"設計内容説明書1!D31","v":""},{"$f":"設計内容説明書1!E31","v":""},{"$f":"設計内容説明書1!F31","v":""},{"$f":"設計内容説明書1!G31","v":""},{"$f":"設計内容説明書1!H31","v":""},{"$f":"設計内容説明書1!I31","v":""},{"$f":"設計内容説明書1!J31","v":0},"比率％",{"$f":"IF(K30>0,INT(R30/$K30*100),\"\")","v":""},{"$f":"IF(R30>0,INT(M30/$R30*100),\"\")","v":""},{"$f":"IF(R30>0,INT(N30/$R30*100),\"\")","v":""},{"$f":"IF(R30>0,INT(O30/$R30*100),\"\")","v":""},{"$f":"IF(R30>0,INT(P30/$R30*100),\"\")","v":""},{"$f":"IF(R30>0,INT(Q30/$R30*100),\"\")","v":""},0,"□","□","□"]
[null,null,"評価％",{"$f":"設計内容説明書1!D32","v":0},{"$f":"設計内容説明書1!E32","v":0},{"$f":"設計内容説明書1!F32","v":0},{"$f":"設計内容説明書1!G32","v":0},{"$f":"設計内容説明書1!H32","v":0},{"$f":"設計内容説明書1!I32","v":0},{"$f":"設計内容説明書1!J32","v":0},"評価％",null,null,null,null,null,null,0]
[{"$f":"設計内容説明書1!$A$33","v":""},{"$f":"設計内容説明書1!$B$33","v":0},{"$f":"設計内容説明書1!C33","v":0},null,{"$f":"設計内容説明書1!E33","v":0},{"$f":"設計内容説明書1!F33","v":0},{"$f":"設計内容説明書1!G33","v":0},{"$f":"設計内容説明書1!H33","v":0},{"$f":"設計内容説明書1!I33","v":0},{"$f":"設計内容説明書1!J33","v":0},{"$f":"'S3'!D55","v":0},null,{"$f":"'S3'!K55","v":0},{"$f":"'S3'!R55","v":0},{"$f":"'S3'!Y55","v":0},{"$f":"'S3'!AF55","v":0},{"$f":"'S3'!AM53","v":0},0]
[null,null,"比率％",{"$f":"設計内容説明書1!D34","v":""},{"$f":"設計内容説明書1!E34","v":""},{"$f":"設計内容説明書1!F34","v":""},{"$f":"設計内容説明書1!G34","v":""},{"$f":"設計内容説明書1!H34","v":""},{"$f":"設計内容説明書1!I34","v":""},{"$f":"設計内容説明書1!J34","v":0},"比率％",{"$f":"IF(K33>0,INT(R33/$K33*100),\"\")","v":""},{"$f":"IF(R33>0,INT(M33/$R33*100),\"\")","v":""},{"$f":"IF(R33>0,INT(N33/$R33*100),\"\")","v":""},{"$f":"IF(R33>0,INT(O33/$R33*100),\"\")","v":""},{"$f":"IF(R33>0,INT(P33/$R33*100),\"\")","v":""},{"$f":"IF(R33>0,INT(Q33/$R33*100),\"\")","v":""},0,"□","□","□"]
[null,null,"評価％",{"$f":"設計内容説明書1!D35","v":0},{"$f":"設計内容説明書1!E35","v":0},{"$f":"設計内容説明書1!F35","v":0},{"$f":"設計内容説明書1!G35","v":0},{"$f":"設計内容説明書1!H35","v":0},{"$f":"設計内容説明書1!I35","v":0},{"$f":"設計内容説明書1!J35","v":0},"評価％",null,null,null,null,null,null,0]
[{"$f":"設計内容説明書1!$A$36","v":""},{"$f":"設計内容説明書1!$B$36","v":0},{"$f":"設計内容説明書1!C36","v":0},null,{"$f":"設計内容説明書1!E36","v":0},{"$f":"設計内容説明書1!F36","v":0},{"$f":"設計内容説明書1!G36","v":0},{"$f":"設計内容説明書1!H36","v":0},{"$f":"設計内容説明書1!I36","v":0},{"$f":"設計内容説明書1!J36","v":0},{"$f":"'S4'!D19","v":0},null,{"$f":"'S4'!K19","v":0},{"$f":"'S4'!R19","v":0},{"$f":"'S4'!Y19","v":0},{"$f":"'S4'!AF19","v":0},{"$f":"'S4'!AM17","v":0},0]
[null,null,"比率％",{"$f":"設計内容説明書1!D37","v":""},{"$f":"設計内容説明書1!E37","v":""},{"$f":"設計内容説明書1!F37","v":""},{"$f":"設計内容説明書1!G37","v":""},{"$f":"設計内容説明書1!H37","v":""},{"$f":"設計内容説明書1!I37","v":""},{"$f":"設計内容説明書1!J37","v":0},"比率％",{"$f":"IF(K36>0,INT(R36/$K36*100),\"\")","v":""},{"$f":"IF(R36>0,INT(M36/$R36*100),\"\")","v":""},{"$f":"IF(R36>0,INT(N36/$R36*100),\"\")","v":""},{"$f":"IF(R36>0,INT(O36/$R36*100),\"\")","v":""},{"$f":"IF(R36>0,INT(P36/$R36*100),\"\")","v":""},{"$f":"IF(R36>0,INT(Q36/$R36*100),\"\")","v":""},0,"□","□","□"]
[null,null,"評価％",{"$f":"設計内容説明書1!D38","v":0},{"$f":"設計内容説明書1!E38","v":0},{"$f":"設計内容説明書1!F38","v":0},{"$f":"設計内容説明書1!G38","v":0},{"$f":"設計内容説明書1!H38","v":0},{"$f":"設計内容説明書1!I38","v":0},{"$f":"設計内容説明書1!J38","v":0},"評価％",null,null,null,null,null,null,0]
[{"$f":"設計内容説明書1!$A$39","v":""},{"$f":"設計内容説明書1!$B$39","v":0},{"$f":"設計内容説明書1!C39","v":0},null,{"$f":"設計内容説明書1!E39","v":0},{"$f":"設計内容説明書1!F39","v":0},{"$f":"設計内容説明書1!G39","v":0},{"$f":"設計内容説明書1!H39","v":0},{"$f":"設計内容説明書1!I39","v":0},{"$f":"設計内容説明書1!J39","v":0},{"$f":"'S4'!D37","v":0},null,{"$f":"'S4'!K37","v":0},{"$f":"'S4'!R37","v":0},{"$f":"'S4'!Y37","v":0},{"$f":"'S4'!AF37","v":0},{"$f":"'S4'!AM35","v":0},0]
[null,null,"比率％",{"$f":"設計内容説明書1!D40","v":""},{"$f":"設計内容説明書1!E40","v":""},{"$f":"設計内容説明書1!F40","v":""},{"$f":"設計内容説明書1!G40","v":""},{"$f":"設計内容説明書1!H40","v":""},{"$f":"設計内容説明書1!I40","v":""},{"$f":"設計内容説明書1!J40","v":0},"比率％",{"$f":"IF(K39>0,INT(R39/$K39*100),\"\")","v":""},{"$f":"IF(R39>0,INT(M39/$R39*100),\"\")","v":""},{"$f":"IF(R39>0,INT(N39/$R39*100),\"\")","v":""},{"$f":"IF(R39>0,INT(O39/$R39*100),\"\")","v":""},{"$f":"IF(R39>0,INT(P39/$R39*100),\"\")","v":""},{"$f":"IF(R39>0,INT(Q39/$R39*100),\"\")","v":""},0,"□","□","□"]
[null,null,"評価％",{"$f":"設計内容説明書1!D41","v":0},{"$f":"設計内容説明書1!E41","v":0},{"$f":"設計内容説明書1!F41","v":0},{"$f":"設計内容説明書1!G41","v":0},{"$f":"設計内容説明書1!H41","v":0},{"$f":"設計内容説明書1!I41","v":0},{"$f":"設計内容説明書1!J41","v":0},"評価％",null,null,null,null,null,null,0]
[{"$f":"設計内容説明書1!$A$42","v":""},{"$f":"設計内容説明書1!$B$42","v":0},{"$f":"設計内容説明書1!C42","v":0},null,{"$f":"設計内容説明書1!E42","v":0},{"$f":"設計内容説明書1!F42","v":0},{"$f":"設計内容説明書1!G42","v":0},{"$f":"設計内容説明書1!H42","v":0},{"$f":"設計内容説明書1!I42","v":0},{"$f":"設計内容説明書1!J42","v":0},{"$f":"'S4'!D55","v":0},null,{"$f":"'S4'!K55","v":0},{"$f":"'S4'!R55","v":0},{"$f":"'S4'!Y55","v":0},{"$f":"'S4'!AF55","v":0},{"$f":"'S4'!AM53","v":0},0]
[null,null,"比率％",{"$f":"設計内容説明書1!D43","v":""},{"$f":"設計内容説明書1!E43","v":""},{"$f":"設計内容説明書1!F43","v":""},{"$f":"設計内容説明書1!G43","v":""},{"$f":"設計内容説明書1!H43","v":""},{"$f":"設計内容説明書1!I43","v":""},{"$f":"設計内容説明書1!J43","v":0},"比率％",{"$f":"IF(K42>0,INT(R42/$K42*100),\"\")","v":""},{"$f":"IF(R42>0,INT(M42/$R42*100),\"\")","v":""},{"$f":"IF(R42>0,INT(N42/$R42*100),\"\")","v":""},{"$f":"IF(R42>0,INT(O42/$R42*100),\"\")","v":""},{"$f":"IF(R42>0,INT(P42/$R42*100),\"\")","v":""},{"$f":"IF(R42>0,INT(Q42/$R42*100),\"\")","v":""},0,"□","□","□"]
[null,null,"評価％",{"$f":"設計内容説明書1!D44","v":0},{"$f":"設計内容説明書1!E44","v":0},{"$f":"設計内容説明書1!F44","v":0},{"$f":"設計内容説明書1!G44","v":0},{"$f":"設計内容説明書1!H44","v":0},{"$f":"設計内容説明書1!I44","v":0},{"$f":"設計内容説明書1!J44","v":0},"評価％",null,null,null,null,null,null,0]

{"sheet":"設計内容説明書2","index":16,"n_rows":44,"n_cols":18,"rows_kept":44,"cut":false,"hidden":false,"merged":[[32,15,34,15],[35,15,37,15],[38,15,40,15],[41,15,43,15],[32,10,34,14],[35,10,37,14],[38,10,40,14],[41,10,43,14],[17,15,19,15],[20,15,22,15],[23,15,25,15],[26,15,28,15],[29,15,31,15],[17,10,19,14],[20,10,22,14],[23,10,25,14],[26,10,28,14],[41,1,43,1],[35,1,37,1],[29,1,31,1],[32,1,34,1],[29,10,31,14],[38,1,40,1],[8,15,10,15],[11,10,13,14],[11,15,13,15],[14,10,16,14],[14,15,16,15],[14,1,16,1],[17,1,19,1],[26,1,28,1],[20,1,22,1],[23,1,25,1],[5,15,7,15],[5,16,5,17],[6,16,7,16],[6,17,7,17],[6,3,7,3],[6,4,6,8],[5,10,7,14],[1,0,1,6],[1,10,1,14],[2,13,2,14],[11,1,13,1],[2,3,2,5],[8,1,10,1],[3,3,3,5],[8,10,10,14],[3,6,3,11],[5,0,7,0]]}
["設計内容説明書（兼自己評価書)　",null,null,null,null,null,null,null,null,null,null,null,null,null,null,null,null,"UHEC都市居住評価センター"]
["７．光・視環境に関すること （住戸評価用）",null,null,null,null,null,null,null,"(案件略称：",null,{"$f":"建具開口!H1","v":0},null,null,null,null,"）"]
[null,"7-1　単純開口率　　評価方法：",null,"■評価方法基準による",null,null,"□その他（　　　　　　　　　　　）",null,null,null,null,null,null,{"$f":"建具開口!K2","v":"00:00:00"}]
[null,"7-2　方位別開口比　評価方法：",null,"■評価方法基準による",null,null,"□その他（　　　　　　　　　　　）"]
[]
["グル\nープ\n番号","ブロック名",null,null,null,"自己評価結果　(設計評価時）",null,null,null,null,"図面番号・その他",null,null,null,null,"申請者記入\n備考欄","評価者記入欄"]
[null,{"$f":"'S1'!H2","v":"BL1"},"居室床","単純\n開口率","方位別開口面積㎡／開口比％",null,null,null,null,null,null,null,null,null,null,null,"確\n認","備　考"]
[null,"住戸番号","面積㎡",null,"北面","東面","南面","西面","真上","計"]
[{"$f":"IF('S5'!AJ19>0,'S5'!A6,\"\")","v":""},{"$f":"'S5'!A9","v":0},{"$f":"'S5'!C19","v":0},null,{"$f":"'S5'!H19","v":0},{"$f":"'S5'!O19","v":0},{"$f":"'S5'!V19","v":0},{"$f":"'S5'!AC19","v":0},{"$f":"'S5'!AJ17","v":0},{"$f":"SUM(E9:I9)","v":0}]
[null,null,"比率％",{"$f":"IF(C9>0,INT(J9/$C9*100),\"\")","v":""},{"$f":"IF(J9>0,INT(E9/$J9*100),\"\")","v":""},{"$f":"IF(J9>0,INT(F9/$J9*100),\"\")","v":""},{"$f":"IF(J9>0,INT(G9/$J9*100),\"\")","v":""},{"$f":"IF(J9>0,INT(H9/$J9*100),\"\")","v":""},{"$f":"IF(J9>0,INT(I9/$J9*100),\"\")","v":""},0,null,null,null,null,null,null,"□"]
[null,null,"評価％",null,null,null,null,null,null,0]
[{"$f":"IF('S5'!AJ37>0,'S5'!A24,\"\")","v":""},{"$f":"'S5'!A27","v":0},{"$f":"'S5'!C37","v":0},null,{"$f":"'S5'!H37","v":0},{"$f":"'S5'!O37","v":0},{"$f":"'S5'!V37","v":0},{"$f":"'S5'!AC37","v":0},{"$f":"'S5'!AJ35","v":0},0]
[null,null,"比率％",{"$f":"IF(C12>0,INT(J12/$C12*100),\"\")","v":""},{"$f":"IF(J12>0,INT(E12/$J12*100),\"\")","v":""},{"$f":"IF(J12>0,INT(F12/$J12*100),\"\")","v":""},{"$f":"IF(J12>0,INT(G12/$J12*100),\"\")","v":""},{"$f":"IF(J12>0,INT(H12/$J12*100),\"\")","v":""},{"$f":"IF(J12>0,INT(I12/$J12*100),\"\")","v":""},0,null,null,null,null,null,null,"□"]
[null,null,"評価％",null,null,null,null,null,null,0]
[{"$f":"IF('S5'!AJ55>0,'S5'!A42,\"\")","v":""},{"$f":"'S5'!A45","v":0},{"$f":"'S5'!C55","v":0},null,{"$f":"'S5'!H55","v":0},{"$f":"'S5'!O55","v":0},{"$f":"'S5'!V55","v":0},{"$f":"'S5'!AC55","v":0},{"$f":"'S5'!AJ53","v":0},0]
[null,null,"比率％",{"$f":"IF(C15>0,INT(J15/$C15*100),\"\")","v":""},{"$f":"IF(J15>0,INT(E15/$J15*100),\"\")","v":""},{"$f":"IF(J15>0,INT(F15/$J15*100),\"\")","v":""},{"$f":"IF(J15>0,INT(G15/$J15*100),\"\")","v":""},{"$f":"IF(J15>0,INT(H15/$J15*100),\"\")","v":""},{"$f":"IF(J15>0,INT(I15/$J15*100),\"\")","v":""},0,null,null,null,null,null,null,"□"]
[null,null,"評価％",null,null,null,null,null,null,0]
[{"$f":"IF('S6'!AJ19>0,'S6'!A6,\"\")","v":""},{"$f":"'S6'!A9","v":0},{"$f":"'S6'!C19","v":0},null,{"$f":"'S6'!H19","v":0},{"$f":"'S6'!O19","v":0},{"$f":"'S6'!V19","v":0},{"$f":"'S6'!AC19","v":0},{"$f":"'S6'!AJ17","v":0},0]
[null,null,"比率％",{"$f":"IF(C18>0,INT(J18/$C18*100),\"\")","v":""},{"$f":"IF(J18>0,INT(E18/$J18*100),\"\")","v":""},{"$f":"IF(J18>0,INT(F18/$J18*100),\"\")","v":""},{"$f":"IF(J18>0,INT(G18/$J18*100),\"\")","v":""},{"$f":"IF(J18>0,INT(H18/$J18*100),\"\")","v":""},{"$f":"IF(J18>0,INT(I18/$J18*100),\"\")","v":""},0,null,null,null,null,null,null,"□"]
[null,null,"評価％",null,null,null,null,null,null,0]
[{"$f":"IF('S6'!AJ37>0,'S6'!A24,\"\")","v":""},{"$f":"'S6'!A27","v":0},{"$f":"'S6'!C37","v":0},null,{"$f":"'S6'!H37","v":0},{"$f":"'S6'!O37","v":0},{"$f":"'S6'!V37","v":0},{"$f":"'S6'!AC37","v":0},{"$f":"'S6'!AJ35","v":0},0]
[null,null,"比率％",{"$f":"IF(C21>0,INT(J21/$C21*100),\"\")","v":""},{"$f":"IF(J21>0,INT(E21/$J21*100),\"\")","v":""},{"$f":"IF(J21>0,INT(F21/$J21*100),\"\")","v":""},{"$f":"IF(J21>0,INT(G21/$J21*100),\"\")","v":""},{"$f":"IF(J21>0,INT(H21/$J21*100),\"\")","v":""},{"$f":"IF(J21>0,INT(I21/$J21*100),\"\")","v":""},0,null,null,null,null,null,null,"□"]
[null,null,"評価％",null,null,null,null,null,null,0]
[{"$f":"IF('S6'!AJ55>0,'S6'!A42,\"\")","v":""},{"$f":"'S6'!A45","v":0},{"$f":"'S6'!C55","v":0},null,{"$f":"'S6'!H55","v":0},{"$f":"'S6'!O55","v":0},{"$f":"'S6'!V55","v":0},{"$f":"'S6'!AC55","v":0},{"$f":"'S6'!AJ53","v":0},0]
[null,null,"比率％",{"$f":"IF(C24>0,INT(J24/$C24*100),\"\")","v":""},{"$f":"IF(J24>0,INT(E24/$J24*100),\"\")","v":""},{"$f":"IF(J24>0,INT(F24/$J24*100),\"\")","v":""},{"$f":"IF(J24>0,INT(G24/$J24*100),\"\")","v":""},{"$f":"IF(J24>0,INT(H24/$J24*100),\"\")","v":""},{"$f":"IF(J24>0,INT(I24/$J24*100),\"\")","v":""},0,null,null,null,null,null,null,"□"]
[null,null,"評価％",null,null,null,null,null,null,0]
[{"$f":"IF('S7'!AJ19>0,'S7'!A6,\"\")","v":""},{"$f":"'S7'!A9","v":0},{"$f":"'S7'!C19","v":0},null,{"$f":"'S7'!H19","v":0},{"$f":"'S7'!O19","v":0},{"$f":"'S7'!V19","v":0},{"$f":"'S7'!AC19","v":0},{"$f":"'S7'!AJ17","v":0},0]
[null,null,"比率％",{"$f":"IF(C27>0,INT(J27/$C27*100),\"\")","v":""},{"$f":"IF(J27>0,INT(E27/$J27*100),\"\")","v":""},{"$f":"IF(J27>0,INT(F27/$J27*100),\"\")","v":""},{"$f":"IF(J27>0,INT(G27/$J27*100),\"\")","v":""},{"$f":"IF(J27>0,INT(H27/$J27*100),\"\")","v":""},{"$f":"IF(J27>0,INT(I27/$J27*100),\"\")","v":""},0,null,null,null,null,null,null,"□"]
[null,null,"評価％",null,null,null,null,null,null,0]
[{"$f":"IF('S7'!AJ37>0,'S7'!A24,\"\")","v":""},{"$f":"'S7'!A27","v":0},{"$f":"'S7'!C37","v":0},null,{"$f":"'S7'!H37","v":0},{"$f":"'S7'!O37","v":0},{"$f":"'S7'!V37","v":0},{"$f":"'S7'!AC37","v":0},{"$f":"'S7'!AJ35","v":0},0]
[null,null,"比率％",{"$f":"IF(C30>0,INT(J30/$C30*100),\"\")","v":""},{"$f":"IF(J30>0,INT(E30/$J30*100),\"\")","v":""},{"$f":"IF(J30>0,INT(F30/$J30*100),\"\")","v":""},{"$f":"IF(J30>0,INT(G30/$J30*100),\"\")","v":""},{"$f":"IF(J30>0,INT(H30/$J30*100),\"\")","v":""},{"$f":"IF(J30>0,INT(I30/$J30*100),\"\")","v":""},0,null,null,null,null,null,null,"□"]
[null,null,"評価％",null,null,null,null,null,null,0]
[{"$f":"IF('S7'!AJ55>0,'S7'!A42,\"\")","v":""},{"$f":"'S7'!A45","v":0},{"$f":"'S7'!C55","v":0},null,{"$f":"'S7'!H55","v":0},{"$f":"'S7'!O55","v":0},{"$f":"'S7'!V55","v":0},{"$f":"'S7'!AC55","v":0},{"$f":"'S7'!AJ53","v":0},0]
[null,null,"比率％",{"$f":"IF(C33>0,INT(J33/$C33*100),\"\")","v":""},{"$f":"IF(J33>0,INT(E33/$J33*100),\"\")","v":""},{"$f":"IF(J33>0,INT(F33/$J33*100),\"\")","v":""},{"$f":"IF(J33>0,INT(G33/$J33*100),\"\")","v":""},{"$f":"IF(J33>0,INT(H33/$J33*100),\"\")","v":""},{"$f":"IF(J33>0,INT(I33/$J33*100),\"\")","v":""},0,null,null,null,null,null,null,"□"]
[null,null,"評価％",null,null,null,null,null,null,0]
[{"$f":"IF('S8'!AJ19>0,'S8'!A6,\"\")","v":""},{"$f":"'S8'!A9","v":0},{"$f":"'S8'!C19","v":0},null,{"$f":"'S8'!H19","v":0},{"$f":"'S8'!O19","v":0},{"$f":"'S8'!V19","v":0},{"$f":"'S8'!AC19","v":0},{"$f":"'S8'!AJ17","v":0},0]
[null,null,"比率％",{"$f":"IF(C36>0,INT(J36/$C36*100),\"\")","v":""},{"$f":"IF(J36>0,INT(E36/$J36*100),\"\")","v":""},{"$f":"IF(J36>0,INT(F36/$J36*100),\"\")","v":""},{"$f":"IF(J36>0,INT(G36/$J36*100),\"\")","v":""},{"$f":"IF(J36>0,INT(H36/$J36*100),\"\")","v":""},{"$f":"IF(J36>0,INT(I36/$J36*100),\"\")","v":""},0,null,null,null,null,null,null,"□"]
[null,null,"評価％",null,null,null,null,null,null,0]
[{"$f":"IF('S8'!AJ37>0,'S8'!A24,\"\")","v":""},{"$f":"'S8'!A27","v":0},{"$f":"'S8'!C37","v":0},null,{"$f":"'S8'!H37","v":0},{"$f":"'S8'!O37","v":0},{"$f":"'S8'!V37","v":0},{"$f":"'S8'!AC37","v":0},{"$f":"'S8'!AJ35","v":0},0]
[null,null,"比率％",{"$f":"IF(C39>0,INT(J39/$C39*100),\"\")","v":""},{"$f":"IF(J39>0,INT(E39/$J39*100),\"\")","v":""},{"$f":"IF(J39>0,INT(F39/$J39*100),\"\")","v":""},{"$f":"IF(J39>0,INT(G39/$J39*100),\"\")","v":""},{"$f":"IF(J39>0,INT(H39/$J39*100),\"\")","v":""},{"$f":"IF(J39>0,INT(I39/$J39*100),\"\")","v":""},0,null,null,null,null,null,null,"□"]
[null,null,"評価％",null,null,null,null,null,null,0]
[{"$f":"IF('S8'!AJ55>0,'S8'!A42,\"\")","v":""},{"$f":"'S8'!A45","v":0},{"$f":"'S8'!C55","v":0},null,{"$f":"'S8'!H55","v":0},{"$f":"'S8'!O55","v":0},{"$f":"'S8'!V55","v":0},{"$f":"'S8'!AC55","v":0},{"$f":"'S8'!AJ53","v":0},0]
[null,null,"比率％",{"$f":"IF(C42>0,INT(J42/$C42*100),\"\")","v":""},{"$f":"IF(J42>0,INT(E42/$J42*100),\"\")","v":""},{"$f":"IF(J42>0,INT(F42/$J42*100),\"\")","v":""},{"$f":"IF(J42>0,INT(G42/$J42*100),\"\")","v":""},{"$f":"IF(J42>0,INT(H42/$J42*100),\"\")","v":""},{"$f":"IF(J42>0,INT(I42/$J42*100),\"\")","v":""},0,null,null,null,null,null,null,"□"]
[null,null,"評価％",null,null,null,null,null,null,0]

{"sheet":"施工状況報告書2","index":17,"n_rows":44,"n_cols":23,"rows_kept":44,"cut":false,"hidden":false,"merged":[[5,20,5,22],[6,20,7,20],[6,21,7,21],[6,22,7,22],[2,3,2,5],[3,3,3,5],[3,6,3,11],[5,19,7,19],[5,18,7,18],[41,1,43,1],[29,1,31,1],[32,1,34,1],[35,1,37,1],[1,10,1,17],[2,6,2,11],[2,15,2,17],[1,0,1,6],[23,1,25,1],[14,1,16,1],[17,1,19,1],[6,3,7,3],[6,4,6,8],[6,11,7,11],[6,12,6,16],[5,0,7,0],[26,1,28,1],[8,1,10,1],[11,1,13,1],[20,1,22,1],[38,1,40,1]]}
["　 施工状況報告書チェックシート",null,null,null,null,null,null,null,null,null,null,null,null,null,null,null,null,null,null,null,null,null,"UHEC都市居住評価センター"]
["７．光・視環境に関すること （住戸評価用）",null,null,null,null,null,null,null,null,"（案件略称：",{"$f":"建具開口!H1","v":0},null,null,null,null,null,null,null,"）"]
[null,"7-1　単純開口率　　評価方法：",null,"■評価方法基準による",null,null,"□その他（　　　　　　　　　　　）"]
[null,"7-2　方位別開口比　評価方法：",null,"■評価方法基準による",null,null,"□その他（　　　　　　　　　　　）"]
[]
["グル\nープ\n番号","ブロック名",null,null,null,"自己評価結果　(設計評価時）",null,null,null,null,null,"自己評価結果　（変更の場合：建設評価時）",null,null,null,null,null,null,"施工\n管理者","工事\n監理者","評価者記入欄"]
[null,{"$f":"設計内容説明書1!B7","v":"BL1"},"居室床","単純\n開口率","方位別開口面積㎡／開口比％",null,null,null,null,null,"居室床","単純\n開口率","方位別開口面積㎡／開口比％",null,null,null,null,null,null,null,"確\n認","回","備　考"]
[null,"住戸","面積㎡",null,"北面","東面","南面","西面","真上","計","面積㎡",null,"北面","東面","南面","西面","真上","計"]
[{"$f":"設計内容説明書2!$A$9","v":""},{"$f":"設計内容説明書2!$B$9","v":0},{"$f":"設計内容説明書2!C9","v":0},null,{"$f":"設計内容説明書2!E9","v":0},{"$f":"設計内容説明書2!F9","v":0},{"$f":"設計内容説明書2!G9","v":0},{"$f":"設計内容説明書2!H9","v":0},{"$f":"設計内容説明書2!I9","v":0},{"$f":"設計内容説明書2!J9","v":0},{"$f":"'S5'!D19","v":0},null,{"$f":"'S5'!K19","v":0},{"$f":"'S5'!R19","v":0},{"$f":"'S5'!Y19","v":0},{"$f":"'S5'!AF19","v":0},{"$f":"'S5'!AM17","v":0},{"$f":"SUM(M9:Q9)","v":0}]
[null,null,"比率％",{"$f":"設計内容説明書2!D10","v":""},{"$f":"設計内容説明書2!E10","v":""},{"$f":"設計内容説明書2!F10","v":""},{"$f":"設計内容説明書2!G10","v":""},{"$f":"設計内容説明書2!H10","v":""},{"$f":"設計内容説明書2!I10","v":""},{"$f":"設計内容説明書2!J10","v":0},"比率％",{"$f":"IF(K9>0,INT(R9/$K9*100),\"\")","v":""},{"$f":"IF(R9>0,INT(M9/$R9*100),\"\")","v":""},{"$f":"IF(R9>0,INT(N9/$R9*100),\"\")","v":""},{"$f":"IF(R9>0,INT(O9/$R9*100),\"\")","v":""},{"$f":"IF(R9>0,INT(P9/$R9*100),\"\")","v":""},{"$f":"IF(R9>0,INT(Q9/$R9*100),\"\")","v":""},0,"□","□","□"]
[null,null,"評価％",{"$f":"設計内容説明書2!D11","v":0},{"$f":"設計内容説明書2!E11","v":0},{"$f":"設計内容説明書2!F11","v":0},{"$f":"設計内容説明書2!G11","v":0},{"$f":"設計内容説明書2!H11","v":0},{"$f":"設計内容説明書2!I11","v":0},{"$f":"設計内容説明書2!J11","v":0},"評価％",null,null,null,null,null,null,0]
[{"$f":"設計内容説明書2!$A$12","v":""},{"$f":"設計内容説明書2!$B$12","v":0},{"$f":"設計内容説明書2!C12","v":0},null,{"$f":"設計内容説明書2!E12","v":0},{"$f":"設計内容説明書2!F12","v":0},{"$f":"設計内容説明書2!G12","v":0},{"$f":"設計内容説明書2!H12","v":0},{"$f":"設計内容説明書2!I12","v":0},{"$f":"設計内容説明書2!J12","v":0},{"$f":"'S5'!D37","v":0},null,{"$f":"'S5'!K37","v":0},{"$f":"'S5'!R37","v":0},{"$f":"'S5'!Y37","v":0},{"$f":"'S5'!AF37","v":0},{"$f":"'S5'!AM35","v":0},0]
[null,null,"比率％",{"$f":"設計内容説明書2!D13","v":""},{"$f":"設計内容説明書2!E13","v":""},{"$f":"設計内容説明書2!F13","v":""},{"$f":"設計内容説明書2!G13","v":""},{"$f":"設計内容説明書2!H13","v":""},{"$f":"設計内容説明書2!I13","v":""},{"$f":"設計内容説明書2!J13","v":0},"比率％",{"$f":"IF(K12>0,INT(R12/$K12*100),\"\")","v":""},{"$f":"IF(R12>0,INT(M12/$R12*100),\"\")","v":""},{"$f":"IF(R12>0,INT(N12/$R12*100),\"\")","v":""},{"$f":"IF(R12>0,INT(O12/$R12*100),\"\")","v":""},{"$f":"IF(R12>0,INT(P12/$R12*100),\"\")","v":""},{"$f":"IF(R12>0,INT(Q12/$R12*100),\"\")","v":""},0,"□","□","□"]
[null,null,"評価％",{"$f":"設計内容説明書2!D14","v":0},{"$f":"設計内容説明書2!E14","v":0},{"$f":"設計内容説明書2!F14","v":0},{"$f":"設計内容説明書2!G14","v":0},{"$f":"設計内容説明書2!H14","v":0},{"$f":"設計内容説明書2!I14","v":0},{"$f":"設計内容説明書2!J14","v":0},"評価％",null,null,null,null,null,null,0]
[{"$f":"設計内容説明書2!$A$15","v":""},{"$f":"設計内容説明書2!$B$15","v":0},{"$f":"設計内容説明書2!C15","v":0},null,{"$f":"設計内容説明書2!E15","v":0},{"$f":"設計内容説明書2!F15","v":0},{"$f":"設計内容説明書2!G15","v":0},{"$f":"設計内容説明書2!H15","v":0},{"$f":"設計内容説明書2!I15","v":0},{"$f":"設計内容説明書2!J15","v":0},{"$f":"'S5'!D55","v":0},null,{"$f":"'S5'!K55","v":0},{"$f":"'S5'!R55","v":0},{"$f":"'S5'!Y55","v":0},{"$f":"'S5'!AF55","v":0},{"$f":"'S5'!AM53","v":0},0]
[null,null,"比率％",{"$f":"設計内容説明書2!D16","v":""},{"$f":"設計内容説明書2!E16","v":""},{"$f":"設計内容説明書2!F16","v":""},{"$f":"設計内容説明書2!G16","v":""},{"$f":"設計内容説明書2!H16","v":""},{"$f":"設計内容説明書2!I16","v":""},{"$f":"設計内容説明書2!J16","v":0},"比率％",{"$f":"IF(K15>0,INT(R15/$K15*100),\"\")","v":""},{"$f":"IF(R15>0,INT(M15/$R15*100),\"\")","v":""},{"$f":"IF(R15>0,INT(N15/$R15*100),\"\")","v":""},{"$f":"IF(R15>0,INT(O15/$R15*100),\"\")","v":""},{"$f":"IF(R15>0,INT(P15/$R15*100),\"\")","v":""},{"$f":"IF(R15>0,INT(Q15/$R15*100),\"\")","v":""},0,"□","□","□"]
[null,null,"評価％",{"$f":"設計内容説明書2!D17","v":0},{"$f":"設計内容説明書2!E17","v":0},{"$f":"設計内容説明書2!F17","v":0},{"$f":"設計内容説明書2!G17","v":0},{"$f":"設計内容説明書2!H17","v":0},{"$f":"設計内容説明書2!I17","v":0},{"$f":"設計内容説明書2!J17","v":0},"評価％",null,null,null,null,null,null,0]
[{"$f":"設計内容説明書2!$A$18","v":""},{"$f":"設計内容説明書2!$B$18","v":0},{"$f":"設計内容説明書2!C18","v":0},null,{"$f":"設計内容説明書2!E18","v":0},{"$f":"設計内容説明書2!F18","v":0},{"$f":"設計内容説明書2!G18","v":0},{"$f":"設計内容説明書2!H18","v":0},{"$f":"設計内容説明書2!I18","v":0},{"$f":"設計内容説明書2!J18","v":0},{"$f":"'S6'!D19","v":0},null,{"$f":"'S6'!K19","v":0},{"$f":"'S6'!R19","v":0},{"$f":"'S6'!Y19","v":0},{"$f":"'S6'!AF19","v":0},{"$f":"'S6'!AM17","v":0},0]
[null,null,"比率％",{"$f":"設計内容説明書2!D19","v":""},{"$f":"設計内容説明書2!E19","v":""},{"$f":"設計内容説明書2!F19","v":""},{"$f":"設計内容説明書2!G19","v":""},{"$f":"設計内容説明書2!H19","v":""},{"$f":"設計内容説明書2!I19","v":""},{"$f":"設計内容説明書2!J19","v":0},"比率％",{"$f":"IF(K18>0,INT(R18/$K18*100),\"\")","v":""},{"$f":"IF(R18>0,INT(M18/$R18*100),\"\")","v":""},{"$f":"IF(R18>0,INT(N18/$R18*100),\"\")","v":""},{"$f":"IF(R18>0,INT(O18/$R18*100),\"\")","v":""},{"$f":"IF(R18>0,INT(P18/$R18*100),\"\")","v":""},{"$f":"IF(R18>0,INT(Q18/$R18*100),\"\")","v":""},0,"□","□","□"]
[null,null,"評価％",{"$f":"設計内容説明書2!D20","v":0},{"$f":"設計内容説明書2!E20","v":0},{"$f":"設計内容説明書2!F20","v":0},{"$f":"設計内容説明書2!G20","v":0},{"$f":"設計内容説明書2!H20","v":0},{"$f":"設計内容説明書2!I20","v":0},{"$f":"設計内容説明書2!J20","v":0},"評価％",null,null,null,null,null,null,0]
[{"$f":"設計内容説明書2!$A$21","v":""},{"$f":"設計内容説明書2!$B$21","v":0},{"$f":"設計内容説明書2!C21","v":0},null,{"$f":"設計内容説明書2!E21","v":0},{"$f":"設計内容説明書2!F21","v":0},{"$f":"設計内容説明書2!G21","v":0},{"$f":"設計内容説明書2!H21","v":0},{"$f":"設計内容説明書2!I21","v":0},{"$f":"設計内容説明書2!J21","v":0},{"$f":"'S6'!D37","v":0},null,{"$f":"'S6'!K37","v":0},{"$f":"'S6'!R37","v":0},{"$f":"'S6'!Y37","v":0},{"$f":"'S6'!AF37","v":0},{"$f":"'S6'!AM35","v":0},0]
[null,null,"比率％",{"$f":"設計内容説明書2!D22","v":""},{"$f":"設計内容説明書2!E22","v":""},{"$f":"設計内容説明書2!F22","v":""},{"$f":"設計内容説明書2!G22","v":""},{"$f":"設計内容説明書2!H22","v":""},{"$f":"設計内容説明書2!I22","v":""},{"$f":"設計内容説明書2!J22","v":0},"比率％",{"$f":"IF(K21>0,INT(R21/$K21*100),\"\")","v":""},{"$f":"IF(R21>0,INT(M21/$R21*100),\"\")","v":""},{"$f":"IF(R21>0,INT(N21/$R21*100),\"\")","v":""},{"$f":"IF(R21>0,INT(O21/$R21*100),\"\")","v":""},{"$f":"IF(R21>0,INT(P21/$R21*100),\"\")","v":""},{"$f":"IF(R21>0,INT(Q21/$R21*100),\"\")","v":""},0,"□","□","□"]
[null,null,"評価％",{"$f":"設計内容説明書2!D23","v":0},{"$f":"設計内容説明書2!E23","v":0},{"$f":"設計内容説明書2!F23","v":0},{"$f":"設計内容説明書2!G23","v":0},{"$f":"設計内容説明書2!H23","v":0},{"$f":"設計内容説明書2!I23","v":0},{"$f":"設計内容説明書2!J23","v":0},"評価％",null,null,null,null,null,null,0]
[{"$f":"設計内容説明書2!$A$24","v":""},{"$f":"設計内容説明書2!$B$24","v":0},{"$f":"設計内容説明書2!C24","v":0},null,{"$f":"設計内容説明書2!E24","v":0},{"$f":"設計内容説明書2!F24","v":0},{"$f":"設計内容説明書2!G24","v":0},{"$f":"設計内容説明書2!H24","v":0},{"$f":"設計内容説明書2!I24","v":0},{"$f":"設計内容説明書2!J24","v":0},{"$f":"'S6'!D55","v":0},null,{"$f":"'S6'!K55","v":0},{"$f":"'S6'!R55","v":0},{"$f":"'S6'!Y55","v":0},{"$f":"'S6'!AF55","v":0},{"$f":"'S6'!AM53","v":0},0]
[null,null,"比率％",{"$f":"設計内容説明書2!D25","v":""},{"$f":"設計内容説明書2!E25","v":""},{"$f":"設計内容説明書2!F25","v":""},{"$f":"設計内容説明書2!G25","v":""},{"$f":"設計内容説明書2!H25","v":""},{"$f":"設計内容説明書2!I25","v":""},{"$f":"設計内容説明書2!J25","v":0},"比率％",{"$f":"IF(K24>0,INT(R24/$K24*100),\"\")","v":""},{"$f":"IF(R24>0,INT(M24/$R24*100),\"\")","v":""},{"$f":"IF(R24>0,INT(N24/$R24*100),\"\")","v":""},{"$f":"IF(R24>0,INT(O24/$R24*100),\"\")","v":""},{"$f":"IF(R24>0,INT(P24/$R24*100),\"\")","v":""},{"$f":"IF(R24>0,INT(Q24/$R24*100),\"\")","v":""},0,"□","□","□"]
[null,null,"評価％",{"$f":"設計内容説明書2!D26","v":0},{"$f":"設計内容説明書2!E26","v":0},{"$f":"設計内容説明書2!F26","v":0},{"$f":"設計内容説明書2!G26","v":0},{"$f":"設計内容説明書2!H26","v":0},{"$f":"設計内容説明書2!I26","v":0},{"$f":"設計内容説明書2!J26","v":0},"評価％",null,null,null,null,null,null,0]
[{"$f":"設計内容説明書2!$A$27","v":""},{"$f":"設計内容説明書2!$B$27","v":0},{"$f":"設計内容説明書2!C27","v":0},null,{"$f":"設計内容説明書2!E27","v":0},{"$f":"設計内容説明書2!F27","v":0},{"$f":"設計内容説明書2!G27","v":0},{"$f":"設計内容説明書2!H27","v":0},{"$f":"設計内容説明書2!I27","v":0},{"$f":"設計内容説明書2!J27","v":0},{"$f":"'S7'!D19","v":0},null,{"$f":"'S7'!K19","v":0},{"$f":"'S7'!R19","v":0},{"$f":"'S7'!Y19","v":0},{"$f":"'S7'!AF19","v":0},{"$f":"'S7'!AM17","v":0},0]
[null,null,"比率％",{"$f":"設計内容説明書2!D28","v":""},{"$f":"設計内容説明書2!E28","v":""},{"$f":"設計内容説明書2!F28","v":""},{"$f":"設計内容説明書2!G28","v":""},{"$f":"設計内容説明書2!H28","v":""},{"$f":"設計内容説明書2!I28","v":""},{"$f":"設計内容説明書2!J28","v":0},"比率％",{"$f":"IF(K27>0,INT(R27/$K27*100),\"\")","v":""},{"$f":"IF(R27>0,INT(M27/$R27*100),\"\")","v":""},{"$f":"IF(R27>0,INT(N27/$R27*100),\"\")","v":""},{"$f":"IF(R27>0,INT(O27/$R27*100),\"\")","v":""},{"$f":"IF(R27>0,INT(P27/$R27*100),\"\")","v":""},{"$f":"IF(R27>0,INT(Q27/$R27*100),\"\")","v":""},0,"□","□","□"]
[null,null,"評価％",{"$f":"設計内容説明書2!D29","v":0},{"$f":"設計内容説明書2!E29","v":0},{"$f":"設計内容説明書2!F29","v":0},{"$f":"設計内容説明書2!G29","v":0},{"$f":"設計内容説明書2!H29","v":0},{"$f":"設計内容説明書2!I29","v":0},{"$f":"設計内容説明書2!J29","v":0},"評価％",null,null,null,null,null,null,0]
[{"$f":"設計内容説明書2!$A$30","v":""},{"$f":"設計内容説明書2!$B$30","v":0},{"$f":"設計内容説明書2!C30","v":0},null,{"$f":"設計内容説明書2!E30","v":0},{"$f":"設計内容説明書2!F30","v":0},{"$f":"設計内容説明書2!G30","v":0},{"$f":"設計内容説明書2!H30","v":0},{"$f":"設計内容説明書2!I30","v":0},{"$f":"設計内容説明書2!J30","v":0},{"$f":"'S7'!D37","v":0},null,{"$f":"'S7'!K37","v":0},{"$f":"'S7'!R37","v":0},{"$f":"'S7'!Y37","v":0},{"$f":"'S7'!AF37","v":0},{"$f":"'S7'!AM35","v":0},0]
[null,null,"比率％",{"$f":"設計内容説明書2!D31","v":""},{"$f":"設計内容説明書2!E31","v":""},{"$f":"設計内容説明書2!F31","v":""},{"$f":"設計内容説明書2!G31","v":""},{"$f":"設計内容説明書2!H31","v":""},{"$f":"設計内容説明書2!I31","v":""},{"$f":"設計内容説明書2!J31","v":0},"比率％",{"$f":"IF(K30>0,INT(R30/$K30*100),\"\")","v":""},{"$f":"IF(R30>0,INT(M30/$R30*100),\"\")","v":""},{"$f":"IF(R30>0,INT(N30/$R30*100),\"\")","v":""},{"$f":"IF(R30>0,INT(O30/$R30*100),\"\")","v":""},{"$f":"IF(R30>0,INT(P30/$R30*100),\"\")","v":""},{"$f":"IF(R30>0,INT(Q30/$R30*100),\"\")","v":""},0,"□","□","□"]
[null,null,"評価％",{"$f":"設計内容説明書2!D32","v":0},{"$f":"設計内容説明書2!E32","v":0},{"$f":"設計内容説明書2!F32","v":0},{"$f":"設計内容説明書2!G32","v":0},{"$f":"設計内容説明書2!H32","v":0},{"$f":"設計内容説明書2!I32","v":0},{"$f":"設計内容説明書2!J32","v":0},"評価％",null,null,null,null,null,null,0]
[{"$f":"設計内容説明書2!$A$33","v":""},{"$f":"設計内容説明書2!$B$33","v":0},{"$f":"設計内容説明書2!C33","v":0},null,{"$f":"設計内容説明書2!E33","v":0},{"$f":"設計内容説明書2!F33","v":0},{"$f":"設計内容説明書2!G33","v":0},{"$f":"設計内容説明書2!H33","v":0},{"$f":"設計内容説明書2!I33","v":0},{"$f":"設計内容説明書2!J33","v":0},{"$f":"'S7'!D55","v":0},null,{"$f":"'S7'!K55","v":0},{"$f":"'S7'!R55","v":0},{"$f":"'S7'!Y55","v":0},{"$f":"'S7'!AF55","v":0},{"$f":"'S7'!AM53","v":0},0]
[null,null,"比率％",{"$f":"設計内容説明書2!D34","v":""},{"$f":"設計内容説明書2!E34","v":""},{"$f":"設計内容説明書2!F34","v":""},{"$f":"設計内容説明書2!G34","v":""},{"$f":"設計内容説明書2!H34","v":""},{"$f":"設計内容説明書2!I34","v":""},{"$f":"設計内容説明書2!J34","v":0},"比率％",{"$f":"IF(K33>0,INT(R33/$K33*100),\"\")","v":""},{"$f":"IF(R33>0,INT(M33/$R33*100),\"\")","v":""},{"$f":"IF(R33>0,INT(N33/$R33*100),\"\")","v":""},{"$f":"IF(R33>0,INT(O33/$R33*100),\"\")","v":""},{"$f":"IF(R33>0,INT(P33/$R33*100),\"\")","v":""},{"$f":"IF(R33>0,INT(Q33/$R33*100),\"\")","v":""},0,"□","□","□"]
[null,null,"評価％",{"$f":"設計内容説明書2!D35","v":0},{"$f":"設計内容説明書2!E35","v":0},{"$f":"設計内容説明書2!F35","v":0},{"$f":"設計内容説明書2!G35","v":0},{"$f":"設計内容説明書2!H35","v":0},{"$f":"設計内容説明書2!I35","v":0},{"$f":"設計内容説明書2!J35","v":0},"評価％",null,null,null,null,null,null,0]
[{"$f":"設計内容説明書2!$A$36","v":""},{"$f":"設計内容説明書2!$B$36","v":0},{"$f":"設計内容説明書2!C36","v":0},null,{"$f":"設計内容説明書2!E36","v":0},{"$f":"設計内容説明書2!F36","v":0},{"$f":"設計内容説明書2!G36","v":0},{"$f":"設計内容説明書2!H36","v":0},{"$f":"設計内容説明書2!I36","v":0},{"$f":"設計内容説明書2!J36","v":0},{"$f":"'S8'!D19","v":0},null,{"$f":"'S8'!K19","v":0},{"$f":"'S8'!R19","v":0},{"$f":"'S8'!Y19","v":0},{"$f":"'S8'!AF19","v":0},{"$f":"'S8'!AM17","v":0},0]
[null,null,"比率％",{"$f":"設計内容説明書2!D37","v":""},{"$f":"設計内容説明書2!E37","v":""},{"$f":"設計内容説明書2!F37","v":""},{"$f":"設計内容説明書2!G37","v":""},{"$f":"設計内容説明書2!H37","v":""},{"$f":"設計内容説明書2!I37","v":""},{"$f":"設計内容説明書2!J37","v":0},"比率％",{"$f":"IF(K36>0,INT(R36/$K36*100),\"\")","v":""},{"$f":"IF(R36>0,INT(M36/$R36*100),\"\")","v":""},{"$f":"IF(R36>0,INT(N36/$R36*100),\"\")","v":""},{"$f":"IF(R36>0,INT(O36/$R36*100),\"\")","v":""},{"$f":"IF(R36>0,INT(P36/$R36*100),\"\")","v":""},{"$f":"IF(R36>0,INT(Q36/$R36*100),\"\")","v":""},0,"□","□","□"]
[null,null,"評価％",{"$f":"設計内容説明書2!D38","v":0},{"$f":"設計内容説明書2!E38","v":0},{"$f":"設計内容説明書2!F38","v":0},{"$f":"設計内容説明書2!G38","v":0},{"$f":"設計内容説明書2!H38","v":0},{"$f":"設計内容説明書2!I38","v":0},{"$f":"設計内容説明書2!J38","v":0},"評価％",null,null,null,null,null,null,0]
[{"$f":"設計内容説明書2!$A$39","v":""},{"$f":"設計内容説明書2!$B$39","v":0},{"$f":"設計内容説明書2!C39","v":0},null,{"$f":"設計内容説明書2!E39","v":0},{"$f":"設計内容説明書2!F39","v":0},{"$f":"設計内容説明書2!G39","v":0},{"$f":"設計内容説明書2!H39","v":0},{"$f":"設計内容説明書2!I39","v":0},{"$f":"設計内容説明書2!J39","v":0},{"$f":"'S8'!D37","v":0},null,{"$f":"'S8'!K37","v":0},{"$f":"'S8'!R37","v":0},{"$f":"'S8'!Y37","v":0},{"$f":"'S8'!AF37","v":0},{"$f":"'S8'!AM35","v":0},0]
[null,null,"比率％",{"$f":"設計内容説明書2!D40","v":""},{"$f":"設計内容説明書2!E40","v":""},{"$f":"設計内容説明書2!F40","v":""},{"$f":"設計内容説明書2!G40","v":""},{"$f":"設計内容説明書2!H40","v":""},{"$f":"設計内容説明書2!I40","v":""},{"$f":"設計内容説明書2!J40","v":0},"比率％",{"$f":"IF(K39>0,INT(R39/$K39*100),\"\")","v":""},{"$f":"IF(R39>0,INT(M39/$R39*100),\"\")","v":""},{"$f":"IF(R39>0,INT(N39/$R39*100),\"\")","v":""},{"$f":"IF(R39>0,INT(O39/$R39*100),\"\")","v":""},{"$f":"IF(R39>0,INT(P39/$R39*100),\"\")","v":""},{"$f":"IF(R39>0,INT(Q39/$R39*100),\"\")","v":""},0,"□","□","□"]
[null,null,"評価％",{"$f":"設計内容説明書2!D41","v":0},{"$f":"設計内容説明書2!E41","v":0},{"$f":"設計内容説明書2!F41","v":0},{"$f":"設計内容説明書2!G41","v":0},{"$f":"設計内容説明書2!H41","v":0},{"$f":"設計内容説明書2!I41","v":0},{"$f":"設計内容説明書2!J41","v":0},"評価％",null,null,null,null,null,null,0]
[{"$f":"設計内容説明書2!$A$42","v":""},{"$f":"設計内容説明書2!$B$42","v":0},{"$f":"設計内容説明書2!C42","v":0},null,{"$f":"設計内容説明書2!E42","v":0},{"$f":"設計内容説明書2!F42","v":0},{"$f":"設計内容説明書2!G42","v":0},{"$f":"設計内容説明書2!H42","v":0},{"$f":"設計内容説明書2!I42","v":0},{"$f":"設計内容説明書2!J42","v":0},{"$f":"'S8'!D55","v":0},null,{"$f":"'S8'!K55","v":0},{"$f":"'S8'!R55","v":0},{"$f":"'S8'!Y55","v":0},{"$f":"'S8'!AF55","v":0},{"$f":"'S8'!AM53","v":0},0]
[null,null,"比率％",{"$f":"設計内容説明書2!D43","v":""},{"$f":"設計内容説明書2!E43","v":""},{"$f":"設計内容説明書2!F43","v":""},{"$f":"設計内容説明書2!G43","v":""},{"$f":"設計内容説明書2!H43","v":""},{"$f":"設計内容説明書2!I43","v":""},{"$f":"設計内容説明書2!J43","v":0},"比率％",{"$f":"IF(K42>0,INT(R42/$K42*100),\"\")","v":""},{"$f":"IF(R42>0,INT(M42/$R42*100),\"\")","v":""},{"$f":"IF(R42>0,INT(N42/$R42*100),\"\")","v":""},{"$f":"IF(R42>0,INT(O42/$R42*100),\"\")","v":""},{"$f":"IF(R42>0,INT(P42/$R42*100),\"\")","v":""},{"$f":"IF(R42>0,INT(Q42/$R42*100),\"\")","v":""},0,"□","□","□"]
[null,null,"評価％",{"$f":"設計内容説明書2!D44","v":0},{"$f":"設計内容説明書2!E44","v":0},{"$f":"設計内容説明書2!F44","v":0},{"$f":"設計内容説明書2!G44","v":0},{"$f":"設計内容説明書2!H44","v":0},{"$f":"設計内容説明書2!I44","v":0},{"$f":"設計内容説明書2!J44","v":0},"評価％",null,null,null,null,null,null,0]

{"sheet":"設計内容説明書3","index":18,"n_rows":44,"n_cols":18,"rows_kept":44,"cut":false,"hidden":false,"merged":[[32,15,34,15],[35,15,37,15],[38,15,40,15],[41,15,43,15],[32,10,34,14],[35,10,37,14],[38,10,40,14],[41,10,43,14],[17,15,19,15],[20,15,22,15],[23,15,25,15],[26,15,28,15],[29,15,31,15],[17,10,19,14],[20,10,22,14],[23,10,25,14],[26,10,28,14],[41,1,43,1],[35,1,37,1],[29,1,31,1],[32,1,34,1],[29,10,31,14],[38,1,40,1],[8,15,10,15],[11,10,13,14],[11,15,13,15],[14,10,16,14],[14,15,16,15],[14,1,16,1],[17,1,19,1],[26,1,28,1],[20,1,22,1],[23,1,25,1],[5,15,7,15],[5,16,5,17],[6,16,7,16],[6,17,7,17],[6,3,7,3],[6,4,6,8],[5,10,7,14],[1,0,1,6],[1,10,1,14],[2,13,2,14],[11,1,13,1],[2,3,2,5],[8,1,10,1],[3,3,3,5],[8,10,10,14],[3,6,3,11],[5,0,7,0]]}
["設計内容説明書（兼自己評価書)　",null,null,null,null,null,null,null,null,null,null,null,null,null,null,null,null,"UHEC都市居住評価センター"]
["７．光・視環境に関すること （住戸評価用）",null,null,null,null,null,null,null,"(案件略称：",null,{"$f":"建具開口!H1","v":0},null,null,null,null,"）"]
[null,"7-1　単純開口率　　評価方法：",null,"■評価方法基準による",null,null,"□その他（　　　　　　　　　　　）",null,null,null,null,null,null,{"$f":"建具開口!K2","v":"00:00:00"}]
[null,"7-2　方位別開口比　評価方法：",null,"■評価方法基準による",null,null,"□その他（　　　　　　　　　　　）"]
[]
["グル\nープ\n番号","ブロック名",null,null,null,"自己評価結果　(設計評価時）",null,null,null,null,"図面番号・その他",null,null,null,null,"申請者記入\n備考欄","評価者記入欄"]
[null,{"$f":"'S1'!H2","v":"BL1"},"居室床","単純\n開口率","方位別開口面積㎡／開口比％",null,null,null,null,null,null,null,null,null,null,null,"確\n認","備　考"]
[null,"住戸番号","面積㎡",null,"北面","東面","南面","西面","真上","計"]
[{"$f":"IF('S9'!AJ19>0,'S9'!A6,\"\")","v":""},{"$f":"'S9'!A9","v":0},{"$f":"'S9'!C19","v":0},null,{"$f":"'S9'!H19","v":0},{"$f":"'S9'!O19","v":0},{"$f":"'S9'!V19","v":0},{"$f":"'S9'!AC19","v":0},{"$f":"'S9'!AJ17","v":0},{"$f":"SUM(E9:I9)","v":0}]
[null,null,"比率％",{"$f":"IF(C9>0,INT(J9/$C9*100),\"\")","v":""},{"$f":"IF(J9>0,INT(E9/$J9*100),\"\")","v":""},{"$f":"IF(J9>0,INT(F9/$J9*100),\"\")","v":""},{"$f":"IF(J9>0,INT(G9/$J9*100),\"\")","v":""},{"$f":"IF(J9>0,INT(H9/$J9*100),\"\")","v":""},{"$f":"IF(J9>0,INT(I9/$J9*100),\"\")","v":""},0,null,null,null,null,null,null,"□"]
[null,null,"評価％",null,null,null,null,null,null,0]
[{"$f":"IF('S9'!AJ37>0,'S9'!A24,\"\")","v":""},{"$f":"'S9'!A27","v":0},{"$f":"'S9'!C37","v":0},null,{"$f":"'S9'!H37","v":0},{"$f":"'S9'!O37","v":0},{"$f":"'S9'!V37","v":0},{"$f":"'S9'!AC37","v":0},{"$f":"'S9'!AJ35","v":0},0]
[null,null,"比率％",{"$f":"IF(C12>0,INT(J12/$C12*100),\"\")","v":""},{"$f":"IF(J12>0,INT(E12/$J12*100),\"\")","v":""},{"$f":"IF(J12>0,INT(F12/$J12*100),\"\")","v":""},{"$f":"IF(J12>0,INT(G12/$J12*100),\"\")","v":""},{"$f":"IF(J12>0,INT(H12/$J12*100),\"\")","v":""},{"$f":"IF(J12>0,INT(I12/$J12*100),\"\")","v":""},0,null,null,null,null,null,null,"□"]
[null,null,"評価％",null,null,null,null,null,null,0]
[{"$f":"IF('S9'!AJ55>0,'S9'!A42,\"\")","v":""},{"$f":"'S9'!A45","v":0},{"$f":"'S9'!C55","v":0},null,{"$f":"'S9'!H55","v":0},{"$f":"'S9'!O55","v":0},{"$f":"'S9'!V55","v":0},{"$f":"'S9'!AC55","v":0},{"$f":"'S9'!AJ53","v":0},0]
[null,null,"比率％",{"$f":"IF(C15>0,INT(J15/$C15*100),\"\")","v":""},{"$f":"IF(J15>0,INT(E15/$J15*100),\"\")","v":""},{"$f":"IF(J15>0,INT(F15/$J15*100),\"\")","v":""},{"$f":"IF(J15>0,INT(G15/$J15*100),\"\")","v":""},{"$f":"IF(J15>0,INT(H15/$J15*100),\"\")","v":""},{"$f":"IF(J15>0,INT(I15/$J15*100),\"\")","v":""},0,null,null,null,null,null,null,"□"]
[null,null,"評価％",null,null,null,null,null,null,0]
[{"$f":"IF('S10'!AJ19>0,'S10'!A6,\"\")","v":""},{"$f":"'S10'!A9","v":0},{"$f":"'S10'!C19","v":0},null,{"$f":"'S10'!H19","v":0},{"$f":"'S10'!O19","v":0},{"$f":"'S10'!V19","v":0},{"$f":"'S10'!AC19","v":0},{"$f":"'S10'!AJ17","v":0},0]
[null,null,"比率％",{"$f":"IF(C18>0,INT(J18/$C18*100),\"\")","v":""},{"$f":"IF(J18>0,INT(E18/$J18*100),\"\")","v":""},{"$f":"IF(J18>0,INT(F18/$J18*100),\"\")","v":""},{"$f":"IF(J18>0,INT(G18/$J18*100),\"\")","v":""},{"$f":"IF(J18>0,INT(H18/$J18*100),\"\")","v":""},{"$f":"IF(J18>0,INT(I18/$J18*100),\"\")","v":""},0,null,null,null,null,null,null,"□"]
[null,null,"評価％",null,null,null,null,null,null,0]
[{"$f":"IF('S10'!AJ37>0,'S10'!A24,\"\")","v":""},{"$f":"'S10'!A27","v":0},{"$f":"'S10'!C37","v":0},null,{"$f":"'S10'!H37","v":0},{"$f":"'S10'!O37","v":0},{"$f":"'S10'!V37","v":0},{"$f":"'S10'!AC37","v":0},{"$f":"'S10'!AJ35","v":0},0]
[null,null,"比率％",{"$f":"IF(C21>0,INT(J21/$C21*100),\"\")","v":""},{"$f":"IF(J21>0,INT(E21/$J21*100),\"\")","v":""},{"$f":"IF(J21>0,INT(F21/$J21*100),\"\")","v":""},{"$f":"IF(J21>0,INT(G21/$J21*100),\"\")","v":""},{"$f":"IF(J21>0,INT(H21/$J21*100),\"\")","v":""},{"$f":"IF(J21>0,INT(I21/$J21*100),\"\")","v":""},0,null,null,null,null,null,null,"□"]
[null,null,"評価％",null,null,null,null,null,null,0]
[{"$f":"IF('S10'!AJ55>0,'S10'!A42,\"\")","v":""},{"$f":"'S10'!A45","v":0},{"$f":"'S10'!C55","v":0},null,{"$f":"'S10'!H55","v":0},{"$f":"'S10'!O55","v":0},{"$f":"'S10'!V55","v":0},{"$f":"'S10'!AC55","v":0},{"$f":"'S10'!AJ53","v":0},0]
[null,null,"比率％",{"$f":"IF(C24>0,INT(J24/$C24*100),\"\")","v":""},{"$f":"IF(J24>0,INT(E24/$J24*100),\"\")","v":""},{"$f":"IF(J24>0,INT(F24/$J24*100),\"\")","v":""},{"$f":"IF(J24>0,INT(G24/$J24*100),\"\")","v":""},{"$f":"IF(J24>0,INT(H24/$J24*100),\"\")","v":""},{"$f":"IF(J24>0,INT(I24/$J24*100),\"\")","v":""},0,null,null,null,null,null,null,"□"]
[null,null,"評価％",null,null,null,null,null,null,0]
[{"$f":"IF('S11'!AJ19>0,'S11'!A6,\"\")","v":""},{"$f":"'S11'!A9","v":0},{"$f":"'S11'!C19","v":0},null,{"$f":"'S11'!H19","v":0},{"$f":"'S11'!O19","v":0},{"$f":"'S11'!V19","v":0},{"$f":"'S11'!AC19","v":0},{"$f":"'S11'!AJ17","v":0},0]
[null,null,"比率％",{"$f":"IF(C27>0,INT(J27/$C27*100),\"\")","v":""},{"$f":"IF(J27>0,INT(E27/$J27*100),\"\")","v":""},{"$f":"IF(J27>0,INT(F27/$J27*100),\"\")","v":""},{"$f":"IF(J27>0,INT(G27/$J27*100),\"\")","v":""},{"$f":"IF(J27>0,INT(H27/$J27*100),\"\")","v":""},{"$f":"IF(J27>0,INT(I27/$J27*100),\"\")","v":""},0,null,null,null,null,null,null,"□"]
[null,null,"評価％",null,null,null,null,null,null,0]
[{"$f":"IF('S11'!AJ37>0,'S11'!A24,\"\")","v":""},{"$f":"'S11'!A27","v":0},{"$f":"'S11'!C37","v":0},null,{"$f":"'S11'!H37","v":0},{"$f":"'S11'!O37","v":0},{"$f":"'S11'!V37","v":0},{"$f":"'S11'!AC37","v":0},{"$f":"'S11'!AJ35","v":0},0]
[null,null,"比率％",{"$f":"IF(C30>0,INT(J30/$C30*100),\"\")","v":""},{"$f":"IF(J30>0,INT(E30/$J30*100),\"\")","v":""},{"$f":"IF(J30>0,INT(F30/$J30*100),\"\")","v":""},{"$f":"IF(J30>0,INT(G30/$J30*100),\"\")","v":""},{"$f":"IF(J30>0,INT(H30/$J30*100),\"\")","v":""},{"$f":"IF(J30>0,INT(I30/$J30*100),\"\")","v":""},0,null,null,null,null,null,null,"□"]
[null,null,"評価％",null,null,null,null,null,null,0]
[{"$f":"IF('S11'!AJ55>0,'S11'!A42,\"\")","v":""},{"$f":"'S11'!A45","v":0},{"$f":"'S11'!C55","v":0},null,{"$f":"'S11'!H55","v":0},{"$f":"'S11'!O55","v":0},{"$f":"'S11'!V55","v":0},{"$f":"'S11'!AC55","v":0},{"$f":"'S11'!AJ53","v":0},0]
[null,null,"比率％",{"$f":"IF(C33>0,INT(J33/$C33*100),\"\")","v":""},{"$f":"IF(J33>0,INT(E33/$J33*100),\"\")","v":""},{"$f":"IF(J33>0,INT(F33/$J33*100),\"\")","v":""},{"$f":"IF(J33>0,INT(G33/$J33*100),\"\")","v":""},{"$f":"IF(J33>0,INT(H33/$J33*100),\"\")","v":""},{"$f":"IF(J33>0,INT(I33/$J33*100),\"\")","v":""},0,null,null,null,null,null,null,"□"]
[null,null,"評価％",null,null,null,null,null,null,0]
[{"$f":"IF('S12'!AJ19>0,'S12'!A6,\"\")","v":""},{"$f":"'S12'!A9","v":0},{"$f":"'S12'!C19","v":0},null,{"$f":"'S12'!H19","v":0},{"$f":"'S12'!O19","v":0},{"$f":"'S12'!V19","v":0},{"$f":"'S12'!AC19","v":0},{"$f":"'S12'!AJ17","v":0},0]
[null,null,"比率％",{"$f":"IF(C36>0,INT(J36/$C36*100),\"\")","v":""},{"$f":"IF(J36>0,INT(E36/$J36*100),\"\")","v":""},{"$f":"IF(J36>0,INT(F36/$J36*100),\"\")","v":""},{"$f":"IF(J36>0,INT(G36/$J36*100),\"\")","v":""},{"$f":"IF(J36>0,INT(H36/$J36*100),\"\")","v":""},{"$f":"IF(J36>0,INT(I36/$J36*100),\"\")","v":""},0,null,null,null,null,null,null,"□"]
[null,null,"評価％",null,null,null,null,null,null,0]
[{"$f":"IF('S12'!AJ37>0,'S12'!A24,\"\")","v":""},{"$f":"'S12'!A27","v":0},{"$f":"'S12'!C37","v":0},null,{"$f":"'S12'!H37","v":0},{"$f":"'S12'!O37","v":0},{"$f":"'S12'!V37","v":0},{"$f":"'S12'!AC37","v":0},{"$f":"'S12'!AJ35","v":0},0]
[null,null,"比率％",{"$f":"IF(C39>0,INT(J39/$C39*100),\"\")","v":""},{"$f":"IF(J39>0,INT(E39/$J39*100),\"\")","v":""},{"$f":"IF(J39>0,INT(F39/$J39*100),\"\")","v":""},{"$f":"IF(J39>0,INT(G39/$J39*100),\"\")","v":""},{"$f":"IF(J39>0,INT(H39/$J39*100),\"\")","v":""},{"$f":"IF(J39>0,INT(I39/$J39*100),\"\")","v":""},0,null,null,null,null,null,null,"□"]
[null,null,"評価％",null,null,null,null,null,null,0]
[{"$f":"IF('S12'!AJ55>0,'S12'!A42,\"\")","v":""},{"$f":"'S12'!A45","v":0},{"$f":"'S12'!C55","v":0},null,{"$f":"'S12'!H55","v":0},{"$f":"'S12'!O55","v":0},{"$f":"'S12'!V55","v":0},{"$f":"'S12'!AC55","v":0},{"$f":"'S12'!AJ53","v":0},0]
[null,null,"比率％",{"$f":"IF(C42>0,INT(J42/$C42*100),\"\")","v":""},{"$f":"IF(J42>0,INT(E42/$J42*100),\"\")","v":""},{"$f":"IF(J42>0,INT(F42/$J42*100),\"\")","v":""},{"$f":"IF(J42>0,INT(G42/$J42*100),\"\")","v":""},{"$f":"IF(J42>0,INT(H42/$J42*100),\"\")","v":""},{"$f":"IF(J42>0,INT(I42/$J42*100),\"\")","v":""},0,null,null,null,null,null,null,"□"]
[null,null,"評価％",null,null,null,null,null,null,0]

{"sheet":"施工状況報告書3","index":19,"n_rows":44,"n_cols":23,"rows_kept":44,"cut":false,"hidden":false,"merged":[[5,20,5,22],[6,20,7,20],[6,21,7,21],[6,22,7,22],[2,3,2,5],[3,3,3,5],[3,6,3,11],[5,19,7,19],[5,18,7,18],[41,1,43,1],[29,1,31,1],[32,1,34,1],[35,1,37,1],[1,10,1,17],[2,6,2,11],[2,15,2,17],[1,0,1,6],[23,1,25,1],[14,1,16,1],[17,1,19,1],[6,3,7,3],[6,4,6,8],[6,11,7,11],[6,12,6,16],[5,0,7,0],[26,1,28,1],[8,1,10,1],[11,1,13,1],[20,1,22,1],[38,1,40,1]]}
["　 施工状況報告書チェックシート",null,null,null,null,null,null,null,null,null,null,null,null,null,null,null,null,null,null,null,null,null,"UHEC都市居住評価センター"]
["７．光・視環境に関すること （住戸評価用）",null,null,null,null,null,null,null,null,"（案件略称：",{"$f":"建具開口!H1","v":0},null,null,null,null,null,null,null,"）"]
[null,"7-1　単純開口率　　評価方法：",null,"■評価方法基準による",null,null,"□その他（　　　　　　　　　　　）"]
[null,"7-2　方位別開口比　評価方法：",null,"■評価方法基準による",null,null,"□その他（　　　　　　　　　　　）"]
[]
["グル\nープ\n番号","ブロック名",null,null,null,"自己評価結果　(設計評価時）",null,null,null,null,null,"自己評価結果　（変更の場合：建設評価時）",null,null,null,null,null,null,"施工\n管理者","工事\n監理者","評価者記入欄"]
[null,{"$f":"設計内容説明書1!B7","v":"BL1"},"居室床","単純\n開口率","方位別開口面積㎡／開口比％",null,null,null,null,null,"居室床","単純\n開口率","方位別開口面積㎡／開口比％",null,null,null,null,null,null,null,"確\n認","回","備　考"]
[null,"住戸","面積㎡",null,"北面","東面","南面","西面","真上","計","面積㎡",null,"北面","東面","南面","西面","真上","計"]
[{"$f":"設計内容説明書3!$A$9","v":""},{"$f":"設計内容説明書3!$B$9","v":0},{"$f":"設計内容説明書3!C9","v":0},null,{"$f":"設計内容説明書3!E9","v":0},{"$f":"設計内容説明書3!F9","v":0},{"$f":"設計内容説明書3!G9","v":0},{"$f":"設計内容説明書3!H9","v":0},{"$f":"設計内容説明書3!I9","v":0},{"$f":"設計内容説明書3!J9","v":0},{"$f":"'S9'!D19","v":0},null,{"$f":"'S9'!K19","v":0},{"$f":"'S9'!R19","v":0},{"$f":"'S9'!Y19","v":0},{"$f":"'S9'!AF19","v":0},{"$f":"'S9'!AM17","v":0},{"$f":"SUM(M9:Q9)","v":0}]
[null,null,"比率％",{"$f":"設計内容説明書3!D10","v":""},{"$f":"設計内容説明書3!E10","v":""},{"$f":"設計内容説明書3!F10","v":""},{"$f":"設計内容説明書3!G10","v":""},{"$f":"設計内容説明書3!H10","v":""},{"$f":"設計内容説明書3!I10","v":""},{"$f":"設計内容説明書3!J10","v":0},"比率％",{"$f":"IF(K9>0,INT(R9/$K9*100),\"\")","v":""},{"$f":"IF(R9>0,INT(M9/$R9*100),\"\")","v":""},{"$f":"IF(R9>0,INT(N9/$R9*100),\"\")","v":""},{"$f":"IF(R9>0,INT(O9/$R9*100),\"\")","v":""},{"$f":"IF(R9>0,INT(P9/$R9*100),\"\")","v":""},{"$f":"IF(R9>0,INT(Q9/$R9*100),\"\")","v":""},0,"□","□","□"]
[null,null,"評価％",{"$f":"設計内容説明書3!D11","v":0},{"$f":"設計内容説明書3!E11","v":0},{"$f":"設計内容説明書3!F11","v":0},{"$f":"設計内容説明書3!G11","v":0},{"$f":"設計内容説明書3!H11","v":0},{"$f":"設計内容説明書3!I11","v":0},{"$f":"設計内容説明書3!J11","v":0},"評価％",null,null,null,null,null,null,0]
[{"$f":"設計内容説明書3!$A$12","v":""},{"$f":"設計内容説明書3!$B$12","v":0},{"$f":"設計内容説明書3!C12","v":0},null,{"$f":"設計内容説明書3!E12","v":0},{"$f":"設計内容説明書3!F12","v":0},{"$f":"設計内容説明書3!G12","v":0},{"$f":"設計内容説明書3!H12","v":0},{"$f":"設計内容説明書3!I12","v":0},{"$f":"設計内容説明書3!J12","v":0},{"$f":"'S9'!D37","v":0},null,{"$f":"'S9'!K37","v":0},{"$f":"'S9'!R37","v":0},{"$f":"'S9'!Y37","v":0},{"$f":"'S9'!AF37","v":0},{"$f":"'S9'!AM35","v":0},0]
[null,null,"比率％",{"$f":"設計内容説明書3!D13","v":""},{"$f":"設計内容説明書3!E13","v":""},{"$f":"設計内容説明書3!F13","v":""},{"$f":"設計内容説明書3!G13","v":""},{"$f":"設計内容説明書3!H13","v":""},{"$f":"設計内容説明書3!I13","v":""},{"$f":"設計内容説明書3!J13","v":0},"比率％",{"$f":"IF(K12>0,INT(R12/$K12*100),\"\")","v":""},{"$f":"IF(R12>0,INT(M12/$R12*100),\"\")","v":""},{"$f":"IF(R12>0,INT(N12/$R12*100),\"\")","v":""},{"$f":"IF(R12>0,INT(O12/$R12*100),\"\")","v":""},{"$f":"IF(R12>0,INT(P12/$R12*100),\"\")","v":""},{"$f":"IF(R12>0,INT(Q12/$R12*100),\"\")","v":""},0,"□","□","□"]
[null,null,"評価％",{"$f":"設計内容説明書3!D14","v":0},{"$f":"設計内容説明書3!E14","v":0},{"$f":"設計内容説明書3!F14","v":0},{"$f":"設計内容説明書3!G14","v":0},{"$f":"設計内容説明書3!H14","v":0},{"$f":"設計内容説明書3!I14","v":0},{"$f":"設計内容説明書3!J14","v":0},"評価％",null,null,null,null,null,null,0]
[{"$f":"設計内容説明書3!$A$15","v":""},{"$f":"設計内容説明書3!$B$15","v":0},{"$f":"設計内容説明書3!C15","v":0},null,{"$f":"設計内容説明書3!E15","v":0},{"$f":"設計内容説明書3!F15","v":0},{"$f":"設計内容説明書3!G15","v":0},{"$f":"設計内容説明書3!H15","v":0},{"$f":"設計内容説明書3!I15","v":0},{"$f":"設計内容説明書3!J15","v":0},{"$f":"'S9'!D55","v":0},null,{"$f":"'S9'!K55","v":0},{"$f":"'S9'!R55","v":0},{"$f":"'S9'!Y55","v":0},{"$f":"'S9'!AF55","v":0},{"$f":"'S9'!AM53","v":0},0]
[null,null,"比率％",{"$f":"設計内容説明書3!D16","v":""},{"$f":"設計内容説明書3!E16","v":""},{"$f":"設計内容説明書3!F16","v":""},{"$f":"設計内容説明書3!G16","v":""},{"$f":"設計内容説明書3!H16","v":""},{"$f":"設計内容説明書3!I16","v":""},{"$f":"設計内容説明書3!J16","v":0},"比率％",{"$f":"IF(K15>0,INT(R15/$K15*100),\"\")","v":""},{"$f":"IF(R15>0,INT(M15/$R15*100),\"\")","v":""},{"$f":"IF(R15>0,INT(N15/$R15*100),\"\")","v":""},{"$f":"IF(R15>0,INT(O15/$R15*100),\"\")","v":""},{"$f":"IF(R15>0,INT(P15/$R15*100),\"\")","v":""},{"$f":"IF(R15>0,INT(Q15/$R15*100),\"\")","v":""},0,"□","□","□"]
[null,null,"評価％",{"$f":"設計内容説明書3!D17","v":0},{"$f":"設計内容説明書3!E17","v":0},{"$f":"設計内容説明書3!F17","v":0},{"$f":"設計内容説明書3!G17","v":0},{"$f":"設計内容説明書3!H17","v":0},{"$f":"設計内容説明書3!I17","v":0},{"$f":"設計内容説明書3!J17","v":0},"評価％",null,null,null,null,null,null,0]
[{"$f":"設計内容説明書3!$A$18","v":""},{"$f":"設計内容説明書3!$B$18","v":0},{"$f":"設計内容説明書3!C18","v":0},null,{"$f":"設計内容説明書3!E18","v":0},{"$f":"設計内容説明書3!F18","v":0},{"$f":"設計内容説明書3!G18","v":0},{"$f":"設計内容説明書3!H18","v":0},{"$f":"設計内容説明書3!I18","v":0},{"$f":"設計内容説明書3!J18","v":0},{"$f":"'S10'!D19","v":0},null,{"$f":"'S10'!K19","v":0},{"$f":"'S10'!R19","v":0},{"$f":"'S10'!Y19","v":0},{"$f":"'S10'!AF19","v":0},{"$f":"'S10'!AM17","v":0},0]
[null,null,"比率％",{"$f":"設計内容説明書3!D19","v":""},{"$f":"設計内容説明書3!E19","v":""},{"$f":"設計内容説明書3!F19","v":""},{"$f":"設計内容説明書3!G19","v":""},{"$f":"設計内容説明書3!H19","v":""},{"$f":"設計内容説明書3!I19","v":""},{"$f":"設計内容説明書3!J19","v":0},"比率％",{"$f":"IF(K18>0,INT(R18/$K18*100),\"\")","v":""},{"$f":"IF(R18>0,INT(M18/$R18*100),\"\")","v":""},{"$f":"IF(R18>0,INT(N18/$R18*100),\"\")","v":""},{"$f":"IF(R18>0,INT(O18/$R18*100),\"\")","v":""},{"$f":"IF(R18>0,INT(P18/$R18*100),\"\")","v":""},{"$f":"IF(R18>0,INT(Q18/$R18*100),\"\")","v":""},0,"□","□","□"]
[null,null,"評価％",{"$f":"設計内容説明書3!D20","v":0},{"$f":"設計内容説明書3!E20","v":0},{"$f":"設計内容説明書3!F20","v":0},{"$f":"設計内容説明書3!G20","v":0},{"$f":"設計内容説明書3!H20","v":0},{"$f":"設計内容説明書3!I20","v":0},{"$f":"設計内容説明書3!J20","v":0},"評価％",null,null,null,null,null,null,0]
[{"$f":"設計内容説明書3!$A$21","v":""},{"$f":"設計内容説明書3!$B$21","v":0},{"$f":"設計内容説明書3!C21","v":0},null,{"$f":"設計内容説明書3!E21","v":0},{"$f":"設計内容説明書3!F21","v":0},{"$f":"設計内容説明書3!G21","v":0},{"$f":"設計内容説明書3!H21","v":0},{"$f":"設計内容説明書3!I21","v":0},{"$f":"設計内容説明書3!J21","v":0},{"$f":"'S10'!D37","v":0},null,{"$f":"'S10'!K37","v":0},{"$f":"'S10'!R37","v":0},{"$f":"'S10'!Y37","v":0},{"$f":"'S10'!AF37","v":0},{"$f":"'S10'!AM35","v":0},0]
[null,null,"比率％",{"$f":"設計内容説明書3!D22","v":""},{"$f":"設計内容説明書3!E22","v":""},{"$f":"設計内容説明書3!F22","v":""},{"$f":"設計内容説明書3!G22","v":""},{"$f":"設計内容説明書3!H22","v":""},{"$f":"設計内容説明書3!I22","v":""},{"$f":"設計内容説明書3!J22","v":0},"比率％",{"$f":"IF(K21>0,INT(R21/$K21*100),\"\")","v":""},{"$f":"IF(R21>0,INT(M21/$R21*100),\"\")","v":""},{"$f":"IF(R21>0,INT(N21/$R21*100),\"\")","v":""},{"$f":"IF(R21>0,INT(O21/$R21*100),\"\")","v":""},{"$f":"IF(R21>0,INT(P21/$R21*100),\"\")","v":""},{"$f":"IF(R21>0,INT(Q21/$R21*100),\"\")","v":""},0,"□","□","□"]
[null,null,"評価％",{"$f":"設計内容説明書3!D23","v":0},{"$f":"設計内容説明書3!E23","v":0},{"$f":"設計内容説明書3!F23","v":0},{"$f":"設計内容説明書3!G23","v":0},{"$f":"設計内容説明書3!H23","v":0},{"$f":"設計内容説明書3!I23","v":0},{"$f":"設計内容説明書3!J23","v":0},"評価％",null,null,null,null,null,null,0]
[{"$f":"設計内容説明書3!$A$24","v":""},{"$f":"設計内容説明書3!$B$24","v":0},{"$f":"設計内容説明書3!C24","v":0},null,{"$f":"設計内容説明書3!E24","v":0},{"$f":"設計内容説明書3!F24","v":0},{"$f":"設計内容説明書3!G24","v":0},{"$f":"設計内容説明書3!H24","v":0},{"$f":"設計内容説明書3!I24","v":0},{"$f":"設計内容説明書3!J24","v":0},{"$f":"'S10'!D55","v":0},null,{"$f":"'S10'!K55","v":0},{"$f":"'S10'!R55","v":0},{"$f":"'S10'!Y55","v":0},{"$f":"'S10'!AF55","v":0},{"$f":"'S10'!AM53","v":0},0]
[null,null,"比率％",{"$f":"設計内容説明書3!D25","v":""},{"$f":"設計内容説明書3!E25","v":""},{"$f":"設計内容説明書3!F25","v":""},{"$f":"設計内容説明書3!G25","v":""},{"$f":"設計内容説明書3!H25","v":""},{"$f":"設計内容説明書3!I25","v":""},{"$f":"設計内容説明書3!J25","v":0},"比率％",{"$f":"IF(K24>0,INT(R24/$K24*100),\"\")","v":""},{"$f":"IF(R24>0,INT(M24/$R24*100),\"\")","v":""},{"$f":"IF(R24>0,INT(N24/$R24*100),\"\")","v":""},{"$f":"IF(R24>0,INT(O24/$R24*100),\"\")","v":""},{"$f":"IF(R24>0,INT(P24/$R24*100),\"\")","v":""},{"$f":"IF(R24>0,INT(Q24/$R24*100),\"\")","v":""},0,"□","□","□"]
[null,null,"評価％",{"$f":"設計内容説明書3!D26","v":0},{"$f":"設計内容説明書3!E26","v":0},{"$f":"設計内容説明書3!F26","v":0},{"$f":"設計内容説明書3!G26","v":0},{"$f":"設計内容説明書3!H26","v":0},{"$f":"設計内容説明書3!I26","v":0},{"$f":"設計内容説明書3!J26","v":0},"評価％",null,null,null,null,null,null,0]
[{"$f":"設計内容説明書3!$A$27","v":""},{"$f":"設計内容説明書3!$B$27","v":0},{"$f":"設計内容説明書3!C27","v":0},null,{"$f":"設計内容説明書3!E27","v":0},{"$f":"設計内容説明書3!F27","v":0},{"$f":"設計内容説明書3!G27","v":0},{"$f":"設計内容説明書3!H27","v":0},{"$f":"設計内容説明書3!I27","v":0},{"$f":"設計内容説明書3!J27","v":0},{"$f":"'S11'!D19","v":0},null,{"$f":"'S11'!K19","v":0},{"$f":"'S11'!R19","v":0},{"$f":"'S11'!Y19","v":0},{"$f":"'S11'!AF19","v":0},{"$f":"'S11'!AM17","v":0},0]
[null,null,"比率％",{"$f":"設計内容説明書3!D28","v":""},{"$f":"設計内容説明書3!E28","v":""},{"$f":"設計内容説明書3!F28","v":""},{"$f":"設計内容説明書3!G28","v":""},{"$f":"設計内容説明書3!H28","v":""},{"$f":"設計内容説明書3!I28","v":""},{"$f":"設計内容説明書3!J28","v":0},"比率％",{"$f":"IF(K27>0,INT(R27/$K27*100),\"\")","v":""},{"$f":"IF(R27>0,INT(M27/$R27*100),\"\")","v":""},{"$f":"IF(R27>0,INT(N27/$R27*100),\"\")","v":""},{"$f":"IF(R27>0,INT(O27/$R27*100),\"\")","v":""},{"$f":"IF(R27>0,INT(P27/$R27*100),\"\")","v":""},{"$f":"IF(R27>0,INT(Q27/$R27*100),\"\")","v":""},0,"□","□","□"]
[null,null,"評価％",{"$f":"設計内容説明書3!D29","v":0},{"$f":"設計内容説明書3!E29","v":0},{"$f":"設計内容説明書3!F29","v":0},{"$f":"設計内容説明書3!G29","v":0},{"$f":"設計内容説明書3!H29","v":0},{"$f":"設計内容説明書3!I29","v":0},{"$f":"設計内容説明書3!J29","v":0},"評価％",null,null,null,null,null,null,0]
[{"$f":"設計内容説明書3!$A$30","v":""},{"$f":"設計内容説明書3!$B$30","v":0},{"$f":"設計内容説明書3!C30","v":0},null,{"$f":"設計内容説明書3!E30","v":0},{"$f":"設計内容説明書3!F30","v":0},{"$f":"設計内容説明書3!G30","v":0},{"$f":"設計内容説明書3!H30","v":0},{"$f":"設計内容説明書3!I30","v":0},{"$f":"設計内容説明書3!J30","v":0},{"$f":"'S11'!D37","v":0},null,{"$f":"'S11'!K37","v":0},{"$f":"'S11'!R37","v":0},{"$f":"'S11'!Y37","v":0},{"$f":"'S11'!AF37","v":0},{"$f":"'S11'!AM35","v":0},0]
[null,null,"比率％",{"$f":"設計内容説明書3!D31","v":""},{"$f":"設計内容説明書3!E31","v":""},{"$f":"設計内容説明書3!F31","v":""},{"$f":"設計内容説明書3!G31","v":""},{"$f":"設計内容説明書3!H31","v":""},{"$f":"設計内容説明書3!I31","v":""},{"$f":"設計内容説明書3!J31","v":0},"比率％",{"$f":"IF(K30>0,INT(R30/$K30*100),\"\")","v":""},{"$f":"IF(R30>0,INT(M30/$R30*100),\"\")","v":""},{"$f":"IF(R30>0,INT(N30/$R30*100),\"\")","v":""},{"$f":"IF(R30>0,INT(O30/$R30*100),\"\")","v":""},{"$f":"IF(R30>0,INT(P30/$R30*100),\"\")","v":""},{"$f":"IF(R30>0,INT(Q30/$R30*100),\"\")","v":""},0,"□","□","□"]
[null,null,"評価％",{"$f":"設計内容説明書3!D32","v":0},{"$f":"設計内容説明書3!E32","v":0},{"$f":"設計内容説明書3!F32","v":0},{"$f":"設計内容説明書3!G32","v":0},{"$f":"設計内容説明書3!H32","v":0},{"$f":"設計内容説明書3!I32","v":0},{"$f":"設計内容説明書3!J32","v":0},"評価％",null,null,null,null,null,null,0]
[{"$f":"設計内容説明書3!$A$33","v":""},{"$f":"設計内容説明書3!$B$33","v":0},{"$f":"設計内容説明書3!C33","v":0},null,{"$f":"設計内容説明書3!E33","v":0},{"$f":"設計内容説明書3!F33","v":0},{"$f":"設計内容説明書3!G33","v":0},{"$f":"設計内容説明書3!H33","v":0},{"$f":"設計内容説明書3!I33","v":0},{"$f":"設計内容説明書3!J33","v":0},{"$f":"'S11'!D55","v":0},null,{"$f":"'S11'!K55","v":0},{"$f":"'S11'!R55","v":0},{"$f":"'S11'!Y55","v":0},{"$f":"'S11'!AF55","v":0},{"$f":"'S11'!AM53","v":0},0]
[null,null,"比率％",{"$f":"設計内容説明書3!D34","v":""},{"$f":"設計内容説明書3!E34","v":""},{"$f":"設計内容説明書3!F34","v":""},{"$f":"設計内容説明書3!G34","v":""},{"$f":"設計内容説明書3!H34","v":""},{"$f":"設計内容説明書3!I34","v":""},{"$f":"設計内容説明書3!J34","v":0},"比率％",{"$f":"IF(K33>0,INT(R33/$K33*100),\"\")","v":""},{"$f":"IF(R33>0,INT(M33/$R33*100),\"\")","v":""},{"$f":"IF(R33>0,INT(N33/$R33*100),\"\")","v":""},{"$f":"IF(R33>0,INT(O33/$R33*100),\"\")","v":""},{"$f":"IF(R33>0,INT(P33/$R33*100),\"\")","v":""},{"$f":"IF(R33>0,INT(Q33/$R33*100),\"\")","v":""},0,"□","□","□"]
[null,null,"評価％",{"$f":"設計内容説明書3!D35","v":0},{"$f":"設計内容説明書3!E35","v":0},{"$f":"設計内容説明書3!F35","v":0},{"$f":"設計内容説明書3!G35","v":0},{"$f":"設計内容説明書3!H35","v":0},{"$f":"設計内容説明書3!I35","v":0},{"$f":"設計内容説明書3!J35","v":0},"評価％",null,null,null,null,null,null,0]
[{"$f":"設計内容説明書3!$A$36","v":""},{"$f":"設計内容説明書3!$B$36","v":0},{"$f":"設計内容説明書3!C36","v":0},null,{"$f":"設計内容説明書3!E36","v":0},{"$f":"設計内容説明書3!F36","v":0},{"$f":"設計内容説明書3!G36","v":0},{"$f":"設計内容説明書3!H36","v":0},{"$f":"設計内容説明書3!I36","v":0},{"$f":"設計内容説明書3!J36","v":0},{"$f":"'S12'!D19","v":0},null,{"$f":"'S12'!K19","v":0},{"$f":"'S12'!R19","v":0},{"$f":"'S12'!Y19","v":0},{"$f":"'S12'!AF19","v":0},{"$f":"'S12'!AM17","v":0},0]
[null,null,"比率％",{"$f":"設計内容説明書3!D37","v":""},{"$f":"設計内容説明書3!E37","v":""},{"$f":"設計内容説明書3!F37","v":""},{"$f":"設計内容説明書3!G37","v":""},{"$f":"設計内容説明書3!H37","v":""},{"$f":"設計内容説明書3!I37","v":""},{"$f":"設計内容説明書3!J37","v":0},"比率％",{"$f":"IF(K36>0,INT(R36/$K36*100),\"\")","v":""},{"$f":"IF(R36>0,INT(M36/$R36*100),\"\")","v":""},{"$f":"IF(R36>0,INT(N36/$R36*100),\"\")","v":""},{"$f":"IF(R36>0,INT(O36/$R36*100),\"\")","v":""},{"$f":"IF(R36>0,INT(P36/$R36*100),\"\")","v":""},{"$f":"IF(R36>0,INT(Q36/$R36*100),\"\")","v":""},0,"□","□","□"]
[null,null,"評価％",{"$f":"設計内容説明書3!D38","v":0},{"$f":"設計内容説明書3!E38","v":0},{"$f":"設計内容説明書3!F38","v":0},{"$f":"設計内容説明書3!G38","v":0},{"$f":"設計内容説明書3!H38","v":0},{"$f":"設計内容説明書3!I38","v":0},{"$f":"設計内容説明書3!J38","v":0},"評価％",null,null,null,null,null,null,0]
[{"$f":"設計内容説明書3!$A$39","v":""},{"$f":"設計内容説明書3!$B$39","v":0},{"$f":"設計内容説明書3!C39","v":0},null,{"$f":"設計内容説明書3!E39","v":0},{"$f":"設計内容説明書3!F39","v":0},{"$f":"設計内容説明書3!G39","v":0},{"$f":"設計内容説明書3!H39","v":0},{"$f":"設計内容説明書3!I39","v":0},{"$f":"設計内容説明書3!J39","v":0},{"$f":"'S12'!D37","v":0},null,{"$f":"'S12'!K37","v":0},{"$f":"'S12'!R37","v":0},{"$f":"'S12'!Y37","v":0},{"$f":"'S12'!AF37","v":0},{"$f":"'S12'!AM35","v":0},0]
[null,null,"比率％",{"$f":"設計内容説明書3!D40","v":""},{"$f":"設計内容説明書3!E40","v":""},{"$f":"設計内容説明書3!F40","v":""},{"$f":"設計内容説明書3!G40","v":""},{"$f":"設計内容説明書3!H40","v":""},{"$f":"設計内容説明書3!I40","v":""},{"$f":"設計内容説明書3!J40","v":0},"比率％",{"$f":"IF(K39>0,INT(R39/$K39*100),\"\")","v":""},{"$f":"IF(R39>0,INT(M39/$R39*100),\"\")","v":""},{"$f":"IF(R39>0,INT(N39/$R39*100),\"\")","v":""},{"$f":"IF(R39>0,INT(O39/$R39*100),\"\")","v":""},{"$f":"IF(R39>0,INT(P39/$R39*100),\"\")","v":""},{"$f":"IF(R39>0,INT(Q39/$R39*100),\"\")","v":""},0,"□","□","□"]
[null,null,"評価％",{"$f":"設計内容説明書3!D41","v":0},{"$f":"設計内容説明書3!E41","v":0},{"$f":"設計内容説明書3!F41","v":0},{"$f":"設計内容説明書3!G41","v":0},{"$f":"設計内容説明書3!H41","v":0},{"$f":"設計内容説明書3!I41","v":0},{"$f":"設計内容説明書3!J41","v":0},"評価％",null,null,null,null,null,null,0]
[{"$f":"設計内容説明書3!$A$42","v":""},{"$f":"設計内容説明書3!$B$42","v":0},{"$f":"設計内容説明書3!C42","v":0},null,{"$f":"設計内容説明書3!E42","v":0},{"$f":"設計内容説明書3!F42","v":0},{"$f":"設計内容説明書3!G42","v":0},{"$f":"設計内容説明書3!H42","v":0},{"$f":"設計内容説明書3!I42","v":0},{"$f":"設計内容説明書3!J42","v":0},{"$f":"'S12'!D55","v":0},null,{"$f":"'S12'!K55","v":0},{"$f":"'S12'!R55","v":0},{"$f":"'S12'!Y55","v":0},{"$f":"'S12'!AF55","v":0},{"$f":"'S12'!AM53","v":0},0]
[null,null,"比率％",{"$f":"設計内容説明書3!D43","v":""},{"$f":"設計内容説明書3!E43","v":""},{"$f":"設計内容説明書3!F43","v":""},{"$f":"設計内容説明書3!G43","v":""},{"$f":"設計内容説明書3!H43","v":""},{"$f":"設計内容説明書3!I43","v":""},{"$f":"設計内容説明書3!J43","v":0},"比率％",{"$f":"IF(K42>0,INT(R42/$K42*100),\"\")","v":""},{"$f":"IF(R42>0,INT(M42/$R42*100),\"\")","v":""},{"$f":"IF(R42>0,INT(N42/$R42*100),\"\")","v":""},{"$f":"IF(R42>0,INT(O42/$R42*100),\"\")","v":""},{"$f":"IF(R42>0,INT(P42/$R42*100),\"\")","v":""},{"$f":"IF(R42>0,INT(Q42/$R42*100),\"\")","v":""},0,"□","□","□"]
[null,null,"評価％",{"$f":"設計内容説明書3!D44","v":0},{"$f":"設計内容説明書3!E44","v":0},{"$f":"設計内容説明書3!F44","v":0},{"$f":"設計内容説明書3!G44","v":0},{"$f":"設計内容説明書3!H44","v":0},{"$f":"設計内容説明書3!I44","v":0},{"$f":"設計内容説明書3!J44","v":0},"評価％",null,null,null,null,null,null,0]